BEGIN:VCALENDAR
VERSION:2.0
PRODID:-//ちひろ Official Website ～金子みすゞの心を歌う～  CHIHIRO Official Website - MISUZU KANEKO- - ECPv6.15.11//NONSGML v1.0//EN
CALSCALE:GREGORIAN
METHOD:PUBLISH
X-WR-CALNAME:ちひろ Official Website ～金子みすゞの心を歌う～  CHIHIRO Official Website - MISUZU KANEKO-
X-ORIGINAL-URL:https://chihirosound.com
X-WR-CALDESC:ちひろ Official Website ～金子みすゞの心を歌う～  CHIHIRO Official Website - MISUZU KANEKO- のイベント
REFRESH-INTERVAL;VALUE=DURATION:PT1H
X-Robots-Tag:noindex
X-PUBLISHED-TTL:PT1H
BEGIN:VTIMEZONE
TZID:Asia/Tokyo
BEGIN:STANDARD
TZOFFSETFROM:+0900
TZOFFSETTO:+0900
TZNAME:JST
DTSTART:20200101T000000
END:STANDARD
END:VTIMEZONE
BEGIN:VEVENT
DTSTART;TZID=Asia/Tokyo:20220119T110000
DTEND;TZID=Asia/Tokyo:20220119T113000
DTSTAMP:20260424T182853
CREATED:20220101T085906Z
LAST-MODIFIED:20220101T085906Z
UID:12072-1642590000-1642591800@chihirosound.com
SUMMARY:６局Radio「みすゞさんと明るいほうへ」
DESCRIPTION:💐６局Radio放送・ちひろレギュラー番組💐\n金子みすゞの詩の朗読・ご紹介など、みすゞさんについてたっぷりお届け ❤ 30分番組です♪ \n  \n●番組詳細：　『みすゞさんと明るいほうへ』（FM-NANAKO） \n●パーソナリティ：　ちひろ \n  \n●レギュラー放送時間：　 \n毎週水曜日 午前11：00～／FM-NANAKO、FM AQUA、COME ON！FM、しゅうなんFM \n毎週水曜日 午後1：00～／FMスマイルウエ～ブ \n毎週土曜日 午前9：00～／FMわっしょい \n  \n●再放送：　FM-NANAKO／毎週土曜日 午後3：00～　　FM AQUA／毎週日曜日午前11：00～ \n  \n●周波数：　 \nFM-NANAKO／77.5MHz　　FM AQUA／87.8MHz　　COME ON！FM／76.4MHz \nしゅうなんFM／78.4MH　　FMスマイルウエ～ブ／89.7MHz　　FMわっしょい／77.3MHz \n  \n●インターネットで聴く：　※全国どこでもインターネットでラジオが聴けるページです。 \n  \n■サイマルラジオで聴く \n中国地区の「COME ON! FM」  or  「しゅうなんFM」　の　「LISTEN♪」　をクリックしてください♪ \n■COME ON! FMををインターネットで聴く \n■FMスマイルウエ～ブをインターネットで聴く \n■FMわっしょいをインターネットで聴く（土曜日 午前9:00～） \n  \n●リクエスト＆メッセージ🎵：　misuzufm.0407@gmail.com \nもしくは　FM-NANAKO／775@haginet.ne.jp　　FM AQUA／878@fmaqua.jp　　COME ON！FM／こちらから　　 \nしゅうなんFM／studio@fms784.co.jp　　　FMスマイルウエ～ブ／こちらから　　　FMわっしょい／こちらから \n  \n●各局website： \n□FM-NANAKO（萩市） \n□FM AQUA（長門市） \n□COME ON ! FM（下関市内及び山陽小野田市、北九州市門司区・小倉北区の各一部） \n□しゅうなんFM（周南市・下松市、光市の一部） \n□FMスマイルウエ～ブ（山陽小野田市、宇部市・美祢市・下関市の一部地域） ※水曜日 午後1：00～ \n□FMわっしょい（防府市） ※土曜日 午前9：00～ \n 
URL:https://chihirosound.com/event/12072
CATEGORIES:オススメ,ラジオ
END:VEVENT
BEGIN:VEVENT
DTSTART;TZID=Asia/Tokyo:20220116T150000
DTEND;TZID=Asia/Tokyo:20220116T170000
DTSTAMP:20260424T182853
CREATED:20211221T095414Z
LAST-MODIFIED:20211221T095414Z
UID:11937-1642345200-1642352400@chihirosound.com
SUMMARY:Cable-TV〔山口県〕
DESCRIPTION:【Title】はあぶビジョン特別編成番組で「ちひろ講演会コンサート」を放送！\n●日　時：　 \n■1月1日（土・祝）午後4：00～／初回放送　　 \n■2日（日）午前10：00～／再放送　　 \n■5日（水）午後1：00～／再放送　　 \n■1月中の毎週日曜日（9、16、23、30日） 午後3：00～／再放送 \n●放送局：　はあぶビジョン \n●概　要：　12月4日（土）に萩市民館 大ホールにて開催された「人権の心をはぐくむ市民の集い2021」ちひろコンサートの模様を放送いたします！ \n●ご視聴方法：　対象エリア（萩市・阿武町・その他）の加入者
URL:https://chihirosound.com/event/11937
CATEGORIES:オススメ,コンサート,テレビ,講演
END:VEVENT
BEGIN:VEVENT
DTSTART;TZID=Asia/Tokyo:20220116T140000
DTEND;TZID=Asia/Tokyo:20220116T143000
DTSTAMP:20260424T182853
CREATED:20220101T090538Z
LAST-MODIFIED:20220101T090538Z
UID:12083-1642341600-1642343400@chihirosound.com
SUMMARY:KRYラジオ「ちひろDEブレイク」
DESCRIPTION:♠♣♥♦毎週日曜日放送のちひろレギュラー番組♠♣♥♦\nコンサート会場での裏話、ＣＤアルバム制作秘話、名言コーナー、金子みすゞの詩をご紹介など、内容盛り沢山の30分です♪ \n  \n●毎週日曜日：　午後2：00～ \n●パーソナリティ：　ちひろ、瀬川 嘉 \n  \n●ちひろDEブレイク：　Official Website・ブログ・みすゞ心のメッセージ \n●周波数一覧 -KRY山口放送-：　こちら（AM・FMで聴く） \n●パソコン・スマホでKRYラジオが聴ける：　radiko.jp \n  \n●ご意見・ご感想はこちら \nメール：break@kry.co.jp\nＦＡＸ：0834-32-9000\nハガキ：〒745-8686　山口放送「ちひろDEブレイク」係 \nメッセージフォームはこちらから
URL:https://chihirosound.com/event/12083
CATEGORIES:オススメ,ラジオ
END:VEVENT
BEGIN:VEVENT
DTSTART;TZID=Asia/Tokyo:20220112T110000
DTEND;TZID=Asia/Tokyo:20220112T113000
DTSTAMP:20260424T182853
CREATED:20220101T085814Z
LAST-MODIFIED:20220101T085814Z
UID:12070-1641985200-1641987000@chihirosound.com
SUMMARY:６局Radio「みすゞさんと明るいほうへ」
DESCRIPTION:💐６局Radio放送・ちひろレギュラー番組💐\n金子みすゞの詩の朗読・ご紹介など、みすゞさんについてたっぷりお届け ❤ 30分番組です♪ \n  \n●番組詳細：　『みすゞさんと明るいほうへ』（FM-NANAKO） \n●パーソナリティ：　ちひろ \n  \n●レギュラー放送時間：　 \n毎週水曜日 午前11：00～／FM-NANAKO、FM AQUA、COME ON！FM、しゅうなんFM \n毎週水曜日 午後1：00～／FMスマイルウエ～ブ \n毎週土曜日 午前9：00～／FMわっしょい \n  \n●再放送：　FM-NANAKO／毎週土曜日 午後3：00～　　FM AQUA／毎週日曜日午前11：00～ \n  \n●周波数：　 \nFM-NANAKO／77.5MHz　　FM AQUA／87.8MHz　　COME ON！FM／76.4MHz \nしゅうなんFM／78.4MH　　FMスマイルウエ～ブ／89.7MHz　　FMわっしょい／77.3MHz \n  \n●インターネットで聴く：　※全国どこでもインターネットでラジオが聴けるページです。 \n  \n■サイマルラジオで聴く \n中国地区の「COME ON! FM」  or  「しゅうなんFM」　の　「LISTEN♪」　をクリックしてください♪ \n■COME ON! FMををインターネットで聴く \n■FMスマイルウエ～ブをインターネットで聴く \n■FMわっしょいをインターネットで聴く（土曜日 午前9:00～） \n  \n●リクエスト＆メッセージ🎵：　misuzufm.0407@gmail.com \nもしくは　FM-NANAKO／775@haginet.ne.jp　　FM AQUA／878@fmaqua.jp　　COME ON！FM／こちらから　　 \nしゅうなんFM／studio@fms784.co.jp　　　FMスマイルウエ～ブ／こちらから　　　FMわっしょい／こちらから \n  \n●各局website： \n□FM-NANAKO（萩市） \n□FM AQUA（長門市） \n□COME ON ! FM（下関市内及び山陽小野田市、北九州市門司区・小倉北区の各一部） \n□しゅうなんFM（周南市・下松市、光市の一部） \n□FMスマイルウエ～ブ（山陽小野田市、宇部市・美祢市・下関市の一部地域） ※水曜日 午後1：00～ \n□FMわっしょい（防府市） ※土曜日 午前9：00～ \n 
URL:https://chihirosound.com/event/12070
CATEGORIES:オススメ,ラジオ
END:VEVENT
BEGIN:VEVENT
DTSTART;TZID=Asia/Tokyo:20220109T150000
DTEND;TZID=Asia/Tokyo:20220109T170000
DTSTAMP:20260424T182853
CREATED:20211221T095214Z
LAST-MODIFIED:20211221T095214Z
UID:11932-1641740400-1641747600@chihirosound.com
SUMMARY:Cable-TV〔山口県〕
DESCRIPTION:【Title】はあぶビジョン特別編成番組で「ちひろ講演会コンサート」を放送！\n●日　時：　 \n■1月1日（土・祝）午後4：00～／初回放送　　 \n■2日（日）午前10：00～／再放送　　 \n■5日（水）午後1：00～／再放送　　 \n■1月中の毎週日曜日（9、16、23、30日） 午後3：00～／再放送 \n●放送局：　はあぶビジョン \n●概　要：　12月4日（土）に萩市民館 大ホールにて開催された「人権の心をはぐくむ市民の集い2021」ちひろコンサートの模様を放送いたします！ \n●ご視聴方法：　対象エリア（萩市・阿武町・その他）の加入者 \n 
URL:https://chihirosound.com/event/11932
CATEGORIES:オススメ,コンサート,テレビ,講演
END:VEVENT
BEGIN:VEVENT
DTSTART;TZID=Asia/Tokyo:20220109T140000
DTEND;TZID=Asia/Tokyo:20220109T143000
DTSTAMP:20260424T182853
CREATED:20220101T090313Z
LAST-MODIFIED:20220101T090313Z
UID:12079-1641736800-1641738600@chihirosound.com
SUMMARY:KRYラジオ「ちひろDEブレイク」
DESCRIPTION:♠♣♥♦毎週日曜日放送のちひろレギュラー番組♠♣♥♦\nコンサート会場での裏話、ＣＤアルバム制作秘話、名言コーナー、金子みすゞの詩をご紹介など、内容盛り沢山の30分です♪ \n  \n●毎週日曜日：　午後2：00～ \n●パーソナリティ：　ちひろ、瀬川 嘉 \n  \n●ちひろDEブレイク：　Official Website・ブログ・みすゞ心のメッセージ \n●周波数一覧 -KRY山口放送-：　こちら（AM・FMで聴く） \n●パソコン・スマホでKRYラジオが聴ける：　radiko.jp \n  \n●ご意見・ご感想はこちら \nメール：break@kry.co.jp\nＦＡＸ：0834-32-9000\nハガキ：〒745-8686　山口放送「ちひろDEブレイク」係 \nメッセージフォームはこちらから
URL:https://chihirosound.com/event/12079
CATEGORIES:オススメ,ラジオ
END:VEVENT
BEGIN:VEVENT
DTSTART;TZID=Asia/Tokyo:20220109T101000
DTEND;TZID=Asia/Tokyo:20220109T110000
DTSTAMP:20260424T182853
CREATED:20211105T051549Z
LAST-MODIFIED:20220107T024658Z
UID:11590-1641723000-1641726000@chihirosound.com
SUMMARY:Concert〔山口県〕
DESCRIPTION:【Title】令和4年 山口市消防出初式　ちひろコンサート\n●と　き：　1月9日（日） \n●ところ：　山口県教育会館 ホール（山口県山口市） \n●時　間：　午前9：00～／式典　　午前10：00～／ステージ \n●対　象：　関係者のみ　　 \n※ただしインスタライブ（ネットライブ配信）でどなたでもご覧いただけます♪ \n●インスタライブ：　こちらからアクセス \n●主　催：　山口市消防本部 \n 
URL:https://chihirosound.com/event/11590
CATEGORIES:オススメ,コンサート
END:VEVENT
BEGIN:VEVENT
DTSTART;TZID=Asia/Tokyo:20220107T122000
DTEND;TZID=Asia/Tokyo:20220107T123800
DTSTAMP:20260424T182853
CREATED:20211230T082504Z
LAST-MODIFIED:20220105T145654Z
UID:12026-1641558000-1641559080@chihirosound.com
SUMMARY:Radio〔福島県〕
DESCRIPTION:【Title】KOCOラジ（郡山コミュニティ放送）に電話ゲスト出演！\n「ヤサイコトバ」の歌、今年の抱負などお話させて頂きます！歌もオンエア♪\n  \n●と　き：　1月7日（金） \n●時　間：　午後0：20～0：38 \n●ラジオ局：　KOCOラジ（郡山コミュニティ放送） \n●番　組：　『ひるココ』 \n●パーソナリティ：　宗方 和子　さん \n  \n●周波数：　79.1MHHz \n●放送エリア：　郡山駅から20kmの範囲 \n●インターネットで聴く：　サイマルラジオ \n※全国どこでもインターネットでラジオが聴けるページです。 \nページ途中の、郡山コミュニティ放送「放送を聴く」をクリックしてください♪ \n●リクエスト＆メッセージ：　Eメール＜koco@kocofm.jp＞　　F A X ＜024-953-6161＞
URL:https://chihirosound.com/event/12026
CATEGORIES:オススメ,ラジオ
ORGANIZER;CN="%E9%83%A1%E5%B1%B1%E3%82%B3%E3%83%9F%E3%83%A5%E3%83%8B%E3%83%86%E3%82%A3%E6%94%BE%E9%80%81":MAILTO:koco@kocofm.jp
END:VEVENT
BEGIN:VEVENT
DTSTART;TZID=Asia/Tokyo:20220105T130000
DTEND;TZID=Asia/Tokyo:20220105T150000
DTSTAMP:20260424T182853
CREATED:20211221T094951Z
LAST-MODIFIED:20211221T095313Z
UID:11930-1641387600-1641394800@chihirosound.com
SUMMARY:Cable-TV〔山口県〕
DESCRIPTION:【Title】はあぶビジョン特別編成番組で「ちひろ講演会コンサート」を放送！\n●日　時：　 \n■1月1日（土・祝）午後4：00～／初回放送　　 \n■2日（日）午前10：00～／再放送　　 \n■5日（水）午後1：00～／再放送　　 \n■1月中の毎週日曜日（9、16、23、30日） 午後3：00～／再放送 \n●放送局：　はあぶビジョン \n●概　要：　12月4日（土）に萩市民館 大ホールにて開催された「人権の心をはぐくむ市民の集い2021」ちひろコンサートの模様を放送いたします！ \n●ご視聴方法：　対象エリア（萩市・阿武町・その他）の加入者 \n 
URL:https://chihirosound.com/event/11930
CATEGORIES:オススメ,コンサート,テレビ,講演
END:VEVENT
BEGIN:VEVENT
DTSTART;TZID=Asia/Tokyo:20220105T110000
DTEND;TZID=Asia/Tokyo:20220105T113000
DTSTAMP:20260424T182853
CREATED:20220101T085719Z
LAST-MODIFIED:20220101T085719Z
UID:12068-1641380400-1641382200@chihirosound.com
SUMMARY:６局Radio「みすゞさんと明るいほうへ」
DESCRIPTION:💐６局Radio放送・ちひろレギュラー番組💐\n金子みすゞの詩の朗読・ご紹介など、みすゞさんについてたっぷりお届け ❤ 30分番組です♪ \n  \n●番組詳細：　『みすゞさんと明るいほうへ』（FM-NANAKO） \n●パーソナリティ：　ちひろ \n  \n●レギュラー放送時間：　 \n毎週水曜日 午前11：00～／FM-NANAKO、FM AQUA、COME ON！FM、しゅうなんFM \n毎週水曜日 午後1：00～／FMスマイルウエ～ブ \n毎週土曜日 午前9：00～／FMわっしょい \n  \n●再放送：　FM-NANAKO／毎週土曜日 午後3：00～　　FM AQUA／毎週日曜日午前11：00～ \n  \n●周波数：　 \nFM-NANAKO／77.5MHz　　FM AQUA／87.8MHz　　COME ON！FM／76.4MHz \nしゅうなんFM／78.4MH　　FMスマイルウエ～ブ／89.7MHz　　FMわっしょい／77.3MHz \n  \n●インターネットで聴く：　※全国どこでもインターネットでラジオが聴けるページです。 \n  \n■サイマルラジオで聴く \n中国地区の「COME ON! FM」  or  「しゅうなんFM」　の　「LISTEN♪」　をクリックしてください♪ \n■COME ON! FMををインターネットで聴く \n■FMスマイルウエ～ブをインターネットで聴く \n■FMわっしょいをインターネットで聴く（土曜日 午前9:00～） \n  \n●リクエスト＆メッセージ🎵：　misuzufm.0407@gmail.com \nもしくは　FM-NANAKO／775@haginet.ne.jp　　FM AQUA／878@fmaqua.jp　　COME ON！FM／こちらから　　 \nしゅうなんFM／studio@fms784.co.jp　　　FMスマイルウエ～ブ／こちらから　　　FMわっしょい／こちらから \n  \n●各局website： \n□FM-NANAKO（萩市） \n□FM AQUA（長門市） \n□COME ON ! FM（下関市内及び山陽小野田市、北九州市門司区・小倉北区の各一部） \n□しゅうなんFM（周南市・下松市、光市の一部） \n□FMスマイルウエ～ブ（山陽小野田市、宇部市・美祢市・下関市の一部地域） ※水曜日 午後1：00～ \n□FMわっしょい（防府市） ※土曜日 午前9：00～ \n 
URL:https://chihirosound.com/event/12068
CATEGORIES:オススメ,ラジオ
END:VEVENT
BEGIN:VEVENT
DTSTART;TZID=Asia/Tokyo:20220102T140000
DTEND;TZID=Asia/Tokyo:20220102T143000
DTSTAMP:20260424T182853
CREATED:20220101T090210Z
LAST-MODIFIED:20220101T090210Z
UID:12076-1641132000-1641133800@chihirosound.com
SUMMARY:KRYラジオ「ちひろDEブレイク」
DESCRIPTION:♠♣♥♦毎週日曜日放送のちひろレギュラー番組♠♣♥♦\nコンサート会場での裏話、ＣＤアルバム制作秘話、名言コーナー、金子みすゞの詩をご紹介など、内容盛り沢山の30分です♪ \n  \n●毎週日曜日：　午後2：00～ \n●パーソナリティ：　ちひろ、瀬川 嘉 \n  \n●ちひろDEブレイク：　Official Website・ブログ・みすゞ心のメッセージ \n●周波数一覧 -KRY山口放送-：　こちら（AM・FMで聴く） \n●パソコン・スマホでKRYラジオが聴ける：　radiko.jp \n  \n●ご意見・ご感想はこちら \nメール：break@kry.co.jp\nＦＡＸ：0834-32-9000\nハガキ：〒745-8686　山口放送「ちひろDEブレイク」係 \nメッセージフォームはこちらから
URL:https://chihirosound.com/event/12076
CATEGORIES:オススメ,ラジオ
END:VEVENT
BEGIN:VEVENT
DTSTART;TZID=Asia/Tokyo:20220102T100000
DTEND;TZID=Asia/Tokyo:20220102T120000
DTSTAMP:20260424T182853
CREATED:20211221T094807Z
LAST-MODIFIED:20211221T095253Z
UID:11928-1641117600-1641124800@chihirosound.com
SUMMARY:Cable-TV〔山口県〕
DESCRIPTION:【Title】はあぶビジョン特別編成番組で「ちひろ講演会コンサート」を放送！\n●日　時：　 \n■1月1日（土・祝）午後4：00～／初回放送　　 \n■2日（日）午前10：00～／再放送　　 \n■5日（水）午後1：00～／再放送　　 \n■1月中の毎週日曜日（9、16、23、30日） 午後3：00～／再放送 \n●放送局：　はあぶビジョン \n●概　要：　12月4日（土）に萩市民館 大ホールにて開催された「人権の心をはぐくむ市民の集い2021」ちひろコンサートの模様を放送いたします！ \n●ご視聴方法：　対象エリア（萩市・阿武町・その他）の加入者 \n 
URL:https://chihirosound.com/event/11928
CATEGORIES:オススメ,コンサート,テレビ,講演
END:VEVENT
BEGIN:VEVENT
DTSTART;TZID=Asia/Tokyo:20220101T160000
DTEND;TZID=Asia/Tokyo:20220101T180000
DTSTAMP:20260424T182853
CREATED:20211221T094642Z
LAST-MODIFIED:20211221T095235Z
UID:11923-1641052800-1641060000@chihirosound.com
SUMMARY:Cable-TV〔山口県〕
DESCRIPTION:【Title】はあぶビジョン特別編成番組で「ちひろ講演会コンサート」を放送！\n●日　時：　 \n■1月1日（土・祝）午後4：00～／初回放送　　 \n■2日（日）午前10：00～／再放送　　 \n■5日（水）午後1：00～／再放送　　 \n■1月中の毎週日曜日（9、16、23、30日） 午後3：00～／再放送 \n●放送局：　はあぶビジョン \n●概　要：　12月4日（土）に萩市民館 大ホールにて開催された「人権の心をはぐくむ市民の集い2021」ちひろコンサートの模様を放送いたします！ \n●ご視聴方法：　対象エリア（萩市・阿武町・その他）の加入者
URL:https://chihirosound.com/event/11923
CATEGORIES:オススメ,コンサート,テレビ,講演
END:VEVENT
BEGIN:VEVENT
DTSTART;TZID=Asia/Tokyo:20211229T133000
DTEND;TZID=Asia/Tokyo:20211229T140000
DTSTAMP:20260424T182853
CREATED:20211224T174610Z
LAST-MODIFIED:20211224T174610Z
UID:11985-1640784600-1640786400@chihirosound.com
SUMMARY:Radio〔山口県〕
DESCRIPTION:【Title】COME ON ! FMにスタジオゲスト出演！\n●と　き：　12月29日（水） \n●時　間：　午後1：30～ \n●ラジオ局：　COME ON ! FM \n●番　組：　『カモンヒルズ764』 \n●パーソナリティ：　渡辺かえ さん、岡部晃宏 さん \n  \n●周波数：　76.4MHHz \n●放送エリア：　下関を中心とした関門エリア、周辺受信エリア \n●インターネットで聴く：　※全国どこでもインターネットでラジオが聴けるページです。 \n■オンタイム \n■サイマルラジオで聴く \n中国地区のCOME ON! FMの「LISTEN♪」をクリックしてください♪ \n●リクエスト＆メッセージ：　こちらから
URL:https://chihirosound.com/event/11985
CATEGORIES:オススメ,ラジオ
END:VEVENT
BEGIN:VEVENT
DTSTART;TZID=Asia/Tokyo:20211229T110000
DTEND;TZID=Asia/Tokyo:20211229T113000
DTSTAMP:20260424T182853
CREATED:20210901T152354Z
LAST-MODIFIED:20211201T043857Z
UID:11066-1640775600-1640777400@chihirosound.com
SUMMARY:６局Radio「みすゞさんと明るいほうへ」
DESCRIPTION:💐６局Radio放送・ちひろレギュラー番組💐\n金子みすゞの詩の朗読・ご紹介など、みすゞさんについてたっぷりお届け ❤ 30分番組です♪ \n  \n●番組詳細：　『みすゞさんと明るいほうへ』（FM-NANAKO） \n●パーソナリティ：　ちひろ \n  \n●レギュラー放送時間：　 \n毎週水曜日 午前11：00～／FM-NANAKO、FM AQUA、COME ON！FM、しゅうなんFM \n毎週水曜日 午後1：00～／FMスマイルウエ～ブ \n毎週土曜日 午前9：00～／FMわっしょい \n  \n●再放送：　FM-NANAKO／毎週土曜日 午後3：00～　　FM AQUA／毎週日曜日午前11：00～ \n  \n●周波数：　 \nFM-NANAKO／77.5MHz　　FM AQUA／87.8MHz　　COME ON！FM／76.4MHz \nしゅうなんFM／78.4MH　　FMスマイルウエ～ブ／89.7MHz　　FMわっしょい／77.3MHz \n  \n●インターネットで聴く：　※全国どこでもインターネットでラジオが聴けるページです。 \n  \n■サイマルラジオで聴く \n中国地区の「COME ON! FM」  or  「しゅうなんFM」　の　「LISTEN♪」　をクリックしてください♪ \n■COME ON! FMををインターネットで聴く \n■FMスマイルウエ～ブをインターネットで聴く \n■FMわっしょいをインターネットで聴く（土曜日 午前9:00～） \n  \n●リクエスト＆メッセージ🎵：　misuzufm.0407@gmail.com \nもしくは　FM-NANAKO／775@haginet.ne.jp　　FM AQUA／878@fmaqua.jp　　COME ON！FM／こちらから　　 \nしゅうなんFM／studio@fms784.co.jp　　　FMスマイルウエ～ブ／こちらから　　　FMわっしょい／こちらから \n  \n●各局website： \n□FM-NANAKO（萩市） \n□FM AQUA（長門市） \n□COME ON ! FM（下関市内及び山陽小野田市、北九州市門司区・小倉北区の各一部） \n□しゅうなんFM（周南市・下松市、光市の一部） \n□FMスマイルウエ～ブ（山陽小野田市、宇部市・美祢市・下関市の一部地域） ※水曜日 午後1：00～ \n□FMわっしょい（防府市） ※土曜日 午前9：00～ \n 
URL:https://chihirosound.com/event/11066
CATEGORIES:オススメ,ラジオ
END:VEVENT
BEGIN:VEVENT
DTSTART;TZID=Asia/Tokyo:20211226T163000
DTEND;TZID=Asia/Tokyo:20211226T170000
DTSTAMP:20260424T182853
CREATED:20211220T052246Z
LAST-MODIFIED:20211220T052800Z
UID:11898-1640536200-1640538000@chihirosound.com
SUMMARY:Cable-TV〔山口県〕
DESCRIPTION:【Title】山口ケーブルビジョンで「湯田温泉にKON来ん？ Xmas ver.」がCM放送！\nちひろのナレーションもCMに入っています☆彡\n  \n●と　き：　12月25日（土）と 26日（日）の2日間　　　 \n●時　間：　午後4：30～5：00の間 \n●放送局：　山口ケーブルビジョン \n●概　要：　ちひろのナレーションが入った「湯田温泉にKON来ん？ Xmas ver.」の動画が30秒のCMとしてオンエアされます。 \n●ご視聴方法：　対象エリアの加入者（山口市・防府市・宇部市・美祢市・その他エリア） \n  \n \n  \n \n 
URL:https://chihirosound.com/event/11898
CATEGORIES:オススメ,テレビ
ATTACH;FMTTYPE=image/png:https://chihirosound.com/wp-content/uploads/2021/12/3.png
ORGANIZER;CN="%E5%B1%B1%E5%8F%A3%E3%82%B1%E3%83%BC%E3%83%96%E3%83%AB%E3%83%93%E3%82%B8%E3%83%A7%E3%83%B3":MAILTO:news@c-able.co.jp
END:VEVENT
BEGIN:VEVENT
DTSTART;TZID=Asia/Tokyo:20211226T140000
DTEND;TZID=Asia/Tokyo:20211226T143000
DTSTAMP:20260424T182853
CREATED:20210901T144219Z
LAST-MODIFIED:20210901T144219Z
UID:11040-1640527200-1640529000@chihirosound.com
SUMMARY:KRYラジオ「ちひろDEブレイク」
DESCRIPTION:♠♣♥♦毎週日曜日放送のちひろレギュラー番組♠♣♥♦\nコンサート会場での裏話、ＣＤアルバム制作秘話、名言コーナー、金子みすゞの詩をご紹介など、内容盛り沢山の30分です♪ \n  \n●毎週日曜日：　午後2：00～ \n●パーソナリティ：　ちひろ、瀬川嘉 \n  \n●ちひろDEブレイク：　Official Website・ブログ・みすゞ心のメッセージ \n●周波数一覧 -KRY山口放送-：　こちら（AM・FMで聴く） \n●パソコン・スマホでKRYラジオが聴ける：　radiko.jp \n  \n●ご意見・ご感想はこちら \nメール：break@kry.co.jp\nＦＡＸ：0834-32-9000\nハガキ：〒745-8686　山口放送「ちひろDEブレイク」係 \nメッセージフォームはこちらから
URL:https://chihirosound.com/event/11040
CATEGORIES:オススメ,ラジオ
END:VEVENT
BEGIN:VEVENT
DTSTART;TZID=Asia/Tokyo:20211225T163000
DTEND;TZID=Asia/Tokyo:20211225T170000
DTSTAMP:20260424T182853
CREATED:20211220T052135Z
LAST-MODIFIED:20211220T052731Z
UID:11894-1640449800-1640451600@chihirosound.com
SUMMARY:Cable-TV〔山口県〕
DESCRIPTION:【Title】山口ケーブルビジョンで「湯田温泉にKON来ん？ Xmas ver.」がCM放送！\nちひろのナレーションもCMに入っています☆彡\n  \n●と　き：　12月25日（土）と 26日（日）の2日間　　　 \n●時　間：　午後4：30～5：00の間 \n●放送局：　山口ケーブルビジョン \n●概　要：　ちひろのナレーションが入った「湯田温泉にKON来ん？ Xmas ver.」の動画が30秒のCMとしてオンエアされます。 \n●ご視聴方法：　対象エリアの加入者（山口市・防府市・宇部市・美祢市・その他エリア） \n  \n \n 
URL:https://chihirosound.com/event/11894
CATEGORIES:オススメ,テレビ
ATTACH;FMTTYPE=image/png:https://chihirosound.com/wp-content/uploads/2021/12/3.png
ORGANIZER;CN="%E5%B1%B1%E5%8F%A3%E3%82%B1%E3%83%BC%E3%83%96%E3%83%AB%E3%83%93%E3%82%B8%E3%83%A7%E3%83%B3":MAILTO:news@c-able.co.jp
END:VEVENT
BEGIN:VEVENT
DTSTART;TZID=Asia/Tokyo:20211225T090000
DTEND;TZID=Asia/Tokyo:20211225T093000
DTSTAMP:20260424T182853
CREATED:20210923T151914Z
LAST-MODIFIED:20211128T151139Z
UID:11308-1640422800-1640424600@chihirosound.com
SUMMARY:FMわっしょい〔山口県〕
DESCRIPTION:💐６局Radio放送 ちひろレギュラー番組「みすゞさんと明るいほうへ」💐\n金子みすゞの詩の朗読・ご紹介など、みすゞさんについてたっぷりお届け ❤ 30分番組です♪ \n※毎週水曜日に５局で放送している番組を ”毎週土曜日にFMわっしょい” でも放送！ \n  \n●と　き：　毎週土曜日 \n●時　間：　午前9：00～ \n●ラジオ局：　FMわっしょい（防府市） \n  \n●番　組：　『みすゞさんと明るいほうへ』　　 \n●パーソナリティ：　ちひろ \n  \n●周波数：　FMわっしょい／77.3MHz \n●放送エリア：　防府市を中心としたエリア、周辺受信エリア \n  \n●リクエスト＆メッセージ🎵：　misuzufm.0407@gmail.com \n●レギュラー放送：　 \n・毎週水曜日 午前11：00～ ／ FM-NANAKO（萩市）、FM AQUA（長門市）、COME！ON FM（下関市）、しゅうんなんFM（周南・下松エリア）　 \n・毎週水曜日 午後1：00～ ／ FMスマイルウエ～ブ（山陽小野田市） \n・毎週土曜日 午前9：00～ ／ FMわっしょい（防府市）
URL:https://chihirosound.com/event/11308
CATEGORIES:オススメ,ラジオ
END:VEVENT
BEGIN:VEVENT
DTSTART;TZID=Asia/Tokyo:20211222T110000
DTEND;TZID=Asia/Tokyo:20211222T113000
DTSTAMP:20260424T182853
CREATED:20210901T152240Z
LAST-MODIFIED:20211201T043914Z
UID:11064-1640170800-1640172600@chihirosound.com
SUMMARY:６局Radio「みすゞさんと明るいほうへ」
DESCRIPTION:💐６局Radio放送・ちひろレギュラー番組💐\n金子みすゞの詩の朗読・ご紹介など、みすゞさんについてたっぷりお届け ❤ 30分番組です♪ \n  \n●番組詳細：　『みすゞさんと明るいほうへ』（FM-NANAKO） \n●パーソナリティ：　ちひろ \n  \n●レギュラー放送時間：　 \n毎週水曜日 午前11：00～／FM-NANAKO、FM AQUA、COME ON！FM、しゅうなんFM \n毎週水曜日 午後1：00～／FMスマイルウエ～ブ \n毎週土曜日 午前9：00～／FMわっしょい \n  \n●再放送：　FM-NANAKO／毎週土曜日 午後3：00～　　FM AQUA／毎週日曜日午前11：00～ \n  \n●周波数：　 \nFM-NANAKO／77.5MHz　　FM AQUA／87.8MHz　　COME ON！FM／76.4MHz \nしゅうなんFM／78.4MH　　FMスマイルウエ～ブ／89.7MHz　　FMわっしょい／77.3MHz \n  \n●インターネットで聴く：　※全国どこでもインターネットでラジオが聴けるページです。 \n  \n■サイマルラジオで聴く \n中国地区の「COME ON! FM」  or  「しゅうなんFM」　の　「LISTEN♪」　をクリックしてください♪ \n■COME ON! FMををインターネットで聴く \n■FMスマイルウエ～ブをインターネットで聴く \n■FMわっしょいをインターネットで聴く（土曜日 午前9:00～） \n  \n●リクエスト＆メッセージ🎵：　misuzufm.0407@gmail.com \nもしくは　FM-NANAKO／775@haginet.ne.jp　　FM AQUA／878@fmaqua.jp　　COME ON！FM／こちらから　　 \nしゅうなんFM／studio@fms784.co.jp　　　FMスマイルウエ～ブ／こちらから　　　FMわっしょい／こちらから \n  \n●各局website： \n□FM-NANAKO（萩市） \n□FM AQUA（長門市） \n□COME ON ! FM（下関市内及び山陽小野田市、北九州市門司区・小倉北区の各一部） \n□しゅうなんFM（周南市・下松市、光市の一部） \n□FMスマイルウエ～ブ（山陽小野田市、宇部市・美祢市・下関市の一部地域） ※水曜日 午後1：00～ \n□FMわっしょい（防府市） ※土曜日 午前9：00～ \n 
URL:https://chihirosound.com/event/11064
CATEGORIES:オススメ,ラジオ
END:VEVENT
BEGIN:VEVENT
DTSTART;TZID=Asia/Tokyo:20211219T163000
DTEND;TZID=Asia/Tokyo:20211219T170000
DTSTAMP:20260424T182853
CREATED:20210901T144112Z
LAST-MODIFIED:20211120T103041Z
UID:11038-1639931400-1639933200@chihirosound.com
SUMMARY:KRYラジオ「ちひろDEブレイク」
DESCRIPTION:本日は「第52回記念 防府読売マラソン大会」放送の為、\n「ちひろDEブレイク」の放送時間が午後4：30～に変更となります。何卒ご了承くださいませ。\n  \n♠♣♥♦毎週日曜日放送のちひろレギュラー番組♠♣♥♦\nコンサート会場での裏話、ＣＤアルバム制作秘話、名言コーナー、金子みすゞの詩をご紹介など、内容盛り沢山の30分です♪ \n  \n●毎週日曜日：　本日のみ午後4：30～ \n●パーソナリティ：　ちひろ、瀬川嘉 \n  \n●ちひろDEブレイク：　Official Website・ブログ・みすゞ心のメッセージ \n●周波数一覧 -KRY山口放送-：　こちら（AM・FMで聴く） \n●パソコン・スマホでKRYラジオが聴ける：　radiko.jp \n  \n●ご意見・ご感想はこちら \nメール：break@kry.co.jp\nＦＡＸ：0834-32-9000\nハガキ：〒745-8686　山口放送「ちひろDEブレイク」係 \nメッセージフォームはこちらから
URL:https://chihirosound.com/event/11038
CATEGORIES:オススメ,ラジオ
END:VEVENT
BEGIN:VEVENT
DTSTART;TZID=Asia/Tokyo:20211219T110000
DTEND;TZID=Asia/Tokyo:20211219T113000
DTSTAMP:20260424T182853
CREATED:20211210T152410Z
LAST-MODIFIED:20211210T152410Z
UID:11853-1639911600-1639913400@chihirosound.com
SUMMARY:Radio【兵庫県】
DESCRIPTION:【Title】さくらFM（兵庫県西宮市・芦屋市）に電話ゲスト出演！\n●と　き：　12月19日（日） \n●時　間：　午前11：00頃～ \n●ラジオ局：　さくらFM \n  \n●番　組：　『まちたびラヂヲ』 \n●パーソナリティ：　ささき みほ　さん \n●周波数：　78.7 MHz \n  \n●放送エリア：　西宮市・芦屋市 その周辺受信エリア \n●インターネットで聴く：　こちらから \n●リクエスト＆メッセージ：　こちらから　　or　　787@sakura-fm.co.jp \n 
URL:https://chihirosound.com/event/11853
CATEGORIES:オススメ,ラジオ
ORGANIZER;CN="%E3%81%95%E3%81%8F%E3%82%89FM":MAILTO:info＠sakura-fm.co.jp
END:VEVENT
BEGIN:VEVENT
DTSTART;TZID=Asia/Tokyo:20211218T090000
DTEND;TZID=Asia/Tokyo:20211218T093000
DTSTAMP:20260424T182853
CREATED:20210923T151824Z
LAST-MODIFIED:20211128T151117Z
UID:11306-1639818000-1639819800@chihirosound.com
SUMMARY:FMわっしょい〔山口県〕
DESCRIPTION:💐６局Radio放送 ちひろレギュラー番組「みすゞさんと明るいほうへ」💐\n金子みすゞの詩の朗読・ご紹介など、みすゞさんについてたっぷりお届け ❤ 30分番組です♪ \n※毎週水曜日に５局で放送している番組を ”毎週土曜日にFMわっしょい” でも放送！ \n  \n●と　き：　毎週土曜日 \n●時　間：　午前9：00～ \n●ラジオ局：　FMわっしょい（防府市） \n  \n●番　組：　『みすゞさんと明るいほうへ』　　 \n●パーソナリティ：　ちひろ \n  \n●周波数：　FMわっしょい／77.3MHz \n●放送エリア：　防府市を中心としたエリア、周辺受信エリア \n  \n●リクエスト＆メッセージ🎵：　misuzufm.0407@gmail.com \n●レギュラー放送：　 \n・毎週水曜日 午前11：00～ ／ FM-NANAKO（萩市）、FM AQUA（長門市）、COME！ON FM（下関市）、しゅうんなんFM（周南・下松エリア）　 \n・毎週水曜日 午後1：00～ ／ FMスマイルウエ～ブ（山陽小野田市） \n・毎週土曜日 午前9：00～ ／ FMわっしょい（防府市）
URL:https://chihirosound.com/event/11306
CATEGORIES:オススメ,ラジオ
END:VEVENT
BEGIN:VEVENT
DTSTART;TZID=Asia/Tokyo:20211217T170500
DTEND;TZID=Asia/Tokyo:20211217T175500
DTSTAMP:20260424T182853
CREATED:20210420T031411Z
LAST-MODIFIED:20211213T030333Z
UID:10142-1639760700-1639763700@chihirosound.com
SUMMARY:NHKラジオ「YAMAGUTIC」
DESCRIPTION:【Title】NHK「中国！ちゅーもく！ラジオYAMAGUTIC」\n宇野千代の言葉から考える「幸福」\n  \n●と　き：　12月17日（金） \n●時　間：　午後5：05～5：55 \n●ラジオ局：　NHKラジオ第1 \n●番　組：　ラジオYAMAGUTIC \n  \n●メールやご意見募集：　こちら \n●放送受信エリア：　中国地方5県（山口県、広島県、岡山県、島根県、鳥取県） \n  \n●インターネットラジオ：　全国でお聴きいただけます！　　らじる★らじる \nパソコン・スマートフォン・タブレットなどで、全国どこでもお聴きいただけるサービスです。 \n  \n【聴取方法】＜スマートフォン・タブレットの場合は、まずアプリ（無料）をダウンロードしてください＞ \n■らじる★らじる にアクセス　→　ラジオ第1（R1） をクリック　→　放送局を選択　→　広島 \n※詳しくはこちら \n  \n●出　演：　NHKアナウンサー、ちひろ \n  \n 
URL:https://chihirosound.com/event/10142
CATEGORIES:オススメ,ラジオ
ORGANIZER;CN="NHK%E5%B1%B1%E5%8F%A3%E6%94%BE%E9%80%81%E5%B1%80":MAILTO:https://www.nhk.or.jp/yamaguchi/contact/form.html
END:VEVENT
BEGIN:VEVENT
DTSTART;TZID=Asia/Tokyo:20211215T110000
DTEND;TZID=Asia/Tokyo:20211215T113000
DTSTAMP:20260424T182853
CREATED:20210901T151937Z
LAST-MODIFIED:20211201T043931Z
UID:11062-1639566000-1639567800@chihirosound.com
SUMMARY:６局Radio「みすゞさんと明るいほうへ」
DESCRIPTION:💐６局Radio放送・ちひろレギュラー番組💐\n金子みすゞの詩の朗読・ご紹介など、みすゞさんについてたっぷりお届け ❤ 30分番組です♪ \n  \n●番組詳細：　『みすゞさんと明るいほうへ』（FM-NANAKO） \n●パーソナリティ：　ちひろ \n  \n●レギュラー放送時間：　 \n毎週水曜日 午前11：00～／FM-NANAKO、FM AQUA、COME ON！FM、しゅうなんFM \n毎週水曜日 午後1：00～／FMスマイルウエ～ブ \n毎週土曜日 午前9：00～／FMわっしょい \n  \n●再放送：　FM-NANAKO／毎週土曜日 午後3：00～　　FM AQUA／毎週日曜日午前11：00～ \n  \n●周波数：　 \nFM-NANAKO／77.5MHz　　FM AQUA／87.8MHz　　COME ON！FM／76.4MHz \nしゅうなんFM／78.4MH　　FMスマイルウエ～ブ／89.7MHz　　FMわっしょい／77.3MHz \n  \n●インターネットで聴く：　※全国どこでもインターネットでラジオが聴けるページです。 \n  \n■サイマルラジオで聴く \n中国地区の「COME ON! FM」  or  「しゅうなんFM」　の　「LISTEN♪」　をクリックしてください♪ \n■COME ON! FMををインターネットで聴く \n■FMスマイルウエ～ブをインターネットで聴く \n■FMわっしょいをインターネットで聴く（土曜日 午前9:00～） \n  \n●リクエスト＆メッセージ🎵：　misuzufm.0407@gmail.com \nもしくは　FM-NANAKO／775@haginet.ne.jp　　FM AQUA／878@fmaqua.jp　　COME ON！FM／こちらから　　 \nしゅうなんFM／studio@fms784.co.jp　　　FMスマイルウエ～ブ／こちらから　　　FMわっしょい／こちらから \n  \n●各局website： \n□FM-NANAKO（萩市） \n□FM AQUA（長門市） \n□COME ON ! FM（下関市内及び山陽小野田市、北九州市門司区・小倉北区の各一部） \n□しゅうなんFM（周南市・下松市、光市の一部） \n□FMスマイルウエ～ブ（山陽小野田市、宇部市・美祢市・下関市の一部地域） ※水曜日 午後1：00～ \n□FMわっしょい（防府市） ※土曜日 午前9：00～ \n 
URL:https://chihirosound.com/event/11062
CATEGORIES:オススメ,ラジオ
END:VEVENT
BEGIN:VEVENT
DTSTART;TZID=Asia/Tokyo:20211212T140000
DTEND;TZID=Asia/Tokyo:20211212T143000
DTSTAMP:20260424T182853
CREATED:20210901T143922Z
LAST-MODIFIED:20210901T143922Z
UID:11036-1639317600-1639319400@chihirosound.com
SUMMARY:KRYラジオ「ちひろDEブレイク」
DESCRIPTION:♠♣♥♦毎週日曜日放送のちひろレギュラー番組♠♣♥♦\nコンサート会場での裏話、ＣＤアルバム制作秘話、名言コーナー、金子みすゞの詩をご紹介など、内容盛り沢山の30分です♪ \n  \n●毎週日曜日：　午後2：00～ \n●パーソナリティ：　ちひろ、瀬川嘉 \n  \n●ちひろDEブレイク：　Official Website・ブログ・みすゞ心のメッセージ \n●周波数一覧 -KRY山口放送-：　こちら（AM・FMで聴く） \n●パソコン・スマホでKRYラジオが聴ける：　radiko.jp \n  \n●ご意見・ご感想はこちら \nメール：break@kry.co.jp\nＦＡＸ：0834-32-9000\nハガキ：〒745-8686　山口放送「ちひろDEブレイク」係 \nメッセージフォームはこちらから
URL:https://chihirosound.com/event/11036
CATEGORIES:オススメ,ラジオ
END:VEVENT
BEGIN:VEVENT
DTSTART;TZID=Asia/Tokyo:20211211T090000
DTEND;TZID=Asia/Tokyo:20211211T093000
DTSTAMP:20260424T182853
CREATED:20210923T151728Z
LAST-MODIFIED:20211128T151035Z
UID:11304-1639213200-1639215000@chihirosound.com
SUMMARY:FMわっしょい〔山口県〕
DESCRIPTION:💐６局Radio放送 ちひろレギュラー番組「みすゞさんと明るいほうへ」💐\n金子みすゞの詩の朗読・ご紹介など、みすゞさんについてたっぷりお届け ❤ 30分番組です♪ \n※毎週水曜日に５局で放送している番組を ”毎週土曜日にFMわっしょい” でも放送！ \n  \n●と　き：　毎週土曜日 \n●時　間：　午前9：00～ \n●ラジオ局：　FMわっしょい（防府市） \n  \n●番　組：　『みすゞさんと明るいほうへ』　　 \n●パーソナリティ：　ちひろ \n  \n●周波数：　FMわっしょい／77.3MHz \n●放送エリア：　防府市を中心としたエリア、周辺受信エリア \n  \n●リクエスト＆メッセージ🎵：　misuzufm.0407@gmail.com \n●レギュラー放送：　 \n・毎週水曜日 午前11：00～ ／ FM-NANAKO（萩市）、FM AQUA（長門市）、COME！ON FM（下関市）、しゅうんなんFM（周南・下松エリア）　 \n・毎週水曜日 午後1：00～ ／ FMスマイルウエ～ブ（山陽小野田市） \n・毎週土曜日 午前9：00～ ／ FMわっしょい（防府市）
URL:https://chihirosound.com/event/11304
CATEGORIES:オススメ,ラジオ
END:VEVENT
BEGIN:VEVENT
DTSTART;TZID=Asia/Tokyo:20211208T110000
DTEND;TZID=Asia/Tokyo:20211208T113000
DTSTAMP:20260424T182853
CREATED:20210901T151837Z
LAST-MODIFIED:20211201T044021Z
UID:11060-1638961200-1638963000@chihirosound.com
SUMMARY:６局Radio「みすゞさんと明るいほうへ」
DESCRIPTION:💐６局Radio放送・ちひろレギュラー番組💐\n金子みすゞの詩の朗読・ご紹介など、みすゞさんについてたっぷりお届け ❤ 30分番組です♪ \n  \n●番組詳細：　『みすゞさんと明るいほうへ』（FM-NANAKO） \n●パーソナリティ：　ちひろ \n  \n●レギュラー放送時間：　 \n毎週水曜日 午前11：00～／FM-NANAKO、FM AQUA、COME ON！FM、しゅうなんFM \n毎週水曜日 午後1：00～／FMスマイルウエ～ブ \n毎週土曜日 午前9：00～／FMわっしょい \n  \n●再放送：　FM-NANAKO／毎週土曜日 午後3：00～　　FM AQUA／毎週日曜日午前11：00～ \n  \n●周波数：　 \nFM-NANAKO／77.5MHz　　FM AQUA／87.8MHz　　COME ON！FM／76.4MHz \nしゅうなんFM／78.4MH　　FMスマイルウエ～ブ／89.7MHz　　FMわっしょい／77.3MHz \n  \n●インターネットで聴く：　※全国どこでもインターネットでラジオが聴けるページです。 \n  \n■サイマルラジオで聴く \n中国地区の「COME ON! FM」  or  「しゅうなんFM」　の　「LISTEN♪」　をクリックしてください♪ \n■COME ON! FMををインターネットで聴く \n■FMスマイルウエ～ブをインターネットで聴く \n■FMわっしょいをインターネットで聴く（土曜日 午前9:00～） \n  \n●リクエスト＆メッセージ🎵：　misuzufm.0407@gmail.com \nもしくは　FM-NANAKO／775@haginet.ne.jp　　FM AQUA／878@fmaqua.jp　　COME ON！FM／こちらから　　 \nしゅうなんFM／studio@fms784.co.jp　　　FMスマイルウエ～ブ／こちらから　　　FMわっしょい／こちらから \n  \n●各局website： \n□FM-NANAKO（萩市） \n□FM AQUA（長門市） \n□COME ON ! FM（下関市内及び山陽小野田市、北九州市門司区・小倉北区の各一部） \n□しゅうなんFM（周南市・下松市、光市の一部） \n□FMスマイルウエ～ブ（山陽小野田市、宇部市・美祢市・下関市の一部地域） ※水曜日 午後1：00～ \n□FMわっしょい（防府市） ※土曜日 午前9：00～ \n 
URL:https://chihirosound.com/event/11060
CATEGORIES:オススメ,ラジオ
END:VEVENT
BEGIN:VEVENT
DTSTART;TZID=Asia/Tokyo:20211205T140000
DTEND;TZID=Asia/Tokyo:20211205T143000
DTSTAMP:20260424T182853
CREATED:20210901T143833Z
LAST-MODIFIED:20210901T143833Z
UID:11034-1638712800-1638714600@chihirosound.com
SUMMARY:KRYラジオ「ちひろDEブレイク」
DESCRIPTION:♠♣♥♦毎週日曜日放送のちひろレギュラー番組♠♣♥♦\nコンサート会場での裏話、ＣＤアルバム制作秘話、名言コーナー、金子みすゞの詩をご紹介など、内容盛り沢山の30分です♪ \n  \n●毎週日曜日：　午後2：00～ \n●パーソナリティ：　ちひろ、瀬川嘉 \n  \n●ちひろDEブレイク：　Official Website・ブログ・みすゞ心のメッセージ \n●周波数一覧 -KRY山口放送-：　こちら（AM・FMで聴く） \n●パソコン・スマホでKRYラジオが聴ける：　radiko.jp \n  \n●ご意見・ご感想はこちら \nメール：break@kry.co.jp\nＦＡＸ：0834-32-9000\nハガキ：〒745-8686　山口放送「ちひろDEブレイク」係 \nメッセージフォームはこちらから
URL:https://chihirosound.com/event/11034
CATEGORIES:オススメ,ラジオ
END:VEVENT
BEGIN:VEVENT
DTSTART;TZID=Asia/Tokyo:20211204T143000
DTEND;TZID=Asia/Tokyo:20211204T160000
DTSTAMP:20260424T182853
CREATED:20210915T085423Z
LAST-MODIFIED:20211110T081811Z
UID:11191-1638628200-1638633600@chihirosound.com
SUMMARY:Concert【山口県】
DESCRIPTION:【Title】「人権の心をはぐくむ市民の集い2021」ちひろコンサート\nみんなちがって、みんないい生き方を～金子みすゞの心とともに～\n  \n●と　き：　12月4日（土） \n●ところ：　萩市民館 大ホール（山口県萩市江向495-4） \n※会場の地図はこちら \n●時　間：　13：30／開会　　14：30～／ちひろコンサート \n  \n●イベント内容：　中学生作文コンテスト表彰式、作文入賞者作品朗読、「人権の花運動」感謝状贈呈、「人権の花」バトンタッチ式 \n●同時開催：　ロビーにて　　13：00～／人権ふれあいマーケット等 \n  \n●入場料：　無料 \n●対　象：　どなたでもOK \n●手話通訳・要約筆記：　有 \n●託児：　有（要事前申込）　 \n  \n●主　催：　山口人権啓発活動地域ネットワーク協議会（山口地方法務局萩支局、萩人権擁護委員協議会、萩市、萩市教育委員会）、萩市人権施策推進委員会 \n  \n●後　援：　(株)エフエム萩、(株)広域市町村型CATVネットワーク、国際ソロプチミスト萩、至誠館大学、はあぶビジョン、萩市社会福祉協議会、萩市身体障害者団体連合会、萩市手をつなぐ育成会、萩市母親クラブ連絡協議会、萩市PTA連合会、萩市民生委員児童委員協議会、萩市老人クラブ連合会、萩東ロータリークラブ、萩ユネスコ協会、萩ライオンズクラブ、萩ロータリークラブ \n  \n●お問合せ：　萩市福祉部福祉政策課人権推進室（電話／0838-25-3634）、山口地方法務局萩支局（電話／0838-22-0478） \n●その他：　マスクの着用等の新型コロナウイルス感染症対策にご協力をお願いします \nPDFはこちら \n \n 
URL:https://chihirosound.com/event/11191
LOCATION:萩市民館\, 山口県萩市江向４９５−４\, 萩市\, 山口県\, 758-004\, 日本
CATEGORIES:オススメ,コンサート
ATTACH;FMTTYPE=image/jpeg:https://chihirosound.com/wp-content/uploads/2021/11/698caba50caa5546f60a4452b95d9658-scaled.jpg
END:VEVENT
END:VCALENDAR