BEGIN:VCALENDAR
VERSION:2.0
PRODID:-//ちひろ Official Website ～金子みすゞの心を歌う～  CHIHIRO Official Website - MISUZU KANEKO- - ECPv6.15.11//NONSGML v1.0//EN
CALSCALE:GREGORIAN
METHOD:PUBLISH
X-ORIGINAL-URL:https://chihirosound.com
X-WR-CALDESC:ちひろ Official Website ～金子みすゞの心を歌う～  CHIHIRO Official Website - MISUZU KANEKO- のイベント
REFRESH-INTERVAL;VALUE=DURATION:PT1H
X-Robots-Tag:noindex
X-PUBLISHED-TTL:PT1H
BEGIN:VTIMEZONE
TZID:Asia/Tokyo
BEGIN:STANDARD
TZOFFSETFROM:+0900
TZOFFSETTO:+0900
TZNAME:JST
DTSTART:20250101T000000
END:STANDARD
END:VTIMEZONE
BEGIN:VEVENT
DTSTART;TZID=Asia/Tokyo:20260109T131000
DTEND;TZID=Asia/Tokyo:20260109T144000
DTSTAMP:20260420T102604
CREATED:20250809T075107Z
LAST-MODIFIED:20260109T170510Z
UID:23223-1767964200-1767969600@chihirosound.com
SUMMARY:Concert〔岐阜県〕
DESCRIPTION:【Title】岐阜聖徳学園大学「報恩講の集い」ちひろコンサート \n●と　き：　1月9日（金） \n●ところ：　岐阜聖徳学園大学 羽島キャンパス（岐阜県岐阜市柳津町） \n●時　間：　13：10～ \n●対　象：　関係者のみ \n●主　催：　岐阜聖徳学園大学
URL:https://chihirosound.com/event/23223
CATEGORIES:コンサート
END:VEVENT
BEGIN:VEVENT
DTSTART;TZID=Asia/Tokyo:20260124T093500
DTEND;TZID=Asia/Tokyo:20260124T102000
DTSTAMP:20260420T102604
CREATED:20260117T153849Z
LAST-MODIFIED:20260119T041629Z
UID:24318-1769247300-1769250000@chihirosound.com
SUMMARY:Concert〔東京都大田区〕
DESCRIPTION:【Title】「令和7年度 大田区立矢口小学校道徳地区公開講座」\nちひろトーク＆コンサート みんなちがって、みんないい。～金子みすゞの心とともに～ \n  \nと　き：　1月24日（土） \nところ：　大田区立矢口小学校 体育館（東京都大田区多摩川1丁目18-22） \n※会場の地図はこちら \n時　間：　9：35～10：20 \n対　象：　保護者、地域の方どなたでもOK \n入場料：　無料 \n主　催：　大田区立矢口小学校
URL:https://chihirosound.com/event/24318
LOCATION:大田区立矢口小学校\, 東京都大田区多摩川１丁目１８−２２\, 大田区\, 東京都\, 146-0095
CATEGORIES:オススメ,コンサート
END:VEVENT
END:VCALENDAR