BEGIN:VCALENDAR
VERSION:2.0
PRODID:-//ちひろ Official Website ～金子みすゞの心を歌う～  CHIHIRO Official Website - MISUZU KANEKO- - ECPv6.15.11//NONSGML v1.0//EN
CALSCALE:GREGORIAN
METHOD:PUBLISH
X-WR-CALNAME:ちひろ Official Website ～金子みすゞの心を歌う～  CHIHIRO Official Website - MISUZU KANEKO-
X-ORIGINAL-URL:https://chihirosound.com
X-WR-CALDESC:ちひろ Official Website ～金子みすゞの心を歌う～  CHIHIRO Official Website - MISUZU KANEKO- のイベント
REFRESH-INTERVAL;VALUE=DURATION:PT1H
X-Robots-Tag:noindex
X-PUBLISHED-TTL:PT1H
BEGIN:VTIMEZONE
TZID:Asia/Tokyo
BEGIN:STANDARD
TZOFFSETFROM:+0900
TZOFFSETTO:+0900
TZNAME:JST
DTSTART:20230101T000000
END:STANDARD
END:VTIMEZONE
BEGIN:VEVENT
DTSTART;TZID=Asia/Tokyo:20241102T133000
DTEND;TZID=Asia/Tokyo:20241102T150000
DTSTAMP:20260423T041746
CREATED:20240807T133047Z
LAST-MODIFIED:20241002T051025Z
UID:20061-1730554200-1730559600@chihirosound.com
SUMMARY:Concert〔広島県〕
DESCRIPTION:【Title】蓮光寺が長束にやってきて400年「れんげまつり」\nちひろコンサート～金子みすゞの心とともに～\n●と　き：　11月2日（土） \n●ところ：　柏原山  蓮光寺（広島市安佐南区長束2丁目1-44） \n※会場の地図はこちら \n※　蓮光寺の駐車場は使用できません。近隣のコインパーキングへ駐車してください。 \n※　自転車、バイクの駐輪場を設けています。 \n  \n●時　間：　13：30～15：00 \n●対　象：　どなたでもOK \n●主　催：　浄土真宗本願寺派 蓮光寺／蓮光寺記念事業委員会 \nPDFはこちら \n \n 
URL:https://chihirosound.com/event/20061
LOCATION:蓮光寺\, 広島県広島市安佐南区長束2丁目1-44 柏原山 蓮光寺\, 広島市\, 広島県\, 731-0135\, 日本
CATEGORIES:オススメ,コンサート
ATTACH;FMTTYPE=image/jpeg:https://chihirosound.com/wp-content/uploads/2024/08/89a5dd24c01ce097e5806b9f5d278068.jpg
END:VEVENT
BEGIN:VEVENT
DTSTART;TZID=Asia/Tokyo:20241105T143000
DTEND;TZID=Asia/Tokyo:20241105T160000
DTSTAMP:20260423T041746
CREATED:20240831T150024Z
LAST-MODIFIED:20240806T103253Z
UID:16832-1730817000-1730822400@chihirosound.com
SUMMARY:Concert〔福島県〕
DESCRIPTION:【Title】龍角寺 Concert —慈愛の祈り—　ちひろ・金子みすゞを歌う\n●と　き：　11月5日（火） \n●ところ：　龍角寺 本堂（福島県郡山市喜久田町堀之内字堀内176） \n※会場の地図はこちら \n●開　場：　14：00 \n●時　間：　14：30～16：00 \n●対　象：　檀家の皆さん、どなたでもOK \n　　　　　（ご来場者様が多数の場合、入場制限を設ける場合がございます。　あらかじめご了承ください。） \n●入場料：　無料 \n●主　催：　龍角寺 \n  \nPDFはこちら
URL:https://chihirosound.com/event/16832
LOCATION:龍角寺\, 福島県郡山市喜久田町堀之内字堀内176\, 郡山市\, 福島県\, 963-0541\, Japan
CATEGORIES:オススメ,コンサート
END:VEVENT
BEGIN:VEVENT
DTSTART;TZID=Asia/Tokyo:20241106T140000
DTEND;TZID=Asia/Tokyo:20241106T160000
DTSTAMP:20260423T041746
CREATED:20240807T133153Z
LAST-MODIFIED:20241015T063726Z
UID:20063-1730901600-1730908800@chihirosound.com
SUMMARY:Concert〔大阪市福島区〕
DESCRIPTION:【Title】令和6年度 男女共同参画事業「心に残るときめきプラザ」講演会　\nちひろトークコンサート　～金子みすゞの心・マザーテレサのメッセージ～\n●と　き：　11月6日（水） \n●ところ：　福島区民センター　1階ホール（大阪市福島区吉野3-17-23） \n※会場の地図はこちら \n●時　間：　14：00～16：00（13：30開場） \n●対　象：　どなたでもOK \n●定　員：　入場無料　当日先着順　300名 \n●手話通訳：　あり　　　　　 \n  \n●主　催：　福島区役所 \n●共　催：　福島区地域女性団体協議会 \n●お問合せ：　福島区役所市民協働課（地域活動支援） \n　　　　　　　電話／06-6464-9743　FAX／06-6464-9987 \n  \n※イベント内容のホームページはこちら（福島区役所） \n 
URL:https://chihirosound.com/event/20063
LOCATION:福島区民センター\, 大阪市福島区吉野3-17-23\, 大阪市\, 大阪府\, 553-0006\, 日本
CATEGORIES:オススメ,コンサート
ATTACH;FMTTYPE=image/png:https://chihirosound.com/wp-content/uploads/2024/08/11.6.png
ORGANIZER;CN="%E7%A6%8F%E5%B3%B6%E5%8C%BA%E5%BD%B9%E6%89%80":MAILTO:https://www.osaka-city-callcenter.jp/mail/index.aspx
END:VEVENT
BEGIN:VEVENT
DTSTART;TZID=Asia/Tokyo:20241109T000000
DTEND;TZID=Asia/Tokyo:20241109T000000
DTSTAMP:20260423T041746
CREATED:20240425T022309Z
LAST-MODIFIED:20241015T053551Z
UID:19544-1731110400-1731110400@chihirosound.com
SUMMARY:Concert〔山口県〕
DESCRIPTION:【Title】「令和6年度 周南市人権講演会」ちひろコンサート　みんなちがって、みんないい生き方を　～金子みすゞの心とともに～\n●と　き：　11月9日（土） \n●ところ：　周南市立須磨小学校　体育館（山口県周南市須万2581） \n※会場の地図はこちら \n●時　間：　午前10時40分～11時50分 \n●対　象：　児童・地域住民 \n●主　催：　周南市、須金地区人権教育推進協議会 \n●お問合せ：　須金市民センター　TEL　0834-86-2201　FAX　0834-86-2145 \n  \nPDFはこちら
URL:https://chihirosound.com/event/19544
LOCATION:周南市立須磨小学校　体育館\, 山口県周南市須万2581\, 周南市\, 山口県\, 745-0401\, 日本
CATEGORIES:オススメ,コンサート
ATTACH;FMTTYPE=image/jpeg:https://chihirosound.com/wp-content/uploads/2024/04/4423195a974556cdb10d6656bec6922d.jpg
END:VEVENT
BEGIN:VEVENT
DTSTART;TZID=Asia/Tokyo:20241110T105000
DTEND;TZID=Asia/Tokyo:20241110T120000
DTSTAMP:20260423T041746
CREATED:20240807T133253Z
LAST-MODIFIED:20241018T045933Z
UID:20065-1731235800-1731240000@chihirosound.com
SUMMARY:Concert〔山口県〕
DESCRIPTION:【Title】阿東文化祭・交流センターまつり　with　徳佐分校　\n　　　　ちひろコンサート「明るいほうへ～歌がつむぐ心と心～」\n●と　き：　11月10日（日） \n●ところ：　山口県立山口高等学校　徳佐分校（ 山口県山口市阿東徳佐中1033‐1） \n※会場の地図はこちら \n●時　間：　10日（日）午前10：50～12：00／ちひろコンサート \n●対　象：　どなたでもOK \n●主　催：　阿東文化協会・阿東地域交流センター・山口高校徳佐分校　 \n●お問合せ：　阿東文化協会事務局　阿東地域交流センター \n　　　　　　　電話番号／083－956-0116 \n  \nPDFはこちら（表） \nPDFはこちら（裏）
URL:https://chihirosound.com/event/20065
LOCATION:山口県立山口高等学校　徳佐分校\, 山口県山口市阿東徳佐中１０３３−１\, 山口市\, 山口県\, 759-1512\, 日本
CATEGORIES:オススメ,コンサート
ATTACH;FMTTYPE=image/jpeg:https://chihirosound.com/wp-content/uploads/2024/08/d2f5e1735272a26a1c2ce7d0a0d5158f.jpg
END:VEVENT
BEGIN:VEVENT
DTSTART;TZID=Asia/Tokyo:20241116T140000
DTEND;TZID=Asia/Tokyo:20241116T151000
DTSTAMP:20260423T041746
CREATED:20240807T133355Z
LAST-MODIFIED:20241114T052414Z
UID:20067-1731765600-1731769800@chihirosound.com
SUMMARY:【中止】Concert〔広島県〕
DESCRIPTION:予定されておりました「秋のコンサート」ちひろコンサート \n諸事情により中止となりました。 \n楽しみにしてくださっていた皆様には大変申し訳なく存じます。 \nまた今後の状況が分かりましたら、お知らせいたします。 \n何卒よろしくお願い申し上げます。 \n  \n【Title】「秋のコンサート」ひとときを咲く \n●と　き：　11月16日（土） \n●ところ：　浄土真宗本願寺派 西福寺 本堂（広島県東広島市黒瀬町楢原68） \n※会場の地図はこちら \n●時　間：　開場／13：00　　開演／14：00 \n●対　象：　どなたでもお参りいただけます \n●入　場：　無料ですが、お供え・御法礼をお願いいたします \n●主　催：　西福寺淑徳仏教婦人会 \n●お問合せ：　西福寺（電話／0823-82-2071） \nPDFはこちら
URL:https://chihirosound.com/event/20067
LOCATION:西福寺 本堂\, 広島県東広島市黒瀬町楢原68\, 東広島市\, 広島県\, 739-2613\, Japan
CATEGORIES:オススメ,コンサート
ATTACH;FMTTYPE=image/jpeg:https://chihirosound.com/wp-content/uploads/2024/11/d5eff42ffdcad60d901389023b5ad3a4-scaled.jpg
END:VEVENT
BEGIN:VEVENT
DTSTART;TZID=Asia/Tokyo:20241123T133000
DTEND;TZID=Asia/Tokyo:20241123T153000
DTSTAMP:20260423T041746
CREATED:20240509T160702Z
LAST-MODIFIED:20240926T141347Z
UID:19642-1732368600-1732375800@chihirosound.com
SUMMARY:Concert〔岡山県〕
DESCRIPTION:【Title】男女共同参画フォーラム in そうじゃ2024　ちひろ人権コンサート　みんなちがって、みんないい生き方を　～金子みすゞの心とともに～\n●と　き：　11月23日（土・祝） \n●ところ：　山手公民館　2階 多目的ホール（岡山県総社市岡谷151-1） \n※地図はこちら \n●時　間：　開場／13：00　開演／13：30～15：30（終了予定） \n●対　象：　参加無料 \n●託　児：　あり（託児を利用される場合は予約が必要です） \n●手話通訳・要約筆記：　あり \n  \n●主　催：　総社市 ／ 総社市ネットワーク” 波” \n●お問合せ：　総社市役所 人権・まちづくり課 人権啓発係 \n　　　　　　　TEL　0866-92-8253 \n　　　　　　　E-mail　jinken-machi@city.soja.okayama.jp \n  \nPDFはこちら（表） \nPDFはこちら（裏） \n 
URL:https://chihirosound.com/event/19642
LOCATION:山手公民館　2階 多目的ホール\, 岡山県総社市岡谷151-1\, 総社市\, 岡山県\, 719-1162\, 日本
CATEGORIES:オススメ,コンサート
ATTACH;FMTTYPE=image/jpeg:https://chihirosound.com/wp-content/uploads/2024/05/1a8bf05cc3142026835756e91602ef9d.jpg
ORGANIZER;CN="%E7%B7%8F%E7%A4%BE%E5%B8%82 / %E7%B7%8F%E7%A4%BE%E5%B8%82%E3%83%8D%E3%83%83%E3%83%88%E3%83%AF%E3%83%BC%E3%82%AF%E2%80%9D %E6%B3%A2%E2%80%9D":MAILTO:jinken-machi@city.soja.okayama.jp
END:VEVENT
BEGIN:VEVENT
DTSTART;TZID=Asia/Tokyo:20241130T133000
DTEND;TZID=Asia/Tokyo:20241130T153000
DTSTAMP:20260423T041746
CREATED:20240425T022417Z
LAST-MODIFIED:20241118T145118Z
UID:19546-1732973400-1732980600@chihirosound.com
SUMMARY:Concert〔福岡県〕
DESCRIPTION:【Title】「上毛町人権講演会」ちひろトーク＆コンサート\nみんなちがって、みんないい生き方を ～金子みすゞの心とともに～ \n●と　き：　11月30日（土） \n●ところ：　げんきの杜 多目的ホール（福岡県築上郡上毛町八ツ並143-1） \n※会場の地図はこちら \n●時　間：　12：30～／受付　　13：30／開会行事　　13：40／人権ポスター・デザイン標語表彰式 \n14：00～15：30／ちひろトーク＆コンサート \n●対　象：　どなたでもOK \n●入場料：　無料 \n●主　催：　上毛町 \n●お問合せ：　上毛町役場住民課（電話／0979-72-3116） \n \n \n 
URL:https://chihirosound.com/event/19546
LOCATION:げんきの杜 多目的ホール\, 福岡県築上郡上毛町八ツ並１４３−１\, 上毛町\, 福岡県\, 871-0903\, 日本
CATEGORIES:オススメ,コンサート
ATTACH;FMTTYPE=image/jpeg:https://chihirosound.com/wp-content/uploads/2024/11/d462459f233f989b2170209875067774-scaled.jpg
END:VEVENT
END:VCALENDAR