BEGIN:VCALENDAR
VERSION:2.0
PRODID:-//ちひろ Official Website ～金子みすゞの心を歌う～  CHIHIRO Official Website - MISUZU KANEKO- - ECPv6.15.11//NONSGML v1.0//EN
CALSCALE:GREGORIAN
METHOD:PUBLISH
X-ORIGINAL-URL:https://chihirosound.com
X-WR-CALDESC:ちひろ Official Website ～金子みすゞの心を歌う～  CHIHIRO Official Website - MISUZU KANEKO- のイベント
REFRESH-INTERVAL;VALUE=DURATION:PT1H
X-Robots-Tag:noindex
X-PUBLISHED-TTL:PT1H
BEGIN:VTIMEZONE
TZID:Asia/Tokyo
BEGIN:STANDARD
TZOFFSETFROM:+0900
TZOFFSETTO:+0900
TZNAME:JST
DTSTART:20230101T000000
END:STANDARD
END:VTIMEZONE
BEGIN:VEVENT
DTSTART;TZID=Asia/Tokyo:20240602T133000
DTEND;TZID=Asia/Tokyo:20240602T152000
DTSTAMP:20260423T084746
CREATED:20240319T010622Z
LAST-MODIFIED:20240319T023149Z
UID:18922-1717335000-1717341600@chihirosound.com
SUMMARY:Concert〔岐阜県〕
DESCRIPTION:【Title】ちひろコンサート  ～ひとときを咲く～\n●と　き：　6月2日（日） \n●ところ：　正願寺 本堂（岐阜県安八郡神戸町西保675-1） \n※会場の地図はこちら \n●時　間：　13：30～ \n●対　象：　門信徒、一般の方どなたでもOK \n●入場料：　無料 \n●主　催：　西濃北組仏教婦人会 \n●お問合せ：　正願寺（0584-27-3185） \nPDFはこちら
URL:https://chihirosound.com/event/18922
LOCATION:正願寺\, 岐阜県安八郡神戸町大字西保６７５−１\, 神戸町\, 岐阜県\, 503-2323\, Japan
CATEGORIES:オススメ,コンサート
ATTACH;FMTTYPE=image/jpeg:https://chihirosound.com/wp-content/uploads/2024/03/85dc70c0f2d0459f7f68b3f87a713f71-1-scaled.jpg
END:VEVENT
BEGIN:VEVENT
DTSTART;TZID=Asia/Tokyo:20240605T133000
DTEND;TZID=Asia/Tokyo:20240605T150000
DTSTAMP:20260423T084746
CREATED:20240321T020331Z
LAST-MODIFIED:20240510T021644Z
UID:19005-1717594200-1717599600@chihirosound.com
SUMMARY:Concert〔徳島県〕
DESCRIPTION:【Title】「三好市民大学講座」金子みすゞを語り、歌う。\nちひろコンサート ～みんなちがって、みんないい生き方を～\n●と　き：　6月5日（水） \n●ところ：　池田総合体育館 メインアリーナ（徳島県三好市池田町マチ2551-1） \n●時　間：　開場／12：15　　開演／13：30 \n●対　象：　どなたでもOK \n●入場料：　無料 \n●主　催：　三好市・三好市人権教育推進協議会・三好市教育委員会 \n●お問合せ：　三好市教育委員会 社会教育課／0883-72-3900 \nPDFはこちら \n \n 
URL:https://chihirosound.com/event/19005
LOCATION:池田総合体育館\, 徳島県三好市池田町マチ２５５１−１\, 三好市\, 徳島県\, 778-0002\, 日本
CATEGORIES:オススメ,コンサート
ATTACH;FMTTYPE=image/jpeg:https://chihirosound.com/wp-content/uploads/2024/05/082e134bd6a15f92765ff1543faee318-scaled.jpg
END:VEVENT
BEGIN:VEVENT
DTSTART;TZID=Asia/Tokyo:20240608T140000
DTEND;TZID=Asia/Tokyo:20240608T153000
DTSTAMP:20260423T084746
CREATED:20240409T150130Z
LAST-MODIFIED:20240529T054016Z
UID:19009-1717855200-1717860600@chihirosound.com
SUMMARY:Concert〔山口県〕
DESCRIPTION:お申込み定員100名に近い状況となりましたが、6月8日当日も受付いたします。 \nぜひお誘いあわせの上、ご来場くださいませ！ \n【Title】「下関市暮らしと人権セミナー」＜第1回＞\n『金子みすゞ全集』発行40周年　金子みすゞを語り、歌う \n  \n●と　き：　6月8日（土） \n●ところ：　生涯学習プラザ 風のホール（山口県下関市細江町3丁目1-1） \n※会場の地図はこちら \n※第2回の会場とは日にち・会場が異なりますのでご注意くださいませ♪ \n●時　間：　午後2：00～3：30 \n  \n●入　場：　無料 \n●定　員：　100名　　事前申込制　　申込〆切 5月31日（金） \n●対　象：　下関市内在住・在学・在勤の方 \n  \n●お問合せ・お申込先：　下関市 市民部 人権・男女共同参画課 \n電話、FAX（裏面）、ホームページのお申込みフォーム（QRコード）のいずれかでお申込みください \n電話／083-222-0827　　FAX／083-231-1437　　HP お申込みフォームはこちら \n●主　催：　下関市 市民部 人権・男女共同参画課 \n  \nPDFはこちら（表） \nPDFはこちら（裏） \n \n \n 
URL:https://chihirosound.com/event/19009
LOCATION:下関市生涯学習プラザ\, 山口県下関市細江町３丁目１−１\, 下関市\, 山口県\, 750-0016\, 日本
CATEGORIES:オススメ,コンサート
ATTACH;FMTTYPE=image/jpeg:https://chihirosound.com/wp-content/uploads/2024/04/185c050f151a90e8978099b61aa2cd0f-scaled.jpg
END:VEVENT
BEGIN:VEVENT
DTSTART;TZID=Asia/Tokyo:20240613T132000
DTEND;TZID=Asia/Tokyo:20240613T151500
DTSTAMP:20260423T084746
CREATED:20240321T020752Z
LAST-MODIFIED:20240617T040247Z
UID:19012-1718284800-1718291700@chihirosound.com
SUMMARY:Concert〔神戸市中央区〕
DESCRIPTION:【Title】「2024年度 兵庫教区仏教婦人会連盟大会」小池 秀章 氏 法話・ちひろコンサート\n●と　き：　6月13日（木） \n●ところ：　本願寺神戸別院（神戸市中央区） \n●時　間：　13：20～ \n●対　象：　関係者のみ \n●主　催：　兵庫教区仏教婦人会連盟 \n※詳細は分かり次第お知らせいたします
URL:https://chihirosound.com/event/19012
CATEGORIES:オススメ,コンサート
END:VEVENT
BEGIN:VEVENT
DTSTART;TZID=Asia/Tokyo:20240621T140000
DTEND;TZID=Asia/Tokyo:20240621T201500
DTSTAMP:20260423T084746
CREATED:20240220T055539Z
LAST-MODIFIED:20240403T053853Z
UID:18717-1718978400-1719000900@chihirosound.com
SUMMARY:20th Anniversary〔北九州市門司区〕
DESCRIPTION:【Title】ちひろ 20th Anniversary ～金子みすゞを歌って20周年～ \n＜昼公演＞ \n◆ 矢崎 節夫 講演会「みすゞさんの宇宙」 \n◆ ちひろコンサート ～金子みすゞの心とともに～ \n  \n＜夜公演＞ \n◆ ちひろコンサート ～金子みすゞとCover Songs～ \n  \n●と　き：　6月21日（金） \n●ところ：　門司市民会館（北九州市門司区老松町3-2） \n※会場の地図はこちら \n●時　間：　＜①昼・②夜 入替制 2回公演＞ \n①14：00／開演（13：30開場）　　②18：30／開演（18：00開場） \n  \n●チケット発売日：　一般発売 　4月11日（木）午前10：00～ \n●チケット：　 \n①昼公演　前売4\,000円　当日4\,500円（税込） \n②夜公演　前売3\,000円　当日3\,500円（税込） \n③昼夜セットチケット　前売6\,000円　当日7\,000円（税込） \n  \n●席　種：　全席自由 \n●プレイガイド：　 \n＜　門司市民会館　＞　★お問合せ／093-321-2907 \n＜　喫茶こがねむし　＞　★お問合せ／093-332-2585 \n＜　株式会社ベルミューズ　＞　★電話予約・注文／083-920-4277 \n  \n全国のローソン・ミニストップ・セブンイレブンにてご購入いただけます \n＜  ローソンチケット（Lコード： 84564）※webへアクセス（ご購入ページ）4月11日～　＞ \n＜　チケットぴあ（Pコード： 267262） ※webへアクセス（ご購入ページ）4月11日～　＞ \n  \n  \n●注意事項：　未就学児の入場はお控えください \n●主催・お問合せ：　株式会社ベルミューズ（電話／083-920-4277） \n●後　援：　西日本新聞社・TNCテレビ西日本、FBS福岡放送 \n●協　力：　金子みすゞ記念館・NPO法人金子みすゞ顕彰会・JULA出版局 \n  \nPDFはこちら＜表＞ \nPDFはこちら＜裏＞ \n \n 
URL:https://chihirosound.com/event/18717
LOCATION:門司市民会館\, 福岡県北九州市門司区老松町３−２\, 北九州市\, 福岡県\, 801-0864\, 日本
CATEGORIES:オススメ,コンサート
ATTACH;FMTTYPE=image/jpeg:https://chihirosound.com/wp-content/uploads/2024/04/45bcc6d8e029bd11cb1982bfb2c282af-scaled.jpg
END:VEVENT
BEGIN:VEVENT
DTSTART;TZID=Asia/Tokyo:20240627T110000
DTEND;TZID=Asia/Tokyo:20240627T114500
DTSTAMP:20260423T084746
CREATED:20240321T021007Z
LAST-MODIFIED:20240617T040701Z
UID:19020-1719486000-1719488700@chihirosound.com
SUMMARY:Concert〔山口県〕
DESCRIPTION:【Title】「小郡シルバー人材センター 小郡地区全体集会」ちひろコンサート\n●と　き：　6月27日（木） \n●ところ：　小郡地域交流センター 2F 大ホール（山口県山口市） \n●時　間：　午前中 \n●対　象：　関係者のみ \n●主　催：　小郡シルバー人材センター
URL:https://chihirosound.com/event/19020
CATEGORIES:オススメ,コンサート
END:VEVENT
BEGIN:VEVENT
DTSTART;TZID=Asia/Tokyo:20240629T170000
DTEND;TZID=Asia/Tokyo:20240629T180000
DTSTAMP:20260423T084746
CREATED:20240124T061732Z
LAST-MODIFIED:20240509T161314Z
UID:18468-1719680400-1719684000@chihirosound.com
SUMMARY:Concert〔岐阜県〕
DESCRIPTION:【Title】社会福祉法人恵隆会  まさきこども園  柳津東保育園　職員研修会  \nちひろコンサート ～明るいほうへ 明るいほうへ～\n●と　き：　6月29日（土） \n●ところ：　岐阜グランドホテル（岐阜県岐阜市） \n●時　間：　17：00～18：00 \n●対　象：　関係者のみ \n●主　催：　社会福祉法人恵隆会
URL:https://chihirosound.com/event/18468
CATEGORIES:コンサート
END:VEVENT
BEGIN:VEVENT
DTSTART;TZID=Asia/Tokyo:20240630T103000
DTEND;TZID=Asia/Tokyo:20240630T111000
DTSTAMP:20260423T084746
CREATED:20240425T021843Z
LAST-MODIFIED:20240627T004854Z
UID:19540-1719743400-1719745800@chihirosound.com
SUMMARY:Concert〔北九州市門司区〕
DESCRIPTION:【Title】「第43回 林芙美子忌の集い」ちひろコンサート\n～風も吹くなり、雲も光るなり～\n●と　き：　6月30日（日） \n●ところ：　北九州市立小森江西市民センター（北九州市門司区矢筈町5-42） \n会場の地図はこちら \n●時　間：　10：00／開会　　10：30／ちひろコンサート \n●対　象：　関係者・門司区等どなたでもOK \n●主　催：　林芙美子資料保存会
URL:https://chihirosound.com/event/19540
LOCATION:北九州市立小森江西市民センター\, 福岡県北九州市門司区矢筈町５−４２\, 北九州市\, 福島県\, 800-0006\, Japan
CATEGORIES:オススメ,コンサート
END:VEVENT
END:VCALENDAR