BEGIN:VCALENDAR
VERSION:2.0
PRODID:-//ちひろ Official Website ～金子みすゞの心を歌う～  CHIHIRO Official Website - MISUZU KANEKO- - ECPv6.15.11//NONSGML v1.0//EN
CALSCALE:GREGORIAN
METHOD:PUBLISH
X-ORIGINAL-URL:https://chihirosound.com
X-WR-CALDESC:ちひろ Official Website ～金子みすゞの心を歌う～  CHIHIRO Official Website - MISUZU KANEKO- のイベント
REFRESH-INTERVAL;VALUE=DURATION:PT1H
X-Robots-Tag:noindex
X-PUBLISHED-TTL:PT1H
BEGIN:VTIMEZONE
TZID:Asia/Tokyo
BEGIN:STANDARD
TZOFFSETFROM:+0900
TZOFFSETTO:+0900
TZNAME:JST
DTSTART:20220101T000000
END:STANDARD
END:VTIMEZONE
BEGIN:VEVENT
DTSTART;TZID=Asia/Tokyo:20231012T144500
DTEND;TZID=Asia/Tokyo:20231012T152000
DTSTAMP:20260424T002307
CREATED:20230616T110523Z
LAST-MODIFIED:20231004T144403Z
UID:16712-1697121900-1697124000@chihirosound.com
SUMMARY:Concert〔山口県〕
DESCRIPTION:【Title】「岩国組（いわくにそ）コール・カラビンカ 創立25周年記念演奏会」ちひろミニコンサート\n●と　き：　10月12日（木） \n●ところ：　岩国市民文化会館 大ホール（山口県岩国市） \n●時　間：　14：45～ \n●対　象：　関係者のみ \n●主　催：　浄土真宗本願寺派 岩国組（いわくにそ）コール・カラビンカ
URL:https://chihirosound.com/event/16712
CATEGORIES:コンサート
END:VEVENT
BEGIN:VEVENT
DTSTART;TZID=Asia/Tokyo:20231014T133000
DTEND;TZID=Asia/Tokyo:20231014T151000
DTSTAMP:20260424T002307
CREATED:20230616T110708Z
LAST-MODIFIED:20230906T062034Z
UID:16714-1697290200-1697296200@chihirosound.com
SUMMARY:Concert〔山口県〕
DESCRIPTION:【Title】「令和５年度 周東学習講座 中央地区講座」\nちひろコンサート 「みんなちがって、みんないい生き方を ～金子みすゞの心とともに～」\n  \n●と　き：　10月14日（土） \n●ところ：　総合センター日向　多目的ホール（山口県岩国市周東町下久原1208番地1） \n※会場の地図はこちら \n●時　間：　13：30～15：10（開場／13：00～） \n●入　場：　無料　 \n  \n●お問合せ・お申込先：岩国市周東中央福祉会館（周東中央公民館 ） \n　　　　　　　　　　　電話／0827-84-7709 \n●主　催：　周東町人権学習推進委員会・周東中央福祉会館・周東中央公民館 \n●共　催：　青少年育成市民会議周東地区会議中央地区会議 \nPDFはこちら \n \n 
URL:https://chihirosound.com/event/16714
LOCATION:総合センター 日向（ひなた）\, 山口県岩国市周東町下久原１２０８−１\, 岩国市\, 山口県\, 742-0417\, 日本
CATEGORIES:オススメ,コンサート
ATTACH;FMTTYPE=image/jpeg:https://chihirosound.com/wp-content/uploads/2023/09/1a82414342b6c8f611e763bcf26c83ed-scaled.jpg
END:VEVENT
BEGIN:VEVENT
DTSTART;TZID=Asia/Tokyo:20231016T130000
DTEND;TZID=Asia/Tokyo:20231016T133000
DTSTAMP:20260424T002307
CREATED:20230812T082731Z
LAST-MODIFIED:20240617T035856Z
UID:17116-1697461200-1697463000@chihirosound.com
SUMMARY:Concert〔山口県〕
DESCRIPTION:【Title】「有限会社みつや・トロアメゾン 創業60周年 記念式典・祝賀会」\nちひろミニコンサート\n●と　き：　10月16日（月） \n●ところ：　山口グランドホテル（山口県山口市） \n●時　間：　 13：30～　 \n●対　象：　関係者のみ \n●主　催：　有限会社みつや・トロアメゾン
URL:https://chihirosound.com/event/17116
CATEGORIES:コンサート
END:VEVENT
BEGIN:VEVENT
DTSTART;TZID=Asia/Tokyo:20231021T140000
DTEND;TZID=Asia/Tokyo:20231021T144500
DTSTAMP:20260424T002307
CREATED:20230318T063409Z
LAST-MODIFIED:20231004T144640Z
UID:15729-1697896800-1697899500@chihirosound.com
SUMMARY:Concert〔山口県〕
DESCRIPTION:【Title】「第45回 山口市民俳句大会」ちひろコンサート\n●と　き：　10月21日（土） \n●ところ：　山口市小郡地域交流センター 2F ホール（山口県山口市） \n●時　間：　14：00～14：45 \n●対　象：　関係者のみ \n●主　催：　山口市俳句協会
URL:https://chihirosound.com/event/15729
LOCATION:山口市小郡地域交流センター\, 山口県山口市小郡下郷６０９−１\, 山口市\, 山口県\, 754-0002\, 日本
CATEGORIES:コンサート
END:VEVENT
BEGIN:VEVENT
DTSTART;TZID=Asia/Tokyo:20231022T133000
DTEND;TZID=Asia/Tokyo:20231022T160000
DTSTAMP:20260424T002307
CREATED:20230113T025106Z
LAST-MODIFIED:20231004T145131Z
UID:15405-1697981400-1697990400@chihirosound.com
SUMMARY:Concert〔山口県〕
DESCRIPTION:【Title】つなぐ　つながる　下関から未来へ　《詩人・金子みすゞ》生誕100年プロジェクト\nちひろミニコンサート\n●と　き：　10月22日（日） \n●ところ：　下関市役所エントランスホール（山口県下関市南部町1-1） \n※会場の地図はこちら \n●時　間：　9：00～（クイズラリー：無料） \n　　　　　 13：30～16：00（ステージイベント：無料） \n　　　　　◆ステージイベント 13：30～16：00 \n　　　　　・下関商業高等学校 吹奏楽部　演奏 \n　　　　　・養治小学校・文関小学校・名陵小学校による出演 \n　　　　　・スペシャルライブ　シンガーソングライター　ちひろ \n  \n●入　場：　無料 \n●お問合せ：　中東地区まちづくり協議会（電話・FAX／083-250-8380） \n●主　催：　中東地区まちづくり協議会 \n●共　催：　下関市、金子みすゞ・雅輔の会
URL:https://chihirosound.com/event/15405
LOCATION:下関市役所エントランスホール\, 山口県下関市南部町１−１\, 下関市\, 山口県\, 750-0006\, 日本
CATEGORIES:オススメ,コンサート
END:VEVENT
BEGIN:VEVENT
DTSTART;TZID=Asia/Tokyo:20231030T105000
DTEND;TZID=Asia/Tokyo:20231030T111500
DTSTAMP:20260424T002307
CREATED:20230812T082909Z
LAST-MODIFIED:20231004T145536Z
UID:17118-1698663000-1698664500@chihirosound.com
SUMMARY:Concert〔山口県〕
DESCRIPTION:【Title】「心ぽっかぽか集会」ちひろミニコンサート\n●と　き：　10月30日（月） \n●ところ：　長門市立明倫小学校（山口県長門市） \n●時　間：　 10：50～ \n●対　象：　関係者のみ \n●主　催：　長門市立明倫小学校
URL:https://chihirosound.com/event/17118
CATEGORIES:コンサート
END:VEVENT
END:VCALENDAR