BEGIN:VCALENDAR
VERSION:2.0
PRODID:-//ちひろ Official Website ～金子みすゞの心を歌う～  CHIHIRO Official Website - MISUZU KANEKO- - ECPv6.15.11//NONSGML v1.0//EN
CALSCALE:GREGORIAN
METHOD:PUBLISH
X-ORIGINAL-URL:https://chihirosound.com
X-WR-CALDESC:ちひろ Official Website ～金子みすゞの心を歌う～  CHIHIRO Official Website - MISUZU KANEKO- のイベント
REFRESH-INTERVAL;VALUE=DURATION:PT1H
X-Robots-Tag:noindex
X-PUBLISHED-TTL:PT1H
BEGIN:VTIMEZONE
TZID:Asia/Tokyo
BEGIN:STANDARD
TZOFFSETFROM:+0900
TZOFFSETTO:+0900
TZNAME:JST
DTSTART:20220101T000000
END:STANDARD
END:VTIMEZONE
BEGIN:VEVENT
DTSTART;TZID=Asia/Tokyo:20230706T180000
DTEND;TZID=Asia/Tokyo:20230706T182000
DTSTAMP:20260424T093252
CREATED:20230803T004639Z
LAST-MODIFIED:20230803T004639Z
UID:16995-1688666400-1688667600@chihirosound.com
SUMMARY:Stage【山口県】
DESCRIPTION:【Title】「令和５年度 中国・四国ブロック老人クラブリーダー研修会」ちひろウェルカムコンサート\n●と　き：　7月6日（木） \n●ところ：　かめ福オンプレイス（山口県山口市） \n●時　間：　18：00～ \n●対　象：　関係者のみ \n●主　催：　公益財団法人 全国老人クラブ連合会、一般財団法人 山口県老人クラブ連合会
URL:https://chihirosound.com/event/16995
CATEGORIES:コンサート
END:VEVENT
BEGIN:VEVENT
DTSTART;TZID=Asia/Tokyo:20230709T140000
DTEND;TZID=Asia/Tokyo:20230709T143000
DTSTAMP:20260424T093252
CREATED:20230318T063252Z
LAST-MODIFIED:20230514T172418Z
UID:15727-1688911200-1688913000@chihirosound.com
SUMMARY:Concert〔福島県〕
DESCRIPTION:【Title】「金子みすゞ生誕120年」ちひろコンサート and トークショー\n●と　き：　7月9日（日） \n●ところ：　音館 イベントホール（福島県須賀川市八幡山251-1） \n※会場の地図はこちら \n●時　間：　13：30／開場　14：00／開演 \n  \n●共　演：　朗読・対談　宗方 和子 \n  \n●チケット：　前売り3\,000円（税込）　当日3\,500円（税込） \n●席　種：　全席自由 \n●発　売：　5月23日（月） \n●プレイガイド： \n・音　館　tel／0248-73-2223 \n  \n●主　催：　ちひろコンサート実行委員会 \n●協　力：　JULA出版局、NPO法人金子みすゞ顕彰会 \n●後　援：　ウルトラFM、（株）郡山コミュニティ放送ココラジ、金子みすゞ記念館、ちひろ応援団チームK、（株）ベルミューズ \n●お問合せ：　ちひろコンサート実行委員会［宗方］090-2276-7328　［長尾］090-8401-5662 \n●駐車場：　音館ホール前、隣接駐車場をお借りしていますのでご利用下さい \n  \nPDFはこちら（表） \nPDFはこちら（裏） \n \n 
URL:https://chihirosound.com/event/15727
LOCATION:音館\, 福島県須賀川市八幡山２５１−１\, 須賀川市\, 福島県\, 962-0025\, 日本
CATEGORIES:オススメ,コンサート
ATTACH;FMTTYPE=image/jpeg:https://chihirosound.com/wp-content/uploads/2023/05/6e14423814663088889284e29ce19a64-scaled.jpg
END:VEVENT
BEGIN:VEVENT
DTSTART;TZID=Asia/Tokyo:20230711T140000
DTEND;TZID=Asia/Tokyo:20230711T153000
DTSTAMP:20260424T093252
CREATED:20230318T063156Z
LAST-MODIFIED:20230510T142959Z
UID:15725-1689084000-1689089400@chihirosound.com
SUMMARY:Concert〔福島県〕
DESCRIPTION:【Title】「金子みすゞ生誕120年」ちひろコンサート －明るいほうへ－\n●と　き：　7月11日（火） \n●ところ：　郡山市中央公民館 多目的ホール（福島県郡山市麓山1-8-4） \n※会場の地図はこちら \n●時　間：　13：30／開場　14：00／開演 \n●チケット：　2\,000円（税込） \n●席　種：　全席自由 \n●発売日：　発売／5月18日（木）～ \n●プレイガイド： \n・けんしん郡山文化センター（郡山市民文化センター） tel／024-934-2288 \n・うすい百貨店 5Fプレイガイド　tel／024-932-0001 \n・十字屋楽器店 \n・ノア楽器（株） \n●主　催：　鈴と小鳥の会 \n●協　力：　JULA出版局、NPO法人金子みすゞ顕彰会 \n●後　援：　郡山市、郡山市教育委員会、社会福祉法人郡山市社会福祉協議会、郡山市文化団体連絡協議会、福島民報社、福島民友新聞社、（株）郡山コミュニティ放送ココラジ、金子みすゞ記念館 \n●お問合せ：　鈴と小鳥の会　携帯・SMS［佐藤］090-9532-5021　／　tel＆fax［草野］024-932-8414 \n  \nPDFはこちら（表） \nPDFはこちら（裏） \n  \n \n  \n \n  \n 
URL:https://chihirosound.com/event/15725
LOCATION:郡山市立中央公民館\, 福島県郡山市麓山１丁目８−４\, 郡山市\, 福島県\, 963-8876
CATEGORIES:オススメ,コンサート
ATTACH;FMTTYPE=image/jpeg:https://chihirosound.com/wp-content/uploads/2023/05/741c77ad85f02f8d9bd5d346493c8979-scaled.jpg
END:VEVENT
BEGIN:VEVENT
DTSTART;TZID=Asia/Tokyo:20230715T113000
DTEND;TZID=Asia/Tokyo:20230715T140000
DTSTAMP:20260424T093252
CREATED:20230607T010753Z
LAST-MODIFIED:20230620T145300Z
UID:16609-1689420600-1689429600@chihirosound.com
SUMMARY:Concert〔福島県〕
DESCRIPTION:【Title】「第13回 たむらまち 商工感謝納涼祭」ちひろコンサート\n●と　き：　7月15日（土） \n●ところ：　田村公民館（福島県郡山市田村町岩作穂多礼40-3） \n※会場の地図はこちら \n●時　間：　11：00～14：30 \nちひろコンサート　1部／11：30～12：00　　2部／13：15～14：00 \n帝京安積高等学校和太鼓部／12：15～12：45 \n●対　象：　先着100名 \n●入場料：　大人／2\,000円（税込）　　小人／1\,000円（税込）＜20歳以下＞ \n●チケット販売：　6/19（月）～　田村町商工会 \n●主　催：　たむらまち商工感謝祭実行委員会（田村町商工会、田村町商工会青年部、田村町商工会女性部） \nPDFはこちら（表） \nPDFはこちら（裏）
URL:https://chihirosound.com/event/16609
LOCATION:田村公民館\, 福島県郡山市田村町岩作穂多礼４０−３\, 郡山市\, 福島県\, 963-1154\, 日本
CATEGORIES:オススメ,コンサート
ATTACH;FMTTYPE=image/jpeg:https://chihirosound.com/wp-content/uploads/2023/06/50ded21d7ab68ed5d7e4e9861c91d8bd.jpg
END:VEVENT
BEGIN:VEVENT
DTSTART;TZID=Asia/Tokyo:20230727T140000
DTEND;TZID=Asia/Tokyo:20230727T160000
DTSTAMP:20260424T093252
CREATED:20230220T021903Z
LAST-MODIFIED:20230619T010033Z
UID:15600-1690466400-1690473600@chihirosound.com
SUMMARY:Concert〔福岡市西区〕
DESCRIPTION:【Title】「令和5年度 西区人権を考えるつどい」ちひろトーク&コンサート \nみんなちがって、みんないい生き方を ～金子みすゞの心とともに～\n●と　き：　7月27日（木） \n●ところ：　西市民センターホール（福岡市西区内浜1丁目4-39） \n※会場の地図はこちら \n●時　間：　開場／13：00　　開演／14：00～16：00 \n  \n●入場料：　無料　※事前申込不要　 \n●定　員：　800名　 \n●お申込方法：　チラシの裏面をご参照ください \n●対　象：　どなたでもOK \n  \n●託　児：　無料　※ご希望の方は7月21日（金）までに電話またはEメールにてお申込みください \n●手話通訳・要約筆記：　あり \n●主　催：　西区人権尊重連絡会議、福岡市西区役所、西市民センター \n●お問合せ：　西区 生涯学習推進課（電話／092-895-7026　E-mail／nishi-kouza@city.fukuoka.lg.jp） \n  \nPDFはこちら
URL:https://chihirosound.com/event/15600
LOCATION:西市民センター\, 福岡市西区内浜1丁目4-39\, 福岡市\, 福岡県\, 819-0005\, Japan
CATEGORIES:オススメ,コンサート
ATTACH;FMTTYPE=image/jpeg:https://chihirosound.com/wp-content/uploads/2023/06/dd990fe31709e7e9217ec41d89f8da78-scaled.jpg
END:VEVENT
END:VCALENDAR