BEGIN:VCALENDAR
VERSION:2.0
PRODID:-//ちひろ Official Website ～金子みすゞの心を歌う～  CHIHIRO Official Website - MISUZU KANEKO- - ECPv6.15.11//NONSGML v1.0//EN
CALSCALE:GREGORIAN
METHOD:PUBLISH
X-ORIGINAL-URL:https://chihirosound.com
X-WR-CALDESC:ちひろ Official Website ～金子みすゞの心を歌う～  CHIHIRO Official Website - MISUZU KANEKO- のイベント
REFRESH-INTERVAL;VALUE=DURATION:PT1H
X-Robots-Tag:noindex
X-PUBLISHED-TTL:PT1H
BEGIN:VTIMEZONE
TZID:Asia/Tokyo
BEGIN:STANDARD
TZOFFSETFROM:+0900
TZOFFSETTO:+0900
TZNAME:JST
DTSTART:20230101T000000
END:STANDARD
END:VTIMEZONE
BEGIN:VEVENT
DTSTART;TZID=Asia/Tokyo:20241215T140000
DTEND;TZID=Asia/Tokyo:20241215T154000
DTSTAMP:20260423T012003
CREATED:20240807T133619Z
LAST-MODIFIED:20241204T034055Z
UID:20071-1734271200-1734277200@chihirosound.com
SUMMARY:Concert〔山口県〕
DESCRIPTION:【Title】「西円寺 研修会」ちひろコンサート \nひとときを咲く～九條武子さまと金子みすゞのまなざし～\n●と　き：　12月15日（火） \n●ところ：　浄土真宗本願寺派　西円寺 本堂（山口県岩国市） \n●時　間：　14：00～15：40 \n●対　象：　関係者のみ \n●主　催：　西円寺
URL:https://chihirosound.com/event/20071
CATEGORIES:コンサート
END:VEVENT
END:VCALENDAR