BEGIN:VCALENDAR
VERSION:2.0
PRODID:-//ちひろ Official Website ～金子みすゞの心を歌う～  CHIHIRO Official Website - MISUZU KANEKO- - ECPv6.15.11//NONSGML v1.0//EN
CALSCALE:GREGORIAN
METHOD:PUBLISH
X-WR-CALNAME:ちひろ Official Website ～金子みすゞの心を歌う～  CHIHIRO Official Website - MISUZU KANEKO-
X-ORIGINAL-URL:https://chihirosound.com
X-WR-CALDESC:ちひろ Official Website ～金子みすゞの心を歌う～  CHIHIRO Official Website - MISUZU KANEKO- のイベント
REFRESH-INTERVAL;VALUE=DURATION:PT1H
X-Robots-Tag:noindex
X-PUBLISHED-TTL:PT1H
BEGIN:VTIMEZONE
TZID:Asia/Tokyo
BEGIN:STANDARD
TZOFFSETFROM:+0900
TZOFFSETTO:+0900
TZNAME:JST
DTSTART:20230101T000000
END:STANDARD
END:VTIMEZONE
BEGIN:VEVENT
DTSTART;TZID=Asia/Tokyo:20240313T134500
DTEND;TZID=Asia/Tokyo:20240313T144500
DTSTAMP:20260423T180428
CREATED:20240124T055225Z
LAST-MODIFIED:20240304T063631Z
UID:18457-1710337500-1710341100@chihirosound.com
SUMMARY:Concert〔山口県〕
DESCRIPTION:※お申込期限を延長して受付中です！\n【Title】おしごと説明会 & ちひろスプリングコンサート\n●と　き：　3月13日（水） \n●ところ：　アスピラート　（防府市地域交流センター）＜山口県防府市戎町1丁目1-28＞ \n※会場の地図はこちら \n●時　間：　13：45～14：45 \n●対　象：　山口県在住の60歳以上の方 \n●定　員：　300名 \n●申込方法：　QRコードよりお申込み、又は、FAX（083-921-6077）詳しくは下記をご参照ください \nWEB申し込みフォーマットはこちら \n※お申込期限を延長して受付中です！ \n●主　催：　公益社団法人山口県シルバー人材センター連合会 \n●お問い合わせ：　083-921-6070 \nPDFはこちら（表面） \nPDFはこちら（裏面） \n \n \n \n※3つ目の画像は、2月22日付の新聞広告（山口版）に掲載されたものです \n 
URL:https://chihirosound.com/event/18457
LOCATION:アスピラート\, 山口県防府市戎町１丁目１−２８\, 防府市\, 山口県\, 747-0036\, 日本
CATEGORIES:オススメ,コンサート
ATTACH;FMTTYPE=image/jpeg:https://chihirosound.com/wp-content/uploads/2024/02/2c3670589b38286f3cda9c926ccdf690-scaled.jpg
END:VEVENT
END:VCALENDAR