BEGIN:VCALENDAR
VERSION:2.0
PRODID:-//ちひろ Official Website ～金子みすゞの心を歌う～  CHIHIRO Official Website - MISUZU KANEKO- - ECPv6.15.11//NONSGML v1.0//EN
CALSCALE:GREGORIAN
METHOD:PUBLISH
X-WR-CALNAME:ちひろ Official Website ～金子みすゞの心を歌う～  CHIHIRO Official Website - MISUZU KANEKO-
X-ORIGINAL-URL:https://chihirosound.com
X-WR-CALDESC:ちひろ Official Website ～金子みすゞの心を歌う～  CHIHIRO Official Website - MISUZU KANEKO- のイベント
REFRESH-INTERVAL;VALUE=DURATION:PT1H
X-Robots-Tag:noindex
X-PUBLISHED-TTL:PT1H
BEGIN:VTIMEZONE
TZID:Asia/Tokyo
BEGIN:STANDARD
TZOFFSETFROM:+0900
TZOFFSETTO:+0900
TZNAME:JST
DTSTART:20220101T000000
END:STANDARD
END:VTIMEZONE
BEGIN:VEVENT
DTSTART;TZID=Asia/Tokyo:20231122T134500
DTEND;TZID=Asia/Tokyo:20231122T144500
DTSTAMP:20260424T002301
CREATED:20230616T111943Z
LAST-MODIFIED:20231106T011405Z
UID:16730-1700660700-1700664300@chihirosound.com
SUMMARY:Concert〔山口県〕
DESCRIPTION:【Title】「おたがいさま下関 10周年」ちひろコンサート\n下関から世界へ ～金子みすゞの心とともに～\n●と　き：　11月22日（水） \n●ところ：　海峡メッセ 9F 開教ホール（山口県下関市） \n●時　間：　13：45頃～ \n●対　象：　関係者のみ \n●主　催：　おたがいさま下関、コープやまぐち
URL:https://chihirosound.com/event/16730
CATEGORIES:コンサート
END:VEVENT
END:VCALENDAR