BEGIN:VCALENDAR
VERSION:2.0
PRODID:-//ちひろ Official Website ～金子みすゞの心を歌う～  CHIHIRO Official Website - MISUZU KANEKO- - ECPv6.15.11//NONSGML v1.0//EN
CALSCALE:GREGORIAN
METHOD:PUBLISH
X-ORIGINAL-URL:https://chihirosound.com
X-WR-CALDESC:ちひろ Official Website ～金子みすゞの心を歌う～  CHIHIRO Official Website - MISUZU KANEKO- のイベント
REFRESH-INTERVAL;VALUE=DURATION:PT1H
X-Robots-Tag:noindex
X-PUBLISHED-TTL:PT1H
BEGIN:VTIMEZONE
TZID:Asia/Tokyo
BEGIN:STANDARD
TZOFFSETFROM:+0900
TZOFFSETTO:+0900
TZNAME:JST
DTSTART:20220101T000000
END:STANDARD
END:VTIMEZONE
BEGIN:VEVENT
DTSTART;TZID=Asia/Tokyo:20230903T142000
DTEND;TZID=Asia/Tokyo:20230903T152000
DTSTAMP:20260424T053616
CREATED:20230616T104230Z
LAST-MODIFIED:20230616T104230Z
UID:16700-1693750800-1693754400@chihirosound.com
SUMMARY:Concert〔福岡県〕
DESCRIPTION:【Title】「上毛組（こうげそ）若婦人研修会」ちひろコンサート\n●と　き：　9月3日（日） \n●ところ：　浄土真宗本願寺派  教圓寺  本堂（福岡県豊前市） \n●時　間：　14：20～15：20 \n●対　象：　関係者のみ \n●主　催：　上毛組（こうげそ）仏教婦人会
URL:https://chihirosound.com/event/16700
CATEGORIES:コンサート
END:VEVENT
END:VCALENDAR