BEGIN:VCALENDAR
VERSION:2.0
PRODID:-//ちひろ Official Website ～金子みすゞの心を歌う～  CHIHIRO Official Website - MISUZU KANEKO- - ECPv6.15.11//NONSGML v1.0//EN
CALSCALE:GREGORIAN
METHOD:PUBLISH
X-ORIGINAL-URL:https://chihirosound.com
X-WR-CALDESC:ちひろ Official Website ～金子みすゞの心を歌う～  CHIHIRO Official Website - MISUZU KANEKO- のイベント
REFRESH-INTERVAL;VALUE=DURATION:PT1H
X-Robots-Tag:noindex
X-PUBLISHED-TTL:PT1H
BEGIN:VTIMEZONE
TZID:Asia/Tokyo
BEGIN:STANDARD
TZOFFSETFROM:+0900
TZOFFSETTO:+0900
TZNAME:JST
DTSTART:20220101T000000
END:STANDARD
END:VTIMEZONE
BEGIN:VEVENT
DTSTART;TZID=Asia/Tokyo:20230625T140000
DTEND;TZID=Asia/Tokyo:20230625T153000
DTSTAMP:20260424T135338
CREATED:20230424T145830Z
LAST-MODIFIED:20230616T052104Z
UID:16295-1687701600-1687707000@chihirosound.com
SUMMARY:講座〔埼玉県〕
DESCRIPTION:【Title】金子みすゞ生誕120年　ちひろ講座\n●と　き：　6月25日（日） \n●ところ：　浄土真宗本願寺派 築地本願寺いるま布教所 超法寺（埼玉県入間市） \n●時　間：　14：00～ \n●対　象：　関係者のみ \n●主　催：　浄土真宗本願寺派 築地本願寺いるま布教所 超法寺
URL:https://chihirosound.com/event/16295
CATEGORIES:コンサート
END:VEVENT
END:VCALENDAR