BEGIN:VCALENDAR
VERSION:2.0
PRODID:-//ちひろ Official Website ～金子みすゞの心を歌う～  CHIHIRO Official Website - MISUZU KANEKO- - ECPv6.15.11//NONSGML v1.0//EN
CALSCALE:GREGORIAN
METHOD:PUBLISH
X-WR-CALNAME:ちひろ Official Website ～金子みすゞの心を歌う～  CHIHIRO Official Website - MISUZU KANEKO-
X-ORIGINAL-URL:https://chihirosound.com
X-WR-CALDESC:ちひろ Official Website ～金子みすゞの心を歌う～  CHIHIRO Official Website - MISUZU KANEKO- のイベント
REFRESH-INTERVAL;VALUE=DURATION:PT1H
X-Robots-Tag:noindex
X-PUBLISHED-TTL:PT1H
BEGIN:VTIMEZONE
TZID:Asia/Tokyo
BEGIN:STANDARD
TZOFFSETFROM:+0900
TZOFFSETTO:+0900
TZNAME:JST
DTSTART:20220101T000000
END:STANDARD
END:VTIMEZONE
BEGIN:VEVENT
DTSTART;TZID=Asia/Tokyo:20230618T110000
DTEND;TZID=Asia/Tokyo:20230618T114500
DTSTAMP:20260424T165604
CREATED:20230220T020741Z
LAST-MODIFIED:20230424T072958Z
UID:15589-1687086000-1687088700@chihirosound.com
SUMMARY:【中止】Concert〔山口県〕
DESCRIPTION:【ちひろコンサート中止のお知らせ】\nコロナ禍のイベント縮小により「ちひろコンサート」は、中止となりました。 \n公演を楽しみにして下さっておりました皆様には大変申し訳なく存じますが、何卒ご理解の程よろしくお願い申し上げます。 \n【Title】ちひろコンサート（仮）\n●と　き：　6月18日（日） \n●ところ：　山口県山口市 \n●時　間：　午前中 \n●対　象：　 \n●主　催：　 \n※詳細は分かり次第お知らせいたします
URL:https://chihirosound.com/event/15589
CATEGORIES:コンサート
END:VEVENT
END:VCALENDAR