BEGIN:VCALENDAR
VERSION:2.0
PRODID:-//ちひろ Official Website ～金子みすゞの心を歌う～  CHIHIRO Official Website - MISUZU KANEKO- - ECPv6.15.11//NONSGML v1.0//EN
CALSCALE:GREGORIAN
METHOD:PUBLISH
X-WR-CALNAME:ちひろ Official Website ～金子みすゞの心を歌う～  CHIHIRO Official Website - MISUZU KANEKO-
X-ORIGINAL-URL:https://chihirosound.com
X-WR-CALDESC:ちひろ Official Website ～金子みすゞの心を歌う～  CHIHIRO Official Website - MISUZU KANEKO- のイベント
REFRESH-INTERVAL;VALUE=DURATION:PT1H
X-Robots-Tag:noindex
X-PUBLISHED-TTL:PT1H
BEGIN:VTIMEZONE
TZID:Asia/Tokyo
BEGIN:STANDARD
TZOFFSETFROM:+0900
TZOFFSETTO:+0900
TZNAME:JST
DTSTART:20180101T000000
END:STANDARD
END:VTIMEZONE
BEGIN:VEVENT
DTSTART;TZID=Asia/Tokyo:20200404T140000
DTEND;TZID=Asia/Tokyo:20200404T153000
DTSTAMP:20260423T070252
CREATED:20200204T133250Z
LAST-MODIFIED:20200401T122230Z
UID:6811-1586008800-1586014200@chihirosound.com
SUMMARY:【延期】Concert〔山口県〕
DESCRIPTION:【ちひろコンサート延期のお知らせ】\n\n新型コロナウィルス感染拡大防止の影響があり「ちひろコンサート」は、延期となりました。 \n公演を楽しみにして下さっておりました皆様には大変申し訳なく存じますが、何卒ご理解の程よろしくお願い申し上げます。 \nなお、延期の期日は未定でございます。 \n何卒ご了承くださいますようお願い申し上げます。 \n \n【Title】「花まつり」ちひろコンサート \n●と　き：　4月4日（土） \n●ところ：　西福寺 本堂（山口県岩国市岩国2丁目6-32） \n※会場の地図はこちら \n●時　間：　13：30／おつとめ　14：00～／コンサート \n●対　象：　門信徒、関係者、どなたでもご参加OK \n●入場料：　無料（※整理券が必要です） \n●お問合せ：　西福寺（電話／0827-41-0534） \nPDFはこちら
URL:https://chihirosound.com/event/6811
LOCATION:西福寺\, 山口県岩国市岩国２丁目６−３２\, 岩国市\, 山口県\, 741-0062\, Japan
CATEGORIES:コンサート
ATTACH;FMTTYPE=image/jpeg:https://chihirosound.com/wp-content/uploads/2020/02/57cdefe4c80135f9e97dfc2d254dba81.jpg
END:VEVENT
BEGIN:VEVENT
DTSTART;TZID=Asia/Tokyo:20200329T120000
DTEND;TZID=Asia/Tokyo:20200329T140000
DTSTAMP:20260423T070252
CREATED:20200203T161631Z
LAST-MODIFIED:20200304T070319Z
UID:6779-1585483200-1585490400@chihirosound.com
SUMMARY:【延期】Concert〔山口県〕
DESCRIPTION:【ちひろコンサート延期のお知らせ】\n\n新型コロナウィルス感染拡大防止の影響があり、3月29日山水園での「ちひろコンサート」は、延期となりました。 \n公演を楽しみにして下さっておりました皆様には大変申し訳なく存じますが、何卒ご理解の程よろしくお願い申し上げます。 \nなお、延期の期日は未定でございます。 \n何卒ご了承くださいますようお願い申し上げます。 \n \n【Title】ちひろCONCERT\n●と　き：　3月29日（日） \n●ところ：　名勝 山水園　園庭（山口県山口市緑町4-60）　★「国登録有形文化財」（建築物）★「国登録記念物」（名勝地関係） \n※雨天の場合は室内でのコンサートとなります \n※会場の地図はこちら \n●時　間：　開場／11：00　 お食事／12：00　 コンサート／午後1：00～ \n●料　金：　 \n●お問合せ：　山水園（電話：083-922-0560） \n●主　催：　山水園 \n※詳細は分かり次第お知らせいたします
URL:https://chihirosound.com/event/6779
LOCATION:名勝 山水園\, 山口県山口市緑町４−６０\, 山口市\, 山口県\, 753-0078\, Japan
CATEGORIES:コンサート
END:VEVENT
BEGIN:VEVENT
DTSTART;TZID=Asia/Tokyo:20200325T183000
DTEND;TZID=Asia/Tokyo:20200325T202000
DTSTAMP:20260423T070252
CREATED:20190101T010041Z
LAST-MODIFIED:20200308T145144Z
UID:6625-1585161000-1585167600@chihirosound.com
SUMMARY:【延期】Misuzu Memorial Concert〔横浜市港北区〕
DESCRIPTION:【ちひろコンサート延期のお知らせ】\n\n新型コロナウィルス感染拡大防止について考慮いたしました結果、予定をしておりました 3月25日「金子みすゞ没後90年ちひろコンサート」は、延期をすることといたしました。 \n公演を楽しみにして下さっておりました皆様には大変申し訳なく存じますが、何卒ご理解の程よろしくお願い申し上げます。 \nなお、延期の期日は未定でございます。\nまた、チケットの払い戻しについては、後日改めてお知らせいたします。払い戻しにはチケットが必要となりますので、お手元に保管をお願いいたします。 \nこの様な形でのご案内となり、皆様には大変ご迷惑をおかけいたしますが、何卒ご了承くださいますようお願い申し上げます。 \n \n【チケット払戻について】\n新型コロナウィルスの影響により公演を延期といたしました 3月25日「金子みすゞ没後90年ちひろコンサート・横浜公演」について \n以下の通りチケットの払戻しをいたします。 \nお買い求めくださった皆様にはお手数をおかけいたしますが、お手続きの程よろしくお願い申し上げます。 \n【　ぴあ ＜セブンイレブン等＞ Pコード：174323  興行コード：1959721　】\n●払戻受付期間：　2020年3月10日（火）～6月10日（水）まで \n●払戻場所：　発券したコンビニにて \n※払戻時、お手元に発券したチケットが必要となります \n詳しくはこちら \n【　ローソンチケット ＜ローソン・ミニストップ等＞ Ｌコード：74494　】\n●払戻受付期間：　2020年3月11日（水）10：00～4月10日（金）23：00まで \n●払戻場所：　ローソンやミニストップ等のLoppiのあるコンビニ \n※払戻時、お手元に発券したチケットが必要となります \n詳しくはこちら（Loppiの操作方法を記載） \n  \nご不明な点がございましたら(株)ベルミューズ＜電話083-920-4277＞までお問合せくださいませ。 \n  \n  \n【Title】「金子みすゞ没後90年」 ちひろコンサート ～金子みすゞを語り、歌う。～\n●と　き：　3月25日（水） \n●ところ：　横浜市大倉山記念館 ホール（横浜市港北区大倉山2丁目10-1）　★「横浜市指定有形文化財」 \n※会場の地図はこちら \n●時　間：　開場／18：00　開演／18：30 \n●チケット発売日：　一般発売　1月12日（日）午前10：00～ \n●チケット：　前売／4\,000円（税込）　当日／4\,500円　 \n●席　種：　全席自由 \n●プレイガイド：　全国のセブンイレブン・ローソン・ミニストップ・サークルK・サンクス・ぴあ店舗にてご購入いただけます \n＜  ローソンチケット（Lコード： 74494） ※ご購入ページ　＞ \n＜　チケットぴあ（Pコード： 174323） ※ご購入ページ　＞ \n★電話予約／0570-02-9999 \n＜　株式会社ベルミューズ　＞ \n★電話予約／083-920-4277 \n●お問合せ：　株式会社ベルミューズ（電話／083-920-4277） \nPDFはこちら（表） \nPDFはこちら（裏）
URL:https://chihirosound.com/event/6625
LOCATION:横浜市大倉山記念館\, 横浜市港北区大倉山２丁目１０−１\, 横浜市\, 神奈川\, 222-0037\, Japan
CATEGORIES:コンサート
ATTACH;FMTTYPE=image/jpeg:https://chihirosound.com/wp-content/uploads/2020/02/1px.jpg
END:VEVENT
BEGIN:VEVENT
DTSTART;TZID=Asia/Tokyo:20200323T190000
DTEND;TZID=Asia/Tokyo:20200323T203000
DTSTAMP:20260423T070252
CREATED:20200203T160037Z
LAST-MODIFIED:20200305T125751Z
UID:6775-1584990000-1584995400@chihirosound.com
SUMMARY:【延期】Special CONCERT〔東京都大田区〕
DESCRIPTION:【ちひろコンサート延期のお知らせ】\n\n新型コロナウィルス感染拡大防止について考慮いたしました結果、予定をしておりました3月23日「ちひろ名曲コンサートin木砂砂」は、延期をすることといたしました。 \n公演を楽しみにして下さっておりました皆様には大変申し訳なく存じますが、何卒ご理解の程よろしくお願い申し上げます。 \nなお、延期の期日は未定でございます。 \nこの様な形でのご案内となり、皆様には大変ご迷惑をおかけいたしますが、何卒ご了承くださいますようお願い申し上げます。 \n \n【Title】ちひろ名曲コンサート in 木砂砂\n●と　き：　3月23日（月） \n●ところ：　木砂砂（東京都大田区西蒲田7丁目7-7） \n※会場の地図はこちら \n●時　間：　OPEN／午後6：30　START／午後7：00～ \n●チケット：　6\,000円（税込）　フリードリンク・軽食・コンサートの料金が含まれています♪ \n●お申込・お問合せ：　木砂砂（電話／03-3732-0732）株式会社ベルミューズ（電話／083-920-4277） \nPDFはこちら
URL:https://chihirosound.com/event/6775
LOCATION:木砂砂\, 東京都大田区西蒲田７丁目７−７\, 大田区\, 東京都\, 144-0051\, Japan
CATEGORIES:コンサート
ATTACH;FMTTYPE=image/jpeg:https://chihirosound.com/wp-content/uploads/2020/02/1px.jpg
END:VEVENT
BEGIN:VEVENT
DTSTART;TZID=Asia/Tokyo:20200312T133000
DTEND;TZID=Asia/Tokyo:20200312T143000
DTSTAMP:20260423T070252
CREATED:20191217T013518Z
LAST-MODIFIED:20200203T155729Z
UID:6563-1584019800-1584023400@chihirosound.com
SUMMARY:Concert〔山口県〕
DESCRIPTION:【Title】ちひろミニコンサート\n●と　き：　3月12日（木） \n●ところ：　本能寺 本堂（山口県岩国市岩国1丁目13-12） \n※会場の地図はこちら \n●時　間：　午後1：30～ \n●入場料：　500円 \n●対　象：　どなたでもOK \n●主　催：　本能寺仏教婦人会「れんげかい」 \nPDFはこちら
URL:https://chihirosound.com/event/6563
LOCATION:本能寺\, 山口県岩国市岩国１丁目１３−１２\, 岩国市\, 山口県\, 741-0062\, Japan
CATEGORIES:オススメ,コンサート
ATTACH;FMTTYPE=image/jpeg:https://chihirosound.com/wp-content/uploads/2019/12/0001-2-scaled.jpg
END:VEVENT
BEGIN:VEVENT
DTSTART;TZID=Asia/Tokyo:20200307T190000
DTEND;TZID=Asia/Tokyo:20200307T192000
DTSTAMP:20260423T070252
CREATED:20200226T022427Z
LAST-MODIFIED:20200407T160011Z
UID:7060-1583607600-1583608800@chihirosound.com
SUMMARY:【中止】Stage〔山口県〕
DESCRIPTION:【交流会中止のお知らせ】\n\n新型コロナウィルス感染拡大防止の影響があり交流会は中止となりました。 \n楽しみにして下さっておりました皆様には大変申し訳なく存じますが、何卒ご理解の程よろしくお願い申し上げます。 \n【Title】「第23回みすゞコスモス 交流会」ちひろステージ\n●と　き：　3月7日（土） \n●ところ：　大谷山荘（山口県長門市） \n●時　間：　午後7：00～ \n●対　象：　関係者のみ
URL:https://chihirosound.com/event/7060
LOCATION:和歌山県
CATEGORIES:other,コンサート,その他
END:VEVENT
BEGIN:VEVENT
DTSTART;TZID=Asia/Tokyo:20200221T104000
DTEND;TZID=Asia/Tokyo:20200221T120000
DTSTAMP:20260423T070252
CREATED:20190704T143815Z
LAST-MODIFIED:20200219T012315Z
UID:5619-1582281600-1582286400@chihirosound.com
SUMMARY:Concert〔山口県〕
DESCRIPTION:【Title】「重安しあわせ学校」\nちひろトーク&コンサート ～金子みすゞ 愛のメッセージ～\n\n●と　き：　2月21日（金） \n●ところ：　美祢市立重安小学校 体育館（山口県美祢市大嶺町北分976） \n※会場の地図はこちら \n●時　間：　午前10：40～12：00 \n●対　象：　児童、保護者、地域の方どなたでもOK \n●入場料：　無料
URL:https://chihirosound.com/event/5619
LOCATION:美祢市立重安小学校\, 山口県美祢市大嶺町北分976\, 美祢市\, 山口県\, 759-2211\, Japan
CATEGORIES:オススメ,コンサート
ORGANIZER;CN="%E7%BE%8E%E7%A5%A2%E5%B8%82%E7%AB%8B%E9%87%8D%E5%AE%89%E5%B0%8F%E5%AD%A6%E6%A0%A1":MAILTO:sige-e@c-able.ne.jp
END:VEVENT
BEGIN:VEVENT
DTSTART;TZID=Asia/Tokyo:20200215T140000
DTEND;TZID=Asia/Tokyo:20200215T153000
DTSTAMP:20260423T070252
CREATED:20191114T100548Z
LAST-MODIFIED:20191114T100548Z
UID:6356-1581775200-1581780600@chihirosound.com
SUMMARY:Concert〔大分県〕
DESCRIPTION:【Title】第47回親鸞さま鑽仰のつどい\n\nちひろトーク＆コンサート お念仏の心～金子みすゞのまなざし～\n\n●と　き：　2月15日（土）\n\n●ところ：　別府市公会堂（大分県別府市上田の湯町6-37）\n\n※会場の地図はこちら\n\n●時　間：　午後12時／受付　　1時／開会式　　2時／トーク＆コンサート　　4時／終了\n\n●対　象：　どなたでもご参加可能です\n\n●入場料：　500円\n\n●主　催：　第47回親鸞さま鑽仰のつどい実行委員会、浄土真宗本願寺派大分教区速見組、門徒総代会・仏教婦人会・仏教壮年会\n\nPDFはこちら
URL:https://chihirosound.com/event/6356
LOCATION:別府市公会堂\, 大分県別府市上田の湯町６−３７\, 別府市\, 大分県\, 874-0908\, Japan
CATEGORIES:オススメ,コンサート
ATTACH;FMTTYPE=image/jpeg:https://chihirosound.com/wp-content/uploads/2019/11/001.jpg
END:VEVENT
BEGIN:VEVENT
DTSTART;TZID=Asia/Tokyo:20200214T133000
DTEND;TZID=Asia/Tokyo:20200214T141000
DTSTAMP:20260423T070252
CREATED:20191120T040006Z
LAST-MODIFIED:20200203T132513Z
UID:6374-1581687000-1581689400@chihirosound.com
SUMMARY:Concert〔大分県〕
DESCRIPTION:【Title】心をむすぶ❤ふれ愛コンサート「ちひろCONCERT」\n●と　き：　2月14日（金） \n●ところ：　医療法人慈愛会　向井病院（大分県別府市） \n●時　間：　午後1：30～ \n●対　象：　関係者の方々
URL:https://chihirosound.com/event/6374
LOCATION:和歌山県
CATEGORIES:コンサート
END:VEVENT
BEGIN:VEVENT
DTSTART;TZID=Asia/Tokyo:20200208T104500
DTEND;TZID=Asia/Tokyo:20200208T120000
DTSTAMP:20260423T070252
CREATED:20190719T100704Z
LAST-MODIFIED:20200204T022338Z
UID:5694-1581158700-1581163200@chihirosound.com
SUMMARY:Concert〔福岡市西区〕
DESCRIPTION:【Title】人権講座 　金子みすゞを語り、歌う。「ちひろコンサート」\n～みんなちがって、みんないい生き方を～\n●と　き：　2月8日（土） \n●ところ：　いとぽっぽ保育園 「いと楽し」地域交流ホール（福岡市西区徳永北1番52号） \n※会場の地図はこちら \n●時　間：　午前10：45～12：00 \n●対　象：　保護者、地域、一般どなたでもOK \n●入場料：　無料 \n●お問合せ：　電話／092-802-0704　FAX／092-802-0730 \nPDFはこちら
URL:https://chihirosound.com/event/5694
LOCATION:いとぽっぽ保育園\, 福岡市西区徳永北1番52号\, 福岡市\, 福岡県\, 819-0378\, Japan
CATEGORIES:オススメ,コンサート
ATTACH;FMTTYPE=image/jpeg:https://chihirosound.com/wp-content/uploads/2019/12/0001-scaled.jpg
END:VEVENT
BEGIN:VEVENT
DTSTART;TZID=Asia/Tokyo:20200115T110000
DTEND;TZID=Asia/Tokyo:20200115T120000
DTSTAMP:20260423T070252
CREATED:20191201T135942Z
LAST-MODIFIED:20191231T112129Z
UID:6474-1579086000-1579089600@chihirosound.com
SUMMARY:Concert〔北九州市門司区〕
DESCRIPTION:【Title】三光寺「新年の集い」金子みすゞを語り、歌う ”ちひろコンサート”\n●と　き：　1月15日（水） \n●ところ：　三光寺 本堂（北九州市門司区老松町12-3） \n※会場の地図はこちら \n●時　間：　開場：午前10：30　開演：11：00 \n●対　象：　関係者、地域の方、どなたでもＯＫ \nPDFはこちら
URL:https://chihirosound.com/event/6474
LOCATION:三光寺\, 北九州市門司区老松町１２−３\, 北九州市\, 福岡県\, 01-0864\, Japan
CATEGORIES:オススメ,コンサート
ATTACH;FMTTYPE=image/jpeg:https://chihirosound.com/wp-content/uploads/2019/12/0001-1-scaled.jpg
END:VEVENT
BEGIN:VEVENT
DTSTART;TZID=Asia/Tokyo:20191222T183000
DTEND;TZID=Asia/Tokyo:20191222T201500
DTSTAMP:20260423T070252
CREATED:20190909T015348Z
LAST-MODIFIED:20191217T042951Z
UID:5988-1577039400-1577045700@chihirosound.com
SUMMARY:X'mas Concert〔山口県〕
DESCRIPTION:【御礼】おかげさまでチケット完売となりました！お申込ご希望の方は追加席を検討いたしますので、早めにベルミューズまでご連絡くださいませ！\n \n【Title】ちひろ Christmas  CONCERT\n●と　き：　12月22日（日） \n●ところ：　ムーランルージュ（山口県周南市大字下上土井955−3） \n※会場の地図はこちら \n※ムーランルージュは老舗ジャズ喫茶カルチェラタンの姉妹店です \n●時　間：　18：00／開場　18：30／開演 \n●チケット発売日：　一般発売　11月1日（金）午前10：00～ \n●チケット：　4\,000円（税込）　※ケーキセット（コーヒーor紅茶）付 \n●席　種：　全席自由（30席限定） \n●プレイガイド：　全国のセブンイレブン・ローソン・ミニストップ・サークルK・サンクス・ぴあ店舗にてご購入いただけます \n＜  ローソンチケット（Lコード： 61348）※webへアクセス（ご購入ページ）10月25日～　＞ \n★電話予約／0570-084-003\n※ コンピュータ受付、プッシュ回線専用です。ご予約の際は、Lコードが必要です。\n※ 24時間対応（但し発売日初日はAM10：00～）\n★お問合せ専用／0570-000-777(10：00～20：00) \n＜　チケットぴあ（Pコード： 168787） ※webへアクセス（ご購入ページ）10月25日～　＞ \n★電話予約／0570-02-9999 \n＜　ムーランルージュ　＞ \n★お問い合わせ／0834-63-5505 \n＜　株式会社ベルミューズ　＞ \n★電話予約／083-920-4277 \n●お問合せ：　株式会社ベルミューズ（電話／083-920-4277） \nPDFはこちら（表） \nPDFはこちら（裏）
URL:https://chihirosound.com/event/5988
LOCATION:ムーランルージュ\, 山口県周南市大字下上土井955−3\, 周南市\, 山口県\, 746-0082\, Japan
CATEGORIES:オススメ,コンサート
ATTACH;FMTTYPE=image/jpeg:https://chihirosound.com/wp-content/uploads/2019/10/chihiro-XmasConShunan-Fomote.jpg
END:VEVENT
BEGIN:VEVENT
DTSTART;TZID=Asia/Tokyo:20191215T133000
DTEND;TZID=Asia/Tokyo:20191215T153000
DTSTAMP:20260423T070252
CREATED:20191026T023641Z
LAST-MODIFIED:20191205T141326Z
UID:6255-1576416600-1576423800@chihirosound.com
SUMMARY:Concert〔山口県〕
DESCRIPTION:【Title】Love & Peace ～未来へつなぐ命の育み～　ちひろミニコンサート\n●と　き：　12月15日（日） \n●ところ：　上関総合文化センター 多目的ホール（山口県熊毛郡上関町大字室津904-15） \n※会場の地図はこちら \n●時　間：　開場／13：00　開会・開演／13：30～ \n●対　象：　どなたでもOK \n●入場料：　無料 \n●主　催：　Love & Peace実行委員会 \n●後　援：　上関町教育委員会、平生町教育委員会、上関社会福祉協議会、上関町観光協会 \n●お問合せ：　0120-49-5657
URL:https://chihirosound.com/event/6255
LOCATION:上関町総合文化センター\, 山口県熊毛郡上関町大字室津９０４−１５\, 上関町\, 山口県\, 742-1403\, Japan
CATEGORIES:オススメ,コンサート
ATTACH;FMTTYPE=image/jpeg:https://chihirosound.com/wp-content/uploads/2019/12/71458.jpg
END:VEVENT
BEGIN:VEVENT
DTSTART;TZID=Asia/Tokyo:20191214T133000
DTEND;TZID=Asia/Tokyo:20191214T150000
DTSTAMP:20260423T070252
CREATED:20191008T094433Z
LAST-MODIFIED:20191113T063638Z
UID:6081-1576330200-1576335600@chihirosound.com
SUMMARY:Concert〔三重県〕
DESCRIPTION:【Title】「人権／文化お月見フェスタ2019」\nちひろトーク＆コンサート～みんなちがって、みんないい生き方を～\n●と　き：　12月14日（土）\n\n●ところ：　四日市市立塩浜小学校 体育館（三重県四日市市塩浜町1）\n\n※会場の地図はこちら\n\n●時　間：　13：30～\n\n●対　象：　どなたでもOK\n\n●入場料：　300円（菓子・お茶付き）\n\n●主　催：　塩浜地区社会福祉協議会／人権部／文化広報部\n\n●協　賛：　四日市市人権・同和教育推進業務委託 広域事業\n\nPDFはこちら（表）\n\nPDFはこちら（裏）
URL:https://chihirosound.com/event/6081
LOCATION:四日市市立塩浜小学校\, 三重県四日市市塩浜町１\, 四日市市\, 三重県\, 510-0851\, Japan
CATEGORIES:オススメ,コンサート
ATTACH;FMTTYPE=image/jpeg:https://chihirosound.com/wp-content/uploads/2019/10/0001-2.jpg
END:VEVENT
BEGIN:VEVENT
DTSTART;TZID=Asia/Tokyo:20191210T173000
DTEND;TZID=Asia/Tokyo:20191210T211500
DTSTAMP:20260423T070252
CREATED:20190821T141636Z
LAST-MODIFIED:20191207T160853Z
UID:5893-1575999000-1576012500@chihirosound.com
SUMMARY:X'mas Dinner Concert〔東京都港区〕
DESCRIPTION:おかげさまで定数に達し、お申し込みを締め切らせていただきました。\n誠に有難うございました！\n \n【Title】ちひろ Christmas Dinner CONCERT\n●と　き：　12月10日（火） \n●ところ：　マーヴェラス パラディ白金（東京都港区白金6丁目4-3 マーヴェラスガーデンコートB1F） \n※会場の地図はこちら \n●時　間：　 \n・17：30／Open *ウェルカムドリンク \n・18：30／お食事 *フレンチコース料理 \n・19：20／コンサート \n・21：15／終演予定 \n●チケット発売日：　一般発売　9月14日（土）午前10：00～ \n●チケット：　12\,000円（税込）　※コンサート・ウェルカムドリンク・フルコース料理込み \n（お申込は12月5日（木）まで。当日券はございません。） \n●席　種：　当日指定 \n●プレイガイド： \n■マーヴェラス パラディ白金 \n★電話お問合せ／03-6450-3998 \n全国のセブンイレブン・ローソン・ミニストップ・サークルK・サンクス・ぴあ店舗にてご購入いただけます \n■ローソンチケット（Lコード： 73391）※webへアクセス（ご購入ページ）9月14日～ \n★電話予約／0570-084-003\n※ コンピュータ受付、プッシュ回線専用です。ご予約の際は、Lコードが必要です。\n※ 24時間対応（但し発売日初日はAM10：00～）\n★お問合せ専用／0570-000-777(10：00～20：00) \n■チケットぴあ（Pコード： 164065） ※webへアクセス（ご購入ページ）9月14日～ \n★電話予約／0570-02-9999 \n■株式会社ベルミューズ \n★電話予約／083-920-4277 \n●お問合せ：　株式会社ベルミューズ（電話／083-920-4277） \nPDFはこちら（表） \nPDFはこちら（裏）
URL:https://chihirosound.com/event/5893
LOCATION:マーヴェラス パラディ白金\, 東京都港区白金６丁目４−３ マーヴェラスガーデンコートB1F\, 港区\, 東京都\, 108-0072\, Japan
CATEGORIES:オススメ,コンサート
ATTACH;FMTTYPE=image/jpeg:https://chihirosound.com/wp-content/uploads/2019/09/0001.jpg
END:VEVENT
BEGIN:VEVENT
DTSTART;TZID=Asia/Tokyo:20191208T140000
DTEND;TZID=Asia/Tokyo:20191208T153000
DTSTAMP:20260423T070252
CREATED:20190629T121529Z
LAST-MODIFIED:20191028T062840Z
UID:5449-1575813600-1575819000@chihirosound.com
SUMMARY:Concert〔大阪府〕
DESCRIPTION:【Title】第43回「いのち・愛・人権」市民の集い　ちひろトーク＆コンサート\nみんなちがって、みんないい生き方を ～金子みすゞの心とともに～\n●と　き：　12月8日（日）\n\n●ところ：　和泉市コミュニティセンター 3F 多目的ホール（大阪府和泉市府中町2丁目7-5）\n\n※会場の地図はこちら\n\n●時　間：　午後1：30／開場　　午後2：00～／開演\n\n●対　象：　どなたでもOK　定員300名（先着順・事前申込必要）\n\n●お申込方法：　電話（0725-99-8115）、FAX（0725-45-3128）、Eメール（和泉市ホームページの送信フォーム）にて「市民の集い希望」と明記し、住所・氏名（全員の氏名を記載）・電話番号を記入のうえ、11月5日（火）から定員に達するまで和泉市役所人権・男女参画室にて受付\n\n●入場料：　無料\n\n●主　催：　和泉市、和泉市人権啓発推進協議会、和泉市人権協会、岸和田人権擁護委員協議会和泉市地区委員会\n\nPDFはこちら
URL:https://chihirosound.com/event/5449
LOCATION:和泉市コミュニティセンター\, 大阪府和泉市府中町2丁目7-5\, 和泉市\, 大阪府\, 594-0071\, Japan
CATEGORIES:オススメ,コンサート
ATTACH;FMTTYPE=image/jpeg:https://chihirosound.com/wp-content/uploads/2019/10/0fa2300bf22fd7b38d63500586cba0c0.jpg
END:VEVENT
BEGIN:VEVENT
DTSTART;TZID=Asia/Tokyo:20191129T134000
DTEND;TZID=Asia/Tokyo:20191129T152000
DTSTAMP:20260423T070252
CREATED:20191024T013137Z
LAST-MODIFIED:20191024T013137Z
UID:6178-1575034800-1575040800@chihirosound.com
SUMMARY:Concert〔広島県〕
DESCRIPTION:【Title】三次市立三次中学校「令和元年度ＰＴＡ教育講演会」ちひろトーク＆コンサート\nみんなちがって、みんないい生き方を ～金子みすゞの心とともに～\n●と　き：　11月29日（金）\n\n●ところ：　三次ふれあい会館　1階 大ホール（広島県三次市三次町1828番地5）\n\n※会場の地図はこちら\n\n●時　間：　午後1：10／受付　　1：40～3：20／コンサート\n\n●対　象：　生徒、保護者、教職員、地域住民の方どなたでもOK
URL:https://chihirosound.com/event/6178
LOCATION:三次ふれあい会館\, 広島県三次市三次町1828番地5\, 三次市\, 広島県\, 728-0021\, Japan
CATEGORIES:オススメ,コンサート
END:VEVENT
BEGIN:VEVENT
DTSTART;TZID=Asia/Tokyo:20191124T140000
DTEND;TZID=Asia/Tokyo:20191124T161500
DTSTAMP:20260423T070252
CREATED:20190511T070136Z
LAST-MODIFIED:20191010T025638Z
UID:5139-1574604000-1574612100@chihirosound.com
SUMMARY:Concert〔長野県〕
DESCRIPTION:【Title】”人権の花”トーク＆コンサート ～金子みすゞの心とともに～\nちひろコンサート 金子みすゞ 愛のメッセージ\n●と　き：　11月24日（日）\n\n●ところ：　箕輪町文化センター ホール（長野県上伊那郡箕輪町大字中箕輪10291）\n\n※会場の地図はこちら\n\n●時　間：　13：00／開場　13：30／第1部　人権の花 活動発表　14：00／第2部　矢崎節夫 講演会　ちひろコンサート\n\n●入場料：　無料（全席指定）\n\n●入場券：　10月8日（火）10：00～文化センターにて入場券を配布\n\n●お問合せ：　箕輪町教育委員会文化スポーツ課（0265-70-6601）\n\n●主　催：　伊那地域人権啓発活動ネットワーク協議会\n\n●共　催：　箕輪町、箕輪町教育委員会、箕輪町人権尊重のまちづくり審議会、伊那人権擁護委員協議会\n\n●後　援：　みのわ新聞社、長野日報社、信濃毎日新聞社、伊那ケーブルビジョン\n\nPDFはこちら
URL:https://chihirosound.com/event/5139
LOCATION:箕輪町文化センター\, 〒399-4601 長野県上伊那郡箕輪町大字中箕輪10291\, 箕輪町\, 長野県\, 399-4601\, Japan
CATEGORIES:オススメ,コンサート
ATTACH;FMTTYPE=image/jpeg:https://chihirosound.com/wp-content/uploads/2019/05/0001-1.jpg
END:VEVENT
BEGIN:VEVENT
DTSTART;TZID=Asia/Tokyo:20191119T101500
DTEND;TZID=Asia/Tokyo:20191119T120000
DTSTAMP:20260423T070252
CREATED:20190708T040629Z
LAST-MODIFIED:20191024T015138Z
UID:5638-1574158500-1574164800@chihirosound.com
SUMMARY:Concert〔福岡市西区〕
DESCRIPTION:【Title】ちひろ人権コンサート \nみんなちがって、みんないい生き方を ～金子みすゞの心とともに～\n●と　き：　11月19日（火）\n\n●ところ：　福岡市立愛宕浜小学校 体育館（福岡市西区愛宕浜4丁目42-1）\n\n※会場の地図はこちら\n\n●時　間：　午前10：00／開場　10：15／開演　1部 10：15～10：45／小学5、6年生と地域の皆様　2部 11：00～12：00／地域の皆様\n\n●対　象：　児童、地域の皆様どなたでもOK\n\n●入場料：　無料\n\n●主　催：　校区人権推進協議会、福岡市立愛宕浜小学校PTA研修委員会\n\nPDFはこちら\n\n\n 
URL:https://chihirosound.com/event/5638
LOCATION:福岡市立愛宕浜小学校\, 福岡市西区愛宕浜4丁目42-1\, 福岡市\, 福岡県\, 819-0013\, Japan
CATEGORIES:オススメ,コンサート
ATTACH;FMTTYPE=image/jpeg:https://chihirosound.com/wp-content/uploads/2019/10/0001-1.jpg
END:VEVENT
BEGIN:VEVENT
DTSTART;TZID=Asia/Tokyo:20191117T101000
DTEND;TZID=Asia/Tokyo:20191117T114000
DTSTAMP:20260423T070252
CREATED:20190511T070030Z
LAST-MODIFIED:20191105T100249Z
UID:5137-1573985400-1573990800@chihirosound.com
SUMMARY:Concert〔福岡県〕
DESCRIPTION:【Title】「第17回 豊前市南ブロック 人権のつどい」ちひろ人権コンサート\nみんなちがって、みんないい生き方を ～金子みすゞの心とともに～\n●と　き：　11月17日（日）\n\n●ところ：　豊前市立横武小学校 体育館（福岡県豊前市薬師寺221-1）\n\n※会場の地図はこちら\n\n●時　間：　開場／8：30　開会／9：00　ちひろコンサート／10：10～11：40　閉会／11：50\n\n●対　象：　どなたでもOK\n\n●入場料：　無料\n\n●主　催：　豊前市南ブロック人権のつどい実行委員会\n\n●お問合せ：　横武公民館（0979-82-2669）\n\nPDFはこちら
URL:https://chihirosound.com/event/5137
LOCATION:豊前市立横武小学校\, 福岡県豊前市薬師寺221-1\, 豊前市\, 福岡県\, 828-0056\, Japan
CATEGORIES:オススメ,コンサート
ATTACH;FMTTYPE=image/jpeg:https://chihirosound.com/wp-content/uploads/2019/10/0001.jpg
END:VEVENT
BEGIN:VEVENT
DTSTART;TZID=Asia/Tokyo:20191116T203000
DTEND;TZID=Asia/Tokyo:20191116T205000
DTSTAMP:20260423T070252
CREATED:20190704T143610Z
LAST-MODIFIED:20191026T013303Z
UID:5617-1573936200-1573937400@chihirosound.com
SUMMARY:出演〔山口県〕
DESCRIPTION:【Title】ちひろ出演\n\n●と　き：　11月16日（土）\n\n●ところ：　山口県防府市\n\n●時　間：　午後8：30～\n\n●対　象：　関係者のみ
URL:https://chihirosound.com/event/5617
LOCATION:和歌山県
CATEGORIES:コンサート,その他
END:VEVENT
BEGIN:VEVENT
DTSTART;TZID=Asia/Tokyo:20191109T101000
DTEND;TZID=Asia/Tokyo:20191109T112000
DTSTAMP:20260423T070252
CREATED:20190704T143349Z
LAST-MODIFIED:20191026T013020Z
UID:5615-1573294200-1573298400@chihirosound.com
SUMMARY:Concert〔山口県〕
DESCRIPTION:【Title】人権教育講演会　ちひろ人権コンサート　\n\nみんなちがって、みんないい生き方を　～金子みすゞの心とともに～\n\n●と　き：　11月9日（土）\n\n●ところ：　防府市立国府中学校 体育館（山口県防府市国衙5丁目11-19）\n\n※会場の地図はこちら\n\n●時　間：　午前9：55／開場・生徒入場　　10：10～11：20／コンサート\n\n●対　象：　生徒、教職員、保護者、地域の方どなたでもOK
URL:https://chihirosound.com/event/5615
LOCATION:防府市立国府中学校\, 山口県防府市国衙5丁目11-19\, 防府市\, 山口県\, 747-0024\, Japan
CATEGORIES:オススメ,コンサート
END:VEVENT
BEGIN:VEVENT
DTSTART;TZID=Asia/Tokyo:20191101T173000
DTEND;TZID=Asia/Tokyo:20191101T183000
DTSTAMP:20260423T070252
CREATED:20190511T065837Z
LAST-MODIFIED:20191026T011706Z
UID:5133-1572629400-1572633000@chihirosound.com
SUMMARY:Concert〔岐阜県〕
DESCRIPTION:【Title】ちひろコンサート\n●と　き：　11月1日（金）\n\n●ところ：　大垣フォーラムホテル（岐阜県大垣市）\n\n●時　間：　午後5：30～\n\n●対　象：　関係者のみ
URL:https://chihirosound.com/event/5133
LOCATION:和歌山県
CATEGORIES:コンサート
END:VEVENT
BEGIN:VEVENT
DTSTART;TZID=Asia/Tokyo:20191101T133000
DTEND;TZID=Asia/Tokyo:20191101T141500
DTSTAMP:20260423T070252
CREATED:20190511T065932Z
LAST-MODIFIED:20190620T091643Z
UID:5135-1572615000-1572617700@chihirosound.com
SUMMARY:Concert〔岐阜県〕
DESCRIPTION:【Title】時代を超えて こころをつなぐ\nちひろコンサート ～金子みすゞのこころとともに～\n●と　き：　11月1日（金）\n\n●ところ：　まさきこども園 れいんぼー館２階 遊戯室（岐阜県羽島市正木町坂丸2丁目30）\n\n※会場の地図はこちら\n\n●時　間：　13：00／開場　13：30／開演\n\n●対　象：　児童、保護者、関係者、一般の方どなたでもOK\n\n●入場料：　無料\n\nPDFはこちら
URL:https://chihirosound.com/event/5135
LOCATION:社会福祉法人 まさきこども園\, 岐阜県羽島市正木町坂丸２丁目３０\, 羽島市\, 岐阜県\, 501-6229\, Japan
CATEGORIES:オススメ,コンサート
ATTACH;FMTTYPE=image/jpeg:https://chihirosound.com/wp-content/uploads/2019/05/7a09a16be2fa89e227843dc3dafde187.jpg
END:VEVENT
BEGIN:VEVENT
DTSTART;TZID=Asia/Tokyo:20191027T100500
DTEND;TZID=Asia/Tokyo:20191027T103500
DTSTAMP:20260423T070252
CREATED:20190704T143152Z
LAST-MODIFIED:20191007T045542Z
UID:5613-1572170700-1572172500@chihirosound.com
SUMMARY:Concert〔北九州市門司区〕
DESCRIPTION:【Title】「老松市民センター 文化祭」ちひろコンサート\n\n●と　き：　10月27日（日）\n\n●ところ：　老松市民センター（北九州市門司区庄司町4-16）\n\n※会場の地図はこちら\n\n●時　間：　10：05～10：35\n\n●入場料：　無料\n\n●対　象：　どなたでもOK\n\n●主催・お問合せ：　老松市民センター（電話/093-332-0889）\n\nPDFはこちら
URL:https://chihirosound.com/event/5613
LOCATION:老松市民センター\, 福岡県北九州市門司区庄司町４−１６\, 北九州\, 福岡県\, 801-0865\, Japan
CATEGORIES:オススメ,コンサート
ATTACH;FMTTYPE=image/jpeg:https://chihirosound.com/wp-content/uploads/2019/10/f502abbf5c628016a676e02ee6dad48e.jpg
END:VEVENT
BEGIN:VEVENT
DTSTART;TZID=Asia/Tokyo:20191013T120000
DTEND;TZID=Asia/Tokyo:20191013T130000
DTSTAMP:20260423T070252
CREATED:20190821T141222Z
LAST-MODIFIED:20190930T120130Z
UID:5891-1570968000-1570971600@chihirosound.com
SUMMARY:Stage〔山口県〕
DESCRIPTION:【Title】”KRY秋まつり2019”　ラジオ公開生放送 ラジオ番組対抗「KRY秋まつりーぐ2019」\nちひろ出演\n●と　き：　10月13日（日）\n\n●ところ：　下松タウンセンター 中央広場一帯（山口県下松市中央町21-3）\n\n※会場の地図はこちら\n\n●時　間：　12：00～13：00（ちひろ出演）\n\n※イベントは12日（土）・13日（日）の2日間開催！\n\n●イベントページ：　こちらから\n\n●対　象：　どなたでもOK\n\n●入場料：　無料\n\n●着席観覧エリアお申込：　ご希望の方はこちらから（抽選申込）\n\n●主　催：　KRY山口放送
URL:https://chihirosound.com/event/5891
LOCATION:ゆめタウン下松\, 山口県下松市中央町21-3\, 下松市\, 山口県\, 744-0025\, Japan
CATEGORIES:オススメ,コンサート
END:VEVENT
BEGIN:VEVENT
DTSTART;TZID=Asia/Tokyo:20191012T133000
DTEND;TZID=Asia/Tokyo:20191012T153000
DTSTAMP:20260423T070252
CREATED:20190704T143022Z
LAST-MODIFIED:20191010T022706Z
UID:5611-1570887000-1570894200@chihirosound.com
SUMMARY:Concert〔三重県〕
DESCRIPTION:【延期のお知らせ】台風19号の影響によりイベント開催が12月14日（土）に延期となりました。何卒ご了承くださいませ。\n \n【Title】「人権／文化お月見フェスタ2019」\nちひろトーク＆コンサート～みんなちがって、みんないい生き方を～\n●と　き：　10月12日（土）\n\n●ところ：　四日市市立塩浜小学校 体育館（三重県四日市市塩浜町1）\n\n※会場の地図はこちら\n\n●時　間：　13：30～\n\n●対　象：　どなたでもOK\n\n●入場料：　300円（菓子・お茶付き）\n\n●主　催：　塩浜地区社会福祉協議会／人権部／文化広報部\n\n●協　賛：　四日市市人権・同和教育推進業務委託 広域事業\n\nPDFはこちら（表）\n\nPDFはこちら（裏）
URL:https://chihirosound.com/event/5611
LOCATION:四日市市立塩浜小学校\, 三重県四日市市塩浜町１\, 四日市市\, 三重県\, 510-0851\, Japan
CATEGORIES:コンサート
ATTACH;FMTTYPE=image/jpeg:https://chihirosound.com/wp-content/uploads/2019/09/0001-2.jpg
END:VEVENT
BEGIN:VEVENT
DTSTART;TZID=Asia/Tokyo:20191006T150000
DTEND;TZID=Asia/Tokyo:20191006T152000
DTSTAMP:20260423T070252
CREATED:20190821T140909Z
LAST-MODIFIED:20190821T140909Z
UID:5889-1570374000-1570375200@chihirosound.com
SUMMARY:Stage〔山口県〕
DESCRIPTION:【Title】ちひろゲスト出演\n●と　き：　10月6日（日）\n\n●ところ：　山口県山口市\n\n●時　間：　午後3：00頃～\n\n●対　象：　関係者のみ
URL:https://chihirosound.com/event/5889
LOCATION:和歌山県
CATEGORIES:コンサート
END:VEVENT
BEGIN:VEVENT
DTSTART;TZID=Asia/Tokyo:20191001T160000
DTEND;TZID=Asia/Tokyo:20191001T170000
DTSTAMP:20260423T070252
CREATED:20190704T142757Z
LAST-MODIFIED:20191001T135355Z
UID:5609-1569945600-1569949200@chihirosound.com
SUMMARY:Concert〔東京都品川区〕
DESCRIPTION:【Title】城南信用金庫 支店長会　ちひろコンサート\n●と　き：　10月1日（火）\n\n●ところ：　城南信用金庫（東京都品川区）\n\n●時　間：　午後4：00～\n\n●対　象：　関係者のみ
URL:https://chihirosound.com/event/5609
LOCATION:和歌山県
CATEGORIES:コンサート
END:VEVENT
BEGIN:VEVENT
DTSTART;TZID=Asia/Tokyo:20190928T140000
DTEND;TZID=Asia/Tokyo:20190928T153000
DTSTAMP:20260423T070252
CREATED:20190720T025742Z
LAST-MODIFIED:20190908T032153Z
UID:5696-1569679200-1569684600@chihirosound.com
SUMMARY:Concert〔佐賀県〕
DESCRIPTION:【Title】嬉野市人権啓発講演会（人権啓発活動地方委託事業）\nちひろトーク＆コンサート～金子みすゞの心とともに～\n●と　き：　9月28日（土）\n\n●ところ：　リバティ＜嬉野市社会文化会館＞（佐賀県嬉野市塩田町大字五町田甲628番地4）\n\n※会場の地図はこちら\n\n●時　間：　14：00～15：30（13：30開場）\n\n●対　象：　どなたでもＯＫ\n\n●入場料：　無料\n\n●手話通訳：　有\n\n●託児サービス：　有（9月20日までにお電話またはメールにてお申込ください）\n\n●主　催：　嬉野市\n\n●お問合せ：　文化・スポーツ振興課＜塩田公民館内＞（電話・FAX／0954-66-9129）
URL:https://chihirosound.com/event/5696
LOCATION:嬉野市社会文化会館リバティ\, 佐賀県嬉野市塩田町大字五町田甲６２８\, 嬉野市\, 佐賀県\, 843-0300\, Japan
CATEGORIES:オススメ,コンサート
ATTACH;FMTTYPE=image/jpeg:https://chihirosound.com/wp-content/uploads/2019/09/6d384eff59e12f896ac2d541f3807887.jpg
END:VEVENT
END:VCALENDAR