BEGIN:VCALENDAR
VERSION:2.0
PRODID:-//ちひろ Official Website ～金子みすゞの心を歌う～  CHIHIRO Official Website - MISUZU KANEKO- - ECPv6.15.11//NONSGML v1.0//EN
CALSCALE:GREGORIAN
METHOD:PUBLISH
X-WR-CALNAME:ちひろ Official Website ～金子みすゞの心を歌う～  CHIHIRO Official Website - MISUZU KANEKO-
X-ORIGINAL-URL:https://chihirosound.com
X-WR-CALDESC:ちひろ Official Website ～金子みすゞの心を歌う～  CHIHIRO Official Website - MISUZU KANEKO- のイベント
REFRESH-INTERVAL;VALUE=DURATION:PT1H
X-Robots-Tag:noindex
X-PUBLISHED-TTL:PT1H
BEGIN:VTIMEZONE
TZID:Asia/Tokyo
BEGIN:STANDARD
TZOFFSETFROM:+0900
TZOFFSETTO:+0900
TZNAME:JST
DTSTART:20170101T000000
END:STANDARD
END:VTIMEZONE
BEGIN:VEVENT
DTSTART;VALUE=DATE:20180804
DTEND;VALUE=DATE:20180805
DTSTAMP:20260426T103458
CREATED:20180707T094650Z
LAST-MODIFIED:20180707T095137Z
UID:3130-1533340800-1533427199@chihirosound.com
SUMMARY:MINI Stage〔東京都〕
DESCRIPTION:【Title】ちひろミニステージ（仮）\n●と　き：　8月4日（土）\n\n●ところ：　東京都\n\n●時　間：\n\n●対　象：　関係者のみ\n\n※詳細は分かり次第お知らせいたします
URL:https://chihirosound.com/event/3130
LOCATION:和歌山県
CATEGORIES:コンサート
END:VEVENT
BEGIN:VEVENT
DTSTART;TZID=Asia/Tokyo:20180803T190000
DTEND;TZID=Asia/Tokyo:20180803T201500
DTSTAMP:20260426T103458
CREATED:20180707T094256Z
LAST-MODIFIED:20180722T014046Z
UID:3128-1533322800-1533327300@chihirosound.com
SUMMARY:Concert〔東京都北区〕
DESCRIPTION:【Title】山口七夕会東京圏ネットワーク構築事業\n　　　　「山口ゆめ花博盛り上げ隊」ちひろコンサート\n●と　き：　8月3日（金）\n\n●ところ：　ミュージカンテあまね（東京都北区上十条3-3-16）\n\n※会場の地図はこちら\n\n●時　間：　18：30／開場　19：00／開演\n\n●対　象：　25名限定\n\n●チケット：　3\,000円（税込）※1ドリンク付き＜2ドリンク以上は別途料金＞\n\n●ご予約・お問合せ：\n・(株)ベルミューズ（電話／083-920-4277　E-MAIL：office☆bellmuse.co.jp）☆を@に変換して送信してください \n・山縣（電話・FAX／042-596-4816）電話は留守電に伝言を残してください \n●主　催：　花博サポーター・夢の種まき委員会\n\n●後　援：　山口新聞東京支社\n\nPDFはこちら
URL:https://chihirosound.com/event/3128
LOCATION:ミュージカンテあまね\, 東京都北区上十条3-3-16\, 北区\, 東京都\, 114-0034\, Japan
CATEGORIES:オススメ,コンサート
ATTACH;FMTTYPE=image/jpeg:https://chihirosound.com/wp-content/uploads/2018/07/36662251_1720737878044976_7509589552135143424_n.jpg
END:VEVENT
BEGIN:VEVENT
DTSTART;TZID=Asia/Tokyo:20180725T153000
DTEND;TZID=Asia/Tokyo:20180725T161000
DTSTAMP:20260426T103458
CREATED:20180710T141948Z
LAST-MODIFIED:20180717T003732Z
UID:3172-1532532600-1532535000@chihirosound.com
SUMMARY:Concert〔東京都世田谷区〕
DESCRIPTION:【Title】ちひろミニコンサート\n●と　き：　7月25日（水）\n\n●ところ：　ハートハウス成城（東京都世田谷区）\n\n●時　間：　15：30～16：10\n\n●対　象：　関係者のみ
URL:https://chihirosound.com/event/3172
LOCATION:和歌山県
CATEGORIES:コンサート
END:VEVENT
BEGIN:VEVENT
DTSTART;TZID=Asia/Tokyo:20180715T140000
DTEND;TZID=Asia/Tokyo:20180715T160000
DTSTAMP:20260426T103458
CREATED:20171017T140110Z
LAST-MODIFIED:20180414T042230Z
UID:1199-1531663200-1531670400@chihirosound.com
SUMMARY:15th Anniversary CONCERT〔東京都渋谷区〕
DESCRIPTION:【Title】ちひろ 15th Anniversary CONCERT ～金子みすゞ愛の歌～\n※各プレイガイドにてチケット発売中！\n●と　き：　7月15日（日）\n\n●ところ：　Hakuju Hall（東京都渋谷区富ヶ谷1丁目37-5）\n\n※会場の地図はこちら\n\n●時　間：　13：30／開場　14：00／開演\n\n●共　演：　［Piano］西本 明　（尾崎豊「I LOVE YOU」「卒業」などの編曲・ピアノ演奏を手がける）\n\n●チケット発売日：　一般発売　2月15日（木）午前10：00～\n\n●チケット：　前売4\,000円　当日4\,500円（税込）\n\n●席　種：　全席自由\n\n●プレイガイド：　全国のセブンイレブン・ファミリーマート・ローソン・ミニストップ・サークルK・サンクス・ぴあ店舗にてご購入いただけます\n\n＜  ローソンチケット（Lコード： 73776）※webへアクセス　＞\n★電話予約／0570-084-003\n※ コンピュータ受付、プッシュ回線専用です。ご予約の際は、Lコードが必要です。\n※ 24時間対応（但し発売日初日はAM10：00～）\n★お問合せ専用／0570-000-777(10：00～20：00) \n＜　チケットぴあ（Pコード： 105876） ※webへアクセス（ご購入ページ）２月15日～　＞\n★電話予約／0570-02-9999 \n＜　e＋（イープラス） ※webへアクセス（ご購入ページ）２月15日～　＞\n★スマチケ（電子チケット）のご利用が可能です！ \n＜　株式会社ベルミューズ　＞\n★電話予約／083-920-4277 \n●注意事項：　未就学児の入場はお控えください\n\n●お問合せ：　ちひろ 15th Anniversary CONCERT実行委員会（電話／083-920-4277）\n●主　催：　ちひろ 15th Anniversary CONCERT実行委員会\n●後　援：　株式会社エス・ビー・シー、有限会社イデア・サウンド、有限会社トライエックスミュージック社、株式会社ベルミューズ\n\nPDFはこちら（表）\n\nPDFはこちら（裏）\n\n\n\n \n 
URL:https://chihirosound.com/event/1199
LOCATION:Hakuju Hall\, 東京都渋谷区富ヶ谷1丁目37-5\, 渋谷区\, 東京都\, 151-0063\, Japan
CATEGORIES:オススメ,コンサート
ATTACH;FMTTYPE=image/jpeg:https://chihirosound.com/wp-content/uploads/2018/01/mihon-chihiro15thConTokyo-Fomote.jpg
END:VEVENT
BEGIN:VEVENT
DTSTART;TZID=Asia/Tokyo:20180708T142500
DTEND;TZID=Asia/Tokyo:20180708T155500
DTSTAMP:20260426T103458
CREATED:20171017T135900Z
LAST-MODIFIED:20180608T073051Z
UID:1196-1531059900-1531065300@chihirosound.com
SUMMARY:Concert〔福岡市西区〕
DESCRIPTION:【Title】「平成30年度 西区人権を考えるつどい」\n　　　　　ちひろトーク＆コンサート \n　　　　　　みんなちがって、みんないい生き方を ～金子みすゞの心とともに～\n●と　き：　7月8日（日）\n\n●ところ：　西市民センター ホール（福岡市西区内浜1丁目4-39）\n\n※会場の地図はこちら\n\n●時　間：　12：45／開場　13：15／開演　13：25～／人権劇　14：25～／ちひろコンサート\n\n●対　象：　どなたでもOK（定員800名）\n\n●入場料：　無料（事前申込不要）\n\n●手話通訳：　有\n\n●託　児：　無料　※託児を希望される方は、6月29日（金）までに電話又はEメールにてお申し込みください。（1歳以上～未就学児　先着10名）\n\n●お問合せ＆託児申込：　西区役所　生涯学習推進課（TEL：092-895-7026  Eメール： gakushu.NWO@city.fukuoka.lg.jp）\n●主　催：　西区人権尊重連絡会議、福岡市西区役所\n\nPDFはこちら
URL:https://chihirosound.com/event/1196
LOCATION:西市民センター\, 福岡市西区内浜1丁目4-39\, 福岡市\, 福岡県\, 819-0005\, Japan
CATEGORIES:オススメ,コンサート
ATTACH;FMTTYPE=image/jpeg:https://chihirosound.com/wp-content/uploads/2018/06/cb4a76c86bbb123c4c47b4585872d250.jpg
END:VEVENT
BEGIN:VEVENT
DTSTART;TZID=Asia/Tokyo:20180707T121500
DTEND;TZID=Asia/Tokyo:20180707T200000
DTSTAMP:20260426T103458
CREATED:20171017T140318Z
LAST-MODIFIED:20180502T045054Z
UID:1201-1530965700-1530993600@chihirosound.com
SUMMARY:Concert〔山口県〕
DESCRIPTION:【Title】「日本社会福祉士会全国大会山口大会」\n　　　　　ちひろステージ・ちひろコンサート\n●と　き：　7月7日（土）\n\n●ところ：　山口市民会館、ホテルかめ福（山口県山口市）\n\n●時　間：　12：15～、午後7：00～\n\n●対　象：　関係者のみ
URL:https://chihirosound.com/event/1201
LOCATION:和歌山県
CATEGORIES:コンサート
END:VEVENT
BEGIN:VEVENT
DTSTART;TZID=Asia/Tokyo:20180703T190000
DTEND;TZID=Asia/Tokyo:20180703T200000
DTSTAMP:20260426T103458
CREATED:20180523T134350Z
LAST-MODIFIED:20180703T003803Z
UID:2787-1530644400-1530648000@chihirosound.com
SUMMARY:Concert〔山口県〕
DESCRIPTION:【講演会延期のお知らせ】\n台風7号接近の影響により延期となりました。何卒ご理解くださいますようお願い申し上げます。\n延期の期日は分かり次第改めてお知らせいたします。\n \n【Title】「教育講演会」ちひろトーク&コンサート\n　　　　　みんなちがって、みんないい生き方を ～金子みすゞの心とともに～\n●と　き：　7月3日（火）\n\n●ところ：　室積コミュニティセンター（山口県光市室積一丁目6番1号）\n\n※会場の地図はこちら\n\n●時　間：　午後7：00～8：00\n\n●対　象：　地域の方、どなたでもOK\n\n●入場料：　無料\n\n●主　催：　青少年健全育成室積地区会議\n\n●お問合せ：　0833-78-0267\n\nPDFはこちら
URL:https://chihirosound.com/event/2787
LOCATION:室積コミュニティセンター\, 山口県光市室積一丁目6番1号\, 光市\, 山口県\, 743-0007\, Japan
CATEGORIES:オススメ,コンサート
ATTACH;FMTTYPE=image/jpeg:https://chihirosound.com/wp-content/uploads/2018/06/0001-3.jpg
END:VEVENT
BEGIN:VEVENT
DTSTART;TZID=Asia/Tokyo:20180622T122000
DTEND;TZID=Asia/Tokyo:20180622T132000
DTSTAMP:20260426T103458
CREATED:20171114T075504Z
LAST-MODIFIED:20180524T020126Z
UID:1423-1529670000-1529673600@chihirosound.com
SUMMARY:Concert〔山口県〕
DESCRIPTION:【Title】「華松組仏教婦人大会」ちひろトーク＆コンサート\n●と　き：　6月22日（金）\n\n●ところ：　本覚寺 本堂（山口県宇部市）\n\n●時　間：　12：20～13：20\n\n●対　象：　関係者のみ
URL:https://chihirosound.com/event/1423
LOCATION:和歌山県
CATEGORIES:コンサート
END:VEVENT
BEGIN:VEVENT
DTSTART;TZID=Asia/Tokyo:20180613T190000
DTEND;TZID=Asia/Tokyo:20180613T203000
DTSTAMP:20260426T103458
CREATED:20180111T002507Z
LAST-MODIFIED:20180516T061342Z
UID:1801-1528916400-1528921800@chihirosound.com
SUMMARY:Concert〔京都府〕
DESCRIPTION:【Title】「人権講演会」ちひろ人権コンサート\n　　　　　みんなちがって、みんないい生き方を ～金子みすゞの心とともに～\n●と　き：　6月13日（水）\n\n●ところ：　六人部地域公民館（京都府福知山市字多保市162-2）\n\n※会場の地図はこちら\n\n●時　間：　午後7：00～8：30\n\n●対　象：　どなたでもOK\n\n●入場料：　無料\n\n●主　催：　六人部地域公民館
URL:https://chihirosound.com/event/1801
LOCATION:六人部地域公民館\, 京都府福知山市字多保市162-2\, 福知山市\, 京都府\, 620-0844\, Japan
CATEGORIES:オススメ,コンサート
END:VEVENT
BEGIN:VEVENT
DTSTART;TZID=Asia/Tokyo:20180609T110000
DTEND;TZID=Asia/Tokyo:20180609T120000
DTSTAMP:20260426T103458
CREATED:20180503T094047Z
LAST-MODIFIED:20180524T015413Z
UID:2700-1528542000-1528545600@chihirosound.com
SUMMARY:Concert〔福岡市中央区〕
DESCRIPTION:【Title】「ぬくもりある人権の町大名を目指して」サークル人権学習\n　　　　　　ちひろトーク＆コンサート\n●と　き：　6月9日（土）\n\n●ところ：　大名公民館 4F ホール（福岡市中央区大名2丁目6-53）\n\n※会場の地図はこちら\n\n●時　間：　午前11：00～\n\n●対　象：　サークル代表者、地域の方どなたでもOK\n\n●入場料：　無料\n\n●主　催：　大名人権尊重推進協議会
URL:https://chihirosound.com/event/2700
LOCATION:大名公民館\, 福岡市中央区大名2丁目6-53\, 福岡市\, 福岡県\, 8100041\, Japan
CATEGORIES:オススメ,コンサート
END:VEVENT
BEGIN:VEVENT
DTSTART;TZID=Asia/Tokyo:20180529T133000
DTEND;TZID=Asia/Tokyo:20180529T144500
DTSTAMP:20260426T103458
CREATED:20171225T072114Z
LAST-MODIFIED:20180501T080404Z
UID:1646-1527600600-1527605100@chihirosound.com
SUMMARY:Concert〔新潟県〕
DESCRIPTION:【Title】「いじめ見逃しゼロスクール集会」ちひろトーク＆コンサート\n　　　　　みんなちがって、みんないい生き方を  ～金子みすゞの心とともに～\n●と　き：　5月29日（火）\n\n●ところ：　長岡市立与板中学校 体育館（新潟県長岡市与板町東与板200）\n\n※会場の地図はこちら\n\n●時　間：　午後1：30～\n\n●対　象：　小・中学生、保護者、教職員、地域どなたでもOK\n\n●入場料：　無料
URL:https://chihirosound.com/event/1646
LOCATION:長岡市立与板中学校\, 新潟県長岡市与板町東与板200\, 長岡市\, 新潟県\, 940-2401\, Japan
CATEGORIES:オススメ,コンサート
END:VEVENT
BEGIN:VEVENT
DTSTART;TZID=Asia/Tokyo:20180527T140000
DTEND;TZID=Asia/Tokyo:20180527T153000
DTSTAMP:20260426T103458
CREATED:20180108T044023Z
LAST-MODIFIED:20180501T050503Z
UID:1750-1527429600-1527435000@chihirosound.com
SUMMARY:Concert〔新潟市西蒲区〕
DESCRIPTION:【Title】「妙光寺浄土講座 特別企画」\n　　　　　金子みすゞの心をうたう～ちひろコンサート～\n●と　き：　5月27日（日）\n\n●ところ：　角田山 妙光寺（新潟県新潟市西蒲区角田浜1056）\n\n※会場の地図はこちら\n\n●時　間：　13：30／開場　14：00／ちひろコンサート　15：15／対談  ちひろ×良恵住職\n\n●対　象：　どなたでもOK\n\n●入場料：　無料\n\n※会場準備の都合上、事前にお電話で代表者名と人数をお知らせください\n\n●主　催：　ちひろコンサート in 妙光寺 実行委員会\n\n●後　援：　特定非営利法人 金子みすゞ顕彰会\n\n●お問合せ：　角田山 妙光寺（電話／0256-77-2025）\n\nPDFはこちら（表）\n\nPDFはこちら（裏）\n\n\n 
URL:https://chihirosound.com/event/1750
LOCATION:妙光寺\, 新潟県新潟市西蒲区角田浜1056\, 新潟市\, 新潟県\, 953-0011\, Japan
CATEGORIES:オススメ,コンサート
ATTACH;FMTTYPE=image/jpeg:https://chihirosound.com/wp-content/uploads/2018/04/0001.jpg
ORGANIZER;CN="%E3%81%A1%E3%81%B2%E3%82%8D%E3%82%B3%E3%83%B3%E3%82%B5%E3%83%BC%E3%83%88 in %E5%A6%99%E5%85%89%E5%AF%BA %E5%AE%9F%E8%A1%8C%E5%A7%94%E5%93%A1%E4%BC%9A":MAILTO:jimu@myoukouji.or.jp
END:VEVENT
BEGIN:VEVENT
DTSTART;TZID=Asia/Tokyo:20180526T154000
DTEND;TZID=Asia/Tokyo:20180526T161000
DTSTAMP:20260426T103458
CREATED:20180209T011826Z
LAST-MODIFIED:20180429T125737Z
UID:2003-1527349200-1527351000@chihirosound.com
SUMMARY:Concert〔滋賀県〕
DESCRIPTION:【Title】「“ないおん”創刊40周年・480号記念 感謝の集い」\n　　　　　　ちひろコンサート～金子みすゞの心とともに～\n●と　き：　5月26日（土）\n\n●ところ：　琵琶湖ホテル（滋賀県大津市）\n\n●時　間：　午後3：40～\n\n●対　象：　関係者のみ
URL:https://chihirosound.com/event/2003
LOCATION:和歌山県
CATEGORIES:コンサート
END:VEVENT
BEGIN:VEVENT
DTSTART;TZID=Asia/Tokyo:20180526T100000
DTEND;TZID=Asia/Tokyo:20180526T104500
DTSTAMP:20260426T103458
CREATED:20171224T142922Z
LAST-MODIFIED:20180429T125546Z
UID:1634-1527328800-1527331500@chihirosound.com
SUMMARY:Concert〔神戸市〕
DESCRIPTION:【Title】「花まつり並びに宗祖親鸞聖人降誕会」ちひろコンサート\n●と　き：　5月26日（土）\n\n●ところ：　兵庫大学附属須磨ノ浦高等学校 アリーナ（神戸市須磨区）\n\n●時　間：　午前10：00頃～\n\n●対　象：　関係者のみ
URL:https://chihirosound.com/event/1634
LOCATION:和歌山県
CATEGORIES:コンサート
END:VEVENT
BEGIN:VEVENT
DTSTART;TZID=Asia/Tokyo:20180519T143000
DTEND;TZID=Asia/Tokyo:20180519T160000
DTSTAMP:20260426T103458
CREATED:20170626T053622Z
LAST-MODIFIED:20180429T125256Z
UID:270-1526740200-1526745600@chihirosound.com
SUMMARY:Concert〔山口県〕
DESCRIPTION:【Title】「降誕会門徒講30周年」ちひろトーク&コンサート\n\n●と　き：　5月19日（土）\n\n●ところ：　教證寺 本堂（山口県山口市）\n\n●時　間：　午後2：30頃～／藤井雅子 講演　　午後3：20頃～／ちひろトーク＆コンサート\n\n●対　象：　関係者のみ
URL:https://chihirosound.com/event/270
LOCATION:和歌山県
CATEGORIES:コンサート
END:VEVENT
BEGIN:VEVENT
DTSTART;TZID=Asia/Tokyo:20180510T171500
DTEND;TZID=Asia/Tokyo:20180510T174500
DTSTAMP:20260426T103458
CREATED:20180307T145416Z
LAST-MODIFIED:20180502T033927Z
UID:2211-1525972500-1525974300@chihirosound.com
SUMMARY:Concert〔山口県〕
DESCRIPTION:【Title】「看護週間院内コンサート」\n　　　　　ちひろコンサート ～歌がつむぐ心と心～\n●と　き：　5月10日（木）\n\n●ところ：　山口労災病院　正面玄関ホール（山口県山陽小野田市大字小野田南中川町1315−4）\n\n※会場の地図はこちら\n\n●時　間：　午後5：15分頃～\n\n●対　象：　どなたでもOK\n\n●入場料：　無料\n\n●主　催：　山口労災病院サービス向上委員会
URL:https://chihirosound.com/event/2211
LOCATION:山口労災病院\, 山口県山陽小野田市大字小野田南中川町1315−4\, 山陽小野田市\, 山口県\, 756-0803\, Japan
CATEGORIES:オススメ,コンサート
END:VEVENT
BEGIN:VEVENT
DTSTART;TZID=Asia/Tokyo:20180429T100000
DTEND;TZID=Asia/Tokyo:20180429T103000
DTSTAMP:20260426T103458
CREATED:20180307T145137Z
LAST-MODIFIED:20180416T135723Z
UID:2209-1524996000-1524997800@chihirosound.com
SUMMARY:Concert〔山口県〕
DESCRIPTION:【Title】「企業主導型保育所ハッピーランド完成内覧会開催」\n　　　　　ちひろミニコンサート\n●と　き：　4月29日（日・祝）\n\n●ところ：　ハッピーランド（山口県山口市阿知須4060番地）\n\n●時　間：　10：00～／ちひろミニコンサート\n\n●対　象：　どなたでもOK\n\n●主　催：　おひさまランド・ハッピーランド
URL:https://chihirosound.com/event/2209
LOCATION:ハッピーランド\, 山口県山口市阿知須4060番地\, 山口市\, 山口県\, 7541277\, Japan
CATEGORIES:オススメ,コンサート
ATTACH;FMTTYPE=image/jpeg:https://chihirosound.com/wp-content/uploads/2018/04/30704601_1129577127184960_8527331634024808448_n.jpg
END:VEVENT
BEGIN:VEVENT
DTSTART;TZID=Asia/Tokyo:20180422T143000
DTEND;TZID=Asia/Tokyo:20180422T160000
DTSTAMP:20260426T103458
CREATED:20170626T053422Z
LAST-MODIFIED:20180416T134221Z
UID:267-1524407400-1524412800@chihirosound.com
SUMMARY:Concert〔広島県〕
DESCRIPTION:【Title】「正圓寺第十七世住職継職奉告法要」ちひろトーク＆コンサート\n　　　　　お念仏の心～金子みすゞのまなざし～\n●と　き：　4月22日（日）\n\n●ところ：　正圓寺 本堂（広島県呉市宮原5丁目7-29）\n\n※会場の地図はこちら\n\n●時　間：　14：30～15：10／第1部　ちひろコンサート　15：20～16：00／第2部　ちひろコンサート\n\n●対　象：　門信徒、関係者、地域の方、どなたでもお参りできます\n\n●入場料：　無料
URL:https://chihirosound.com/event/267
LOCATION:正圓寺\, 広島県呉市宮原5丁目7-29\, 呉市\, 広島県\, 737-0024\, Japan
CATEGORIES:オススメ,コンサート
ATTACH;FMTTYPE=image/jpeg:https://chihirosound.com/wp-content/uploads/2018/04/48c1da_ea589ae1190849168bd203639ee9c257mv2.jpg
END:VEVENT
BEGIN:VEVENT
DTSTART;TZID=Asia/Tokyo:20180421T130000
DTEND;TZID=Asia/Tokyo:20180421T150000
DTSTAMP:20260426T103458
CREATED:20180108T052350Z
LAST-MODIFIED:20180226T102514Z
UID:1778-1524315600-1524322800@chihirosound.com
SUMMARY:Concert〔熊本県〕
DESCRIPTION:【Title】「第16期 ひびきの森大学」平成30年開校式\n　　　　　ちひろトーク＆コンサート 金子みすゞの心～マザーテレサのメッセージ～\n●と　き：　4月21日（土）\n\n●ところ：　美里町文化交流センターひびき（熊本県下益城郡美里町永富1483）\n\n※会場の地図はこちら\n\n●時　間：　13：00～\n\n●対　象：　どなたでもOK\n\n●受講料：　5\,000円（ひびきの森大学に入学申し込みとなります）\n\n●お問合せ・お申込先：　美里町文化交流センターひびき\n（TEL/0964-48-8333　FAX/0964-47 -1933　Eメール/hibiki@town-misato.net） \n●主　催：　ひびきの森大学\n\nPDFはこちら
URL:https://chihirosound.com/event/1778
LOCATION:美里町文化交流センターひびき\, 熊本県下益城郡美里町永富1483\, 美里町\, 熊本県\, 861-4722\, Japan
CATEGORIES:オススメ,コンサート
ATTACH;FMTTYPE=image/jpeg:https://chihirosound.com/wp-content/uploads/2018/02/0001.jpg
END:VEVENT
BEGIN:VEVENT
DTSTART;TZID=Asia/Tokyo:20180420T180000
DTEND;TZID=Asia/Tokyo:20180420T190000
DTSTAMP:20260426T103458
CREATED:20180307T144953Z
LAST-MODIFIED:20180307T144953Z
UID:2207-1524247200-1524250800@chihirosound.com
SUMMARY:Concert〔山口県〕
DESCRIPTION:【Title】ちひろゲスト出演\n●と　き：　4月20日（金）\n\n●ところ：　山口県山口市\n\n●時　間：　午後6：00頃～\n\n●対　象：　関係者のみ
URL:https://chihirosound.com/event/2207
LOCATION:和歌山県
CATEGORIES:コンサート
END:VEVENT
BEGIN:VEVENT
DTSTART;TZID=Asia/Tokyo:20180401T160000
DTEND;TZID=Asia/Tokyo:20180401T164000
DTSTAMP:20260426T103458
CREATED:20180122T054329Z
LAST-MODIFIED:20180122T054456Z
UID:1906-1522598400-1522600800@chihirosound.com
SUMMARY:Concert〔北九州市〕
DESCRIPTION:【Title】「正蓮寺18世住職継職法要」\n　　　　　ちひろトーク＆コンサート お念仏の心～金子みすゞのまなざし～\n●と　き：　4月1日（日）\n\n●ところ：　正蓮寺 本堂（北九州市門司区清見1丁目15-20）\n\n※会場の地図はこちら　＜清見1丁目バス停すぐ ＞\n\n●時　間：　午後4時～（予定）\n\n●対　象：　どなたでもお参りいただけます\n\n\n 
URL:https://chihirosound.com/event/1906
LOCATION:正連寺\, 北九州市門司区清見1丁目15-20\, 北九州市\, 福岡県\, 801-0882
CATEGORIES:オススメ,コンサート
ATTACH;FMTTYPE=image/jpeg:https://chihirosound.com/wp-content/uploads/2017/06/0001.jpg
END:VEVENT
BEGIN:VEVENT
DTSTART;TZID=Asia/Tokyo:20180328T100000
DTEND;TZID=Asia/Tokyo:20180328T105000
DTSTAMP:20260426T103458
CREATED:20180223T082323Z
LAST-MODIFIED:20180309T140947Z
UID:2090-1522231200-1522234200@chihirosound.com
SUMMARY:Concert〔徳島県〕
DESCRIPTION:【Title】「勝浦町男女共同参画講演会」（”第9回 環境町民のつどい”同時開催）\nちひろトーク＆コンサート \n優しさの中の強さ ～金子みすゞ・マザーテレサのメッセージ～\n●と　き：　3月28日（水）\n\n●ところ：　勝浦町人形文化交流館（徳島県勝浦郡勝浦町大字生名字月ノ瀬35−1）\n\n※会場の地図はこちら\n\n●時　間：　午前10：00／開演\n\n●対　象：　どなたでもOK\n\n●入場料：　無料（※以下”PDFはこちら”からチラシを印刷し当日ご持参ください。入場券となります。）\n\n●主　催：　勝浦町\n\n●お問い合わせ：　勝浦町住民課（電話／0885-42-1501）\n\nPDFはこちら
URL:https://chihirosound.com/event/2090
LOCATION:勝浦町人形文化交流館\, 徳島県勝浦郡勝浦町大字生名字月ノ瀬35−1\, 勝浦町\, 徳島県\, 771-4303\, Japan
CATEGORIES:オススメ,コンサート
ATTACH;FMTTYPE=image/jpeg:https://chihirosound.com/wp-content/uploads/2018/03/0002.jpg
END:VEVENT
BEGIN:VEVENT
DTSTART;TZID=Asia/Tokyo:20180326T140000
DTEND;TZID=Asia/Tokyo:20180326T153000
DTSTAMP:20260426T103458
CREATED:20170913T141904Z
LAST-MODIFIED:20180323T181020Z
UID:847-1522072800-1522078200@chihirosound.com
SUMMARY:Concert〔三重県〕
DESCRIPTION:【Title】「三重組（みえそ）連研修了者のつどい」\n　　　　　ちひろトーク＆コンサート お念仏の心～金子みすゞのまなざし～\n●と　き：　3月26日（月）\n\n●ところ：　西勝寺 本堂（三重県四日市市）\n\n●時　間：　午後2時～\n\n●対　象：　関係者のみ
URL:https://chihirosound.com/event/847
LOCATION:和歌山県
CATEGORIES:コンサート
END:VEVENT
BEGIN:VEVENT
DTSTART;TZID=Asia/Tokyo:20180321T143000
DTEND;TZID=Asia/Tokyo:20180321T153000
DTSTAMP:20260426T103458
CREATED:20180125T012944Z
LAST-MODIFIED:20180226T094012Z
UID:1914-1521642600-1521646200@chihirosound.com
SUMMARY:Concert〔札幌市〕
DESCRIPTION:【Title】「春のお彼岸コンサート」ちひろトーク＆コンサート\n●と　き：　3月21日（水・祝）\n\n●ところ：　本願寺札幌別院 ＜本願寺派＞本堂（札幌市中央区北3条西19丁目2番地1）\n\n※会場の地図はこちら\n\n●時　間：　14：30頃～\n\n●対　象：　どなたでもOK\n\n●入場料：　無料\n\n●主　催：　本願寺札幌別院
URL:https://chihirosound.com/event/1914
LOCATION:西本願寺札幌別院\, 北海道札幌市中央区北３条西１９丁目２番地１\, 札幌市\, 北海道\, 060-0003\, Japan
CATEGORIES:オススメ,コンサート
ATTACH;FMTTYPE=image/jpeg:https://chihirosound.com/wp-content/uploads/2018/02/0001-1.jpg
END:VEVENT
BEGIN:VEVENT
DTSTART;TZID=Asia/Tokyo:20180320T133000
DTEND;TZID=Asia/Tokyo:20180320T150000
DTSTAMP:20260426T103458
CREATED:20180108T052835Z
LAST-MODIFIED:20180209T013302Z
UID:1784-1521552600-1521558000@chihirosound.com
SUMMARY:Concert〔北海道〕
DESCRIPTION:【Title】「大谷婦人会 宝性寺支部創立100周年記念」\n　　　　　ちひろトーク＆コンサート お念仏の心～金子みすゞのまなざし～\n●と　き：　3月20日（火）\n\n●ところ：　宝性寺 本堂（北海道赤平市美園町2丁目20）\n\n※会場の地図はこちら\n\n●時　間：　午後1時30分～\n\n●対　象：　関係者、どなたでもお参りいただけます\n\n●入場料：　無料\n\n●主　催：　大谷婦人会宝性寺支部\n\n●後　援：　宝性寺・和光会
URL:https://chihirosound.com/event/1784
LOCATION:宝性寺\, 北海道赤平市美園町2丁目20\, 赤平市\, 北海道\, 079-1144\, Japan
CATEGORIES:オススメ,コンサート
ATTACH;FMTTYPE=image/jpeg:https://chihirosound.com/wp-content/uploads/2018/02/IMG.jpg
END:VEVENT
BEGIN:VEVENT
DTSTART;TZID=Asia/Tokyo:20180319T140000
DTEND;TZID=Asia/Tokyo:20180319T153000
DTSTAMP:20260426T103458
CREATED:20180125T012747Z
LAST-MODIFIED:20180307T144706Z
UID:1912-1521468000-1521473400@chihirosound.com
SUMMARY:Concert〔北海道〕
DESCRIPTION:【Title】「春のお彼岸会」ちひろトーク＆コンサート お念仏の心～金子みすゞのまなざし～\n●と　き：　3月19日（月）\n\n●ところ：　正教寺 門徒会館（北海道美唄市大通西1条南4丁目2-1）\n\n※会場の地図はこちら\n\n●時　間：　午後1：30／お勤め（本堂）　午後2：00／コンサート開演（門徒会館）\n\n●対　象：　ご門徒、関係者、どなたでもお参りいただけます\n\n●入場料：　無料
URL:https://chihirosound.com/event/1912
LOCATION:正教寺 門徒会館\, 北海道美唄市大通西1条南4丁目2-1\, 美唄市\, 北海道\, 072-0023\, Japan
CATEGORIES:オススメ,コンサート
END:VEVENT
BEGIN:VEVENT
DTSTART;TZID=Asia/Tokyo:20180318T133000
DTEND;TZID=Asia/Tokyo:20180318T150000
DTSTAMP:20260426T103458
CREATED:20170626T053231Z
LAST-MODIFIED:20180308T002457Z
UID:264-1521379800-1521385200@chihirosound.com
SUMMARY:Concert〔北海道〕
DESCRIPTION:【Title】「木口和恵さん 一周忌追悼公演」\n　　　　　ちひろトーク＆コンサート お念仏の心～金子みすゞのまなざし～\n●と　き：　3月18日（日）\n\n●ところ：　長勝寺 無量寿堂ホール（北海道夕張郡長沼町東4線南1）\n\n※会場の地図はこちら\n\n●時　間：　13：00／開場　13：30／開演\n\n●対　象：　どなたでもお参りいただけます\n\n●入場料：　無料\n\n●主　催：　木口 敏雄さん、長勝寺\n\nPDFはこちら
URL:https://chihirosound.com/event/264
LOCATION:長勝寺\, 北海道夕張郡長沼町東４線南１\, 長沼町\, 北海道\, 069-1454\, Japan
CATEGORIES:オススメ,コンサート
ATTACH;FMTTYPE=image/jpeg:https://chihirosound.com/wp-content/uploads/2018/01/0001-4.jpg
END:VEVENT
BEGIN:VEVENT
DTSTART;TZID=Asia/Tokyo:20180310T130000
DTEND;TZID=Asia/Tokyo:20180310T143000
DTSTAMP:20260426T103458
CREATED:20170913T141719Z
LAST-MODIFIED:20180209T015029Z
UID:845-1520686800-1520692200@chihirosound.com
SUMMARY:Concert〔愛媛県〕
DESCRIPTION:【Title】「八幡浜市男女共同参画社会づくり推進講演会」\n　　　　　ちひろトーク＆コンサート ～金子みすゞの心・マザーテレサのメッセージ～\n●と　き：　3月10日（土）\n\n●ところ：　八幡浜市文化会館ゆめみかん サブホール（愛媛県八幡浜市保内町宮内1-118）\n\n※会場の地図はこちら\n\n●時　間：　12：30／開場　13：00～14：30／開演\n\n●入場料：　300円（全席自由）\n\n●手話通訳：　有\n\n●託　児：　無料（事前申込必要 ※3月2日まで）\n\n●主　催：　八幡浜市女性団体連絡協議会\n\n●後　援：　八幡浜市・八幡浜市教育委員会\n\n●お問合せ：　八幡浜市女性団体連絡協議会事務局（電話／0894-22-3111＜内線1338＞）\n\nPDFはこちら
URL:https://chihirosound.com/event/845
LOCATION:八幡浜市文化会館\, 愛媛県八幡浜市保内町宮内1-118\, 八幡浜市\, 愛媛県\, 796-0202\, Japan
CATEGORIES:オススメ,コンサート
ATTACH;FMTTYPE=image/jpeg:https://chihirosound.com/wp-content/uploads/2018/01/0001-6.jpg
END:VEVENT
BEGIN:VEVENT
DTSTART;TZID=Asia/Tokyo:20180304T133000
DTEND;TZID=Asia/Tokyo:20180304T150000
DTSTAMP:20260426T103458
CREATED:20171128T054206Z
LAST-MODIFIED:20180216T062339Z
UID:1453-1520170200-1520175600@chihirosound.com
SUMMARY:Concert〔愛媛県〕
DESCRIPTION:【Title】「第36回伯方地域同和教育研究大会」\n　　　　　ちひろトーク＆コンサート ～金子みすゞの心・マザーテレサのメッセージ～\n●と　き：　3月4日（日）\n\n●ところ：　今治市伯方開発総合センター（愛媛県今治市伯方町叶浦甲1668-30）\n\n※会場の地図はこちら\n\n●時　間：　午後1：20／開会　※12：30～13：20までロビーで無料のお茶席を用意しています\n\n●対　象：　どなたでもOK\n\n●入場料：　無料\n\n●主　催：　今治市人権教育協議会伯方支部　伯方地域教育課\n\n●お問合せ：　伯方地域教育課（電話／0897-72-1500）伯方開発総合センター（電話／0897-72-2725）\n\nPDFはこちら
URL:https://chihirosound.com/event/1453
LOCATION:今治市伯方開発総合センター\, 愛媛県今治市伯方町叶浦甲1668-30\, 今治市\, 愛媛県\, 794-2302\, Japan
CATEGORIES:オススメ,コンサート
ATTACH;FMTTYPE=image/jpeg:https://chihirosound.com/wp-content/uploads/2017/11/0001.jpg
END:VEVENT
BEGIN:VEVENT
DTSTART;TZID=Asia/Tokyo:20180303T140000
DTEND;TZID=Asia/Tokyo:20180303T153000
DTSTAMP:20260426T103458
CREATED:20170719T061142Z
LAST-MODIFIED:20180122T023955Z
UID:510-1520085600-1520091000@chihirosound.com
SUMMARY:Concert〔福岡市〕
DESCRIPTION:【Title】ちひろ人権コンサート～金子みすゞの心・マザーテレサのメッセージ～\n●と　き：　3月3日（土）\n\n●ところ：　下山門公民館（福岡市西区下山門４丁目14-38）\n\n※会場の地図はこちら\n\n●時　間：　午後2：00／開演\n\n●対　象：　どなたでもOK\n\n●入場料：　無料\n\n●主　催：　下山門校区人権尊重推進協議会\n\nPDFはこちら
URL:https://chihirosound.com/event/510
LOCATION:下山門公民館\, 福岡市西区下山門４丁目14-38\, 福岡市\, 福岡県\, 819-0052
CATEGORIES:オススメ,コンサート
ATTACH;FMTTYPE=image/jpeg:https://chihirosound.com/wp-content/uploads/2018/01/0001-2.jpg
END:VEVENT
END:VCALENDAR