BEGIN:VCALENDAR
VERSION:2.0
PRODID:-//ちひろ Official Website ～金子みすゞの心を歌う～  CHIHIRO Official Website - MISUZU KANEKO- - ECPv6.15.11//NONSGML v1.0//EN
CALSCALE:GREGORIAN
METHOD:PUBLISH
X-WR-CALNAME:ちひろ Official Website ～金子みすゞの心を歌う～  CHIHIRO Official Website - MISUZU KANEKO-
X-ORIGINAL-URL:https://chihirosound.com
X-WR-CALDESC:ちひろ Official Website ～金子みすゞの心を歌う～  CHIHIRO Official Website - MISUZU KANEKO- のイベント
REFRESH-INTERVAL;VALUE=DURATION:PT1H
X-Robots-Tag:noindex
X-PUBLISHED-TTL:PT1H
BEGIN:VTIMEZONE
TZID:Asia/Tokyo
BEGIN:STANDARD
TZOFFSETFROM:+0900
TZOFFSETTO:+0900
TZNAME:JST
DTSTART:20170101T000000
END:STANDARD
END:VTIMEZONE
BEGIN:VEVENT
DTSTART;TZID=Asia/Tokyo:20190509T164500
DTEND;TZID=Asia/Tokyo:20190509T171500
DTSTAMP:20260426T013121
CREATED:20190323T062320Z
LAST-MODIFIED:20190409T141431Z
UID:4847-1557420300-1557422100@chihirosound.com
SUMMARY:Concert〔山口県〕
DESCRIPTION:【Title】「看護週間院内コンサート」ちひろコンサート ～歌がつむぐ心と心～\n●と　き：　5月9日（木）\n\n●ところ：　山口労災病院　正面玄関ホール（山口県山陽小野田市大字小野田南中川町1315−4）\n\n※会場の地図はこちら\n\n●時　間：　午後4：45～5：15\n\n●対　象：　どなたでもOK\n\n●入場料：　無料\n\n●主　催：　山口労災病院サービス向上委員会
URL:https://chihirosound.com/event/4847
LOCATION:山口労災病院\, 山口県山陽小野田市大字小野田南中川町1315−4\, 山陽小野田市\, 山口県\, 756-0803\, Japan
CATEGORIES:オススメ,コンサート
END:VEVENT
BEGIN:VEVENT
DTSTART;TZID=Asia/Tokyo:20190412T190000
DTEND;TZID=Asia/Tokyo:20190412T193000
DTSTAMP:20260426T013121
CREATED:20190323T062021Z
LAST-MODIFIED:20190323T062021Z
UID:4845-1555095600-1555097400@chihirosound.com
SUMMARY:MINI Stage〔山口県〕
DESCRIPTION:【Title】ちひろミニステージ\n●と　き：　4月12日（金）\n\n●ところ：　山口県山口市\n\n●時　間：　午後7：00～\n\n●対　象：　関係者のみ
URL:https://chihirosound.com/event/4845
LOCATION:大分県
CATEGORIES:コンサート
END:VEVENT
BEGIN:VEVENT
DTSTART;TZID=Asia/Tokyo:20190408T140000
DTEND;TZID=Asia/Tokyo:20190408T153000
DTSTAMP:20260426T013121
CREATED:20171017T141035Z
LAST-MODIFIED:20190320T151101Z
UID:1209-1554732000-1554737400@chihirosound.com
SUMMARY:Concert〔広島県〕
DESCRIPTION:【Title】「花まつり」ちひろコンサート\n●と　き：　4月8日（月）\n\n●ところ：　円福寺 本堂（広島県呉市）\n\n●時　間：　午後2：00～\n\n●対　象：　門信徒、関係者のみ
URL:https://chihirosound.com/event/1209
LOCATION:大分県
CATEGORIES:コンサート
END:VEVENT
BEGIN:VEVENT
DTSTART;TZID=Asia/Tokyo:20190403T190000
DTEND;TZID=Asia/Tokyo:20190403T204000
DTSTAMP:20260426T013121
CREATED:20181102T031205Z
LAST-MODIFIED:20190113T144422Z
UID:3933-1554318000-1554324000@chihirosound.com
SUMMARY:Concert〔山口県〕
DESCRIPTION:【Title】「宇部音鑑第197回例会」ちひろCONCERT ～歌がつむぐ心と心～\n●と　き：　4月3日（水）\n\n●ところ：　宇部市多世代ふれあいセンター ふれあいホール（山口県宇部市琴芝町2丁目4-25）\n\n※会場の地図はこちら\n\n●時　間：　18：30／開場　19：00／開演\n\n●入場料：　全席指定　一般 3\,000円　大学生以下 1\,500円（当日いずれも500円高）\n\n●会員になると年6回のコンサートに無料で参加できます（会員のみ）\n\n（会員の月会費は 一般1\,500円、大学生以下500円）\n\n●チケット取扱：　宇部音鑑、宇部市文化会館、幸太郎本舗TSUTAYA宇部店、サンパークあじす\n\n●発売日：　宇部音鑑会員・・・2／6（木）より　　一般・・・2／11（月・祝）\n\n●主　催：　宇部音鑑\n\n●後　援：　宇部市、一般財団法人宇部市文化創造財団、KRY山口放送、tysテレビ山口、yab山口朝日放送、エフエムきらら、宇部日報社、山口新聞社\n\n●お問合せ・入会：　音鑑への入会やチケットのお申し込みは 宇部音鑑（電話／0836-34-2384）＜神原町1-2-3＞まで\n\nPDFはこちら（表）\n\nPDFはこちら（裏）
URL:https://chihirosound.com/event/3933
LOCATION:宇部市多世代ふれあいセンター\, 山口県宇部市琴芝町２丁目４−２５\, 宇部市\, 山口県\, 755-0033\, Japan
CATEGORIES:オススメ,コンサート
ATTACH;FMTTYPE=image/jpeg:https://chihirosound.com/wp-content/uploads/2019/01/0001-2.jpg
END:VEVENT
BEGIN:VEVENT
DTSTART;TZID=Asia/Tokyo:20190330T190000
DTEND;TZID=Asia/Tokyo:20190330T193000
DTSTAMP:20260426T013121
CREATED:20190323T061618Z
LAST-MODIFIED:20190323T061618Z
UID:4843-1553972400-1553974200@chihirosound.com
SUMMARY:MINI Stage〔山口県〕
DESCRIPTION:【Title】ちひろミニステージ\n●と　き：　3月30日（土）\n\n●ところ：　山口県\n\n●時　間：　午後7：00～\n\n●対　象：　関係者のみ
URL:https://chihirosound.com/event/4843
LOCATION:大分県
CATEGORIES:コンサート
END:VEVENT
BEGIN:VEVENT
DTSTART;TZID=Asia/Tokyo:20190328T133000
DTEND;TZID=Asia/Tokyo:20190328T143000
DTSTAMP:20260426T013121
CREATED:20190220T031404Z
LAST-MODIFIED:20190320T145451Z
UID:4672-1553779800-1553783400@chihirosound.com
SUMMARY:Concert〔山口県〕
DESCRIPTION:【Title】「本能寺仏教婦人会総会」ちひろコンサート\n●と　き：　3月28日（木）\n\n●ところ：　本能寺 本堂（山口県岩国市）\n\n●時　間：　午後1：30～2：30\n\n●対　象：　関係者のみ
URL:https://chihirosound.com/event/4672
LOCATION:大分県
CATEGORIES:コンサート
END:VEVENT
BEGIN:VEVENT
DTSTART;TZID=Asia/Tokyo:20190325T175000
DTEND;TZID=Asia/Tokyo:20190325T183000
DTSTAMP:20260426T013121
CREATED:20190207T030143Z
LAST-MODIFIED:20190320T145253Z
UID:4617-1553536200-1553538600@chihirosound.com
SUMMARY:Concert〔山口県〕
DESCRIPTION:【Title】「福島の子ども保養プロジェクト　コヨット！in やまぐち）」ちひろコンサート\n●と　き：　3月25日（月）\n\n●ところ：　COCOLAND山口・宇部（山口県宇部市）\n\n●時　間：　午後5：50～\n\n●対　象：　関係者のみ\n\n●主　催：　生活協同組合コープやまぐち　コヨット！inやまぐち企画委員会
URL:https://chihirosound.com/event/4617
LOCATION:大分県
CATEGORIES:コンサート
END:VEVENT
BEGIN:VEVENT
DTSTART;TZID=Asia/Tokyo:20190324T153000
DTEND;TZID=Asia/Tokyo:20190324T155000
DTSTAMP:20260426T013121
CREATED:20180810T151526Z
LAST-MODIFIED:20190123T144912Z
UID:3312-1553441400-1553442600@chihirosound.com
SUMMARY:Mini Stage〔広島県〕
DESCRIPTION:【Title】「第6回 読もう！発見！ 繋がろう！」はつかいち 朗読劇 コンクール\n　　　　　ちひろミニステージ ～金子みすゞの心とともに～\n●と　き：　3月24日（日）\n\n●ところ：　はつかいち文化ホール さくらぴあ 小ホール（広島県廿日市市下平良1丁目11-1）\n\n※会場の地図はこちら\n\n●時　間：　12：30／開場　13：00／開会式　15：30～／ちひろ音楽ステージ　16：00～／スペシャル朗読会　等\n\n●入場料：　500円（高校生以下は無料）\n\n●主　催：　はつかいち朗読劇コンクール実行委員会\n\n●共　催：　廿日市市教育委員会\n\n●後　援：　廿日市市文化協会、廿日市市民生委員児童委員協議会、青少年育成廿日市市民会議、廿日市市PTA連合会、FMはつかいち76.1MHz\n\n●協　賛：　株式会社エス・ビー・シー\n\nPDFはこちら（表）\n\nPDFはこちら（裏）
URL:https://chihirosound.com/event/3312
LOCATION:はつかいち文化会館 さくらぴあ\, 広島県廿日市市下平良１丁目１１−１\, 廿日市市\, 広島県\, 738-0023\, Japan
CATEGORIES:オススメ,コンサート
ATTACH;FMTTYPE=image/jpeg:https://chihirosound.com/wp-content/uploads/2019/01/0001-1-2.jpg
ORGANIZER;CN="%E3%81%AF%E3%81%A4%E3%81%8B%E3%81%84%E3%81%A1%E6%9C%97%E8%AA%AD%E5%8A%87%E3%82%B3%E3%83%B3%E3%82%AF%E3%83%BC%E3%83%AB%E5%AE%9F%E8%A1%8C%E5%A7%94%E5%93%A1%E4%BC%9A":MAILTO:capriccioso.i.y@gmail.com
END:VEVENT
BEGIN:VEVENT
DTSTART;TZID=Asia/Tokyo:20190322T112000
DTEND;TZID=Asia/Tokyo:20190322T114000
DTSTAMP:20260426T013121
CREATED:20190207T025933Z
LAST-MODIFIED:20190320T144424Z
UID:4615-1553253600-1553254800@chihirosound.com
SUMMARY:MINI Stage〔山口県〕
DESCRIPTION:【Title】「はあと保育園中央 竣工式」ちひろミニステージ\n●と　き：　3月22日（金）\n\n●ところ：　山口県山口市\n\n●時　間：　11：20頃～\n\n●対　象：　関係者のみ
URL:https://chihirosound.com/event/4615
LOCATION:大分県
CATEGORIES:コンサート
END:VEVENT
BEGIN:VEVENT
DTSTART;TZID=Asia/Tokyo:20190321T140000
DTEND;TZID=Asia/Tokyo:20190321T153000
DTSTAMP:20260426T013121
CREATED:20190109T161543Z
LAST-MODIFIED:20190206T154348Z
UID:4389-1553176800-1553182200@chihirosound.com
SUMMARY:Concert〔大分県〕
DESCRIPTION:【Title】 ちひろコンサート ～歌がつむぐ心と心～\n●と　き：　3月21日（木・祝）\n\n●ところ：　養護老人ホーム中津市豊寿園（大分県中津市大字永添2606番地20）\n\n※会場の地図はこちら\n\n●時　間：　13：15／開場　14：00／開演\n\n●対　象：　関係者、地域、一般\n\n●先　着：　100名（※事前申込により入場券をお渡しいたします）\n\n●入場料：　無料\n\n●主　催：　中津市社会福祉協議会\n\n●お問合せ：　電話／0979-64-8112\n\nPDFはこちら
URL:https://chihirosound.com/event/4389
LOCATION:老人ホーム豊寿園\, 大分県中津市大字永添2606番地20\, 中津市\, 大分県\, 871-0162\, Japan
CATEGORIES:オススメ,コンサート
ATTACH;FMTTYPE=image/jpeg:https://chihirosound.com/wp-content/uploads/2019/02/0001.jpg
END:VEVENT
BEGIN:VEVENT
DTSTART;TZID=Asia/Tokyo:20190316T160000
DTEND;TZID=Asia/Tokyo:20190316T180000
DTSTAMP:20260426T013121
CREATED:20190109T121521Z
LAST-MODIFIED:20190109T123227Z
UID:4335-1552752000-1552759200@chihirosound.com
SUMMARY:SPECIAL CONCERT〔山口県〕
DESCRIPTION:【Title】ちひろ Cover Song SPECIAL CONCERT ～オリジナルソングを添えて～ ＜30席限定＞\n●と　き：　3月16日（土）\n\n●ところ：　ムーランルージュ（山口県周南市大字下上土井955−3）\n\n※会場の地図はこちら\n\n※ムーランルージュは老舗ジャズ喫茶カルチェラタンの姉妹店です\n\n●時　間：　15：30／開場　16：00／開演\n\n●チケット発売日：　一般発売　1月11日（金）午前10：00～\n\n●チケット：　4\,000円（税込）\n\n※ケーキセット（コーヒーor紅茶）付\n\n●席　種：　全席自由（30席限定）\n\n●プレイガイド：　全国のセブンイレブン・ローソン・ミニストップ・サークルK・サンクス・ぴあ店舗にてご購入いただけます\n\n＜  ローソンチケット（Lコード： 61856）※webへアクセス（ご購入ページ）1月7日～　＞\n★電話予約／0570-084-003\n※ コンピュータ受付、プッシュ回線専用です。ご予約の際は、Lコードが必要です。\n※ 24時間対応（但し発売日初日はAM10：00～）\n★お問合せ専用／0570-000-777(10：00～20：00) \n＜　チケットぴあ（Pコード： 139757） ※webへアクセス（ご購入ページ）1月7日～　＞\n★電話予約／0570-02-9999 \n＜　ムーランルージュ　＞\n★お問い合わせ／0834-63-5505 \n＜　株式会社ベルミューズ　＞\n★電話予約／083-920-4277 \n●お問合せ：　株式会社ベルミューズ（電話／083-920-4277）\n\nPDFはこちら（表）\n\nPDFはこちら（裏）\n\n\n\n 
URL:https://chihirosound.com/event/4335
LOCATION:ムーランルージュ\, 山口県周南市大字下上土井955−3\, 周南市\, 山口県\, 746-0082\, Japan
CATEGORIES:オススメ,コンサート
ATTACH;FMTTYPE=image/jpeg:https://chihirosound.com/wp-content/uploads/2019/01/9614f909e4e5f4294e4e7c0ad813ea59.jpg
END:VEVENT
BEGIN:VEVENT
DTSTART;TZID=Asia/Tokyo:20190315T100000
DTEND;TZID=Asia/Tokyo:20190315T102000
DTSTAMP:20260426T013121
CREATED:20190109T161334Z
LAST-MODIFIED:20190109T161334Z
UID:4387-1552644000-1552645200@chihirosound.com
SUMMARY:Stage〔山口県〕
DESCRIPTION:【Title】 「野田学園幼稚園 卒園式」ちひろ出演\n●と　き：　3月15日（金）\n\n●ところ：　野田学園幼稚園（山口県山口市）\n\n●時　間：　午前10：00～\n\n●対　象：　関係者のみ
URL:https://chihirosound.com/event/4387
LOCATION:大分県
CATEGORIES:other,コンサート,その他
END:VEVENT
BEGIN:VEVENT
DTSTART;TZID=Asia/Tokyo:20190309T190000
DTEND;TZID=Asia/Tokyo:20190309T193000
DTSTAMP:20260426T013121
CREATED:20190109T161105Z
LAST-MODIFIED:20190109T161105Z
UID:4385-1552158000-1552159800@chihirosound.com
SUMMARY:Stage〔山口県〕
DESCRIPTION:【Title】「第22回みすゞコスモス 交流会」ちひろステージ\n●と　き：　3月9日（土）\n\n●ところ：　大谷山荘（山口県長門市）\n\n●時　間：　午後7：00～\n\n●対　象：　関係者のみ
URL:https://chihirosound.com/event/4385
LOCATION:大分県
CATEGORIES:other,コンサート,その他
END:VEVENT
BEGIN:VEVENT
DTSTART;TZID=Asia/Tokyo:20190305T193000
DTEND;TZID=Asia/Tokyo:20190305T212000
DTSTAMP:20260426T013121
CREATED:20190109T115310Z
LAST-MODIFIED:20190220T054550Z
UID:4327-1551814200-1551820800@chihirosound.com
SUMMARY:SPECIAL CONCERT〔東京都港区〕
DESCRIPTION: \nおかげ様をもちましてチケット完売となりました！誠に有難うございました。 \n若干のお席の調整が可能な場合もございますので、 \nご希望の方は、株式会社ベルミューズ（083-920-4277）までお問い合わせくださいませ！ \n【Title】ちひろ Cover Song SPECIAL CONCERT ～オリジナルソングを添えて～\n●と　き：　3月5日（火）\n\n●ところ：　六本木クラップス（東京都港区六本木3-16-33 青葉六本木ビルB1）\n\n※会場の地図はこちら\n\n※六本木クラップスは音楽とお食事をお楽しみいただくライブレストランです\n\n●時　間：　18：30／開場　19：30／開演\n\n●チケット発売日：　一般発売　1月11日（金）午前10：00～\n\n●チケット：　前売4\,000円　当日4\,500円（税込）\n\n※上記はミュージックチャージのみの料金です。\n\n※ご入店時に1st DRINK代としまして、【700円】頂戴いたします。\n\n※ご飲食代別\n\n●席　種：　全席自由\n\n●プレイガイド：　全国のセブンイレブン・ローソン・ミニストップ・サークルK・サンクス・ぴあ店舗にてご購入いただけます\n\n＜  ローソンチケット（Lコード： 70686）※webへアクセス（ご購入ページ）1月7日～　＞\n★電話予約／0570-084-003\n※ コンピュータ受付、プッシュ回線専用です。ご予約の際は、Lコードが必要です。\n※ 24時間対応（但し発売日初日はAM10：00～）\n★お問合せ専用／0570-000-777(10：00～20：00) \n＜　チケットぴあ（Pコード： 139756） ※webへアクセス（ご購入ページ）1月7日～　＞\n★電話予約／0570-02-9999 \n＜　ROPPONGI C*LAPPS 六本木クラップス　＞\n★電話予約／03-6441-3171 \n★こちらからweb予約も可能です！ \n＜　株式会社ベルミューズ　＞\n★電話予約／083-920-4277 \n●お問合せ：　株式会社ベルミューズ（電話／083-920-4277）\n\nPDFはこちら（表）\n\nPDFはこちら（裏）
URL:https://chihirosound.com/event/4327
LOCATION:六本木クラップス\, 東京都港区六本木３丁目１６−３３\, 港区\, 東京都\, 106-0032\, Japan
CATEGORIES:オススメ,コンサート
ATTACH;FMTTYPE=image/jpeg:https://chihirosound.com/wp-content/uploads/2019/01/0001.jpg
END:VEVENT
BEGIN:VEVENT
DTSTART;TZID=Asia/Tokyo:20190227T094500
DTEND;TZID=Asia/Tokyo:20190227T233000
DTSTAMP:20260426T013121
CREATED:20180810T151304Z
LAST-MODIFIED:20190118T145237Z
UID:3310-1551260700-1551310200@chihirosound.com
SUMMARY:Concert〔山口県〕
DESCRIPTION:【Title】「第7回あさひ住民福祉講座」ちひろトーク&コンサート\n　　　　　優しさの中の強さ～金子みすゞ・マザーテレサのメッセージ～\n●と　き：　2月27日（水）\n\n●ところ：　旭マルチメディアセンター（山口県萩市大字明木2959−1）\n\n※会場の地図はこちら\n\n●時　間：　午前9：45／開演\n\n●対　象：　どなたでもOK\n\n●入場料：　無料\n\n●お申込み・お問合せ・送迎のご相談は・・・\n\n・明木　0838-55-0800　　・佐々並　0838-56-0856　　締切／2月8日（金）\n\n●主　催：　佐々並地区社会福祉協議会、明木地区社会福祉協議会、萩市社会福祉協議会\n\nPDFはこちら
URL:https://chihirosound.com/event/3310
LOCATION:旭マルチメディアセンター\, 山口県萩市大字明木2959−1\, 萩市\, 山口県\, 754-0411\, Japan
CATEGORIES:オススメ,コンサート
ATTACH;FMTTYPE=image/jpeg:https://chihirosound.com/wp-content/uploads/2018/08/1.jpg
END:VEVENT
BEGIN:VEVENT
DTSTART;TZID=Asia/Tokyo:20190213T125000
DTEND;TZID=Asia/Tokyo:20190213T135000
DTSTAMP:20260426T013121
CREATED:20180709T025445Z
LAST-MODIFIED:20190123T135928Z
UID:3150-1550062200-1550065800@chihirosound.com
SUMMARY:Concert〔山口県〕
DESCRIPTION:【Title】「山口みのり会結成三十五周年記念の集い」ちひろコンサート\n●と　き：　2月13日（水）\n\n●ところ：　本願寺山口別院（山口県山口市）\n\n●時　間：　12：50～13：50\n\n●対　象：　関係者のみ
URL:https://chihirosound.com/event/3150
LOCATION:大分県
CATEGORIES:コンサート
END:VEVENT
BEGIN:VEVENT
DTSTART;TZID=Asia/Tokyo:20190209T100000
DTEND;TZID=Asia/Tokyo:20190209T113000
DTSTAMP:20260426T013121
CREATED:20180810T150859Z
LAST-MODIFIED:20190130T125529Z
UID:3305-1549706400-1549711800@chihirosound.com
SUMMARY:Concert〔大分県〕
DESCRIPTION:【Title】「じんけんを考える市民の集い」ちひろ人権コンサート\nみんなちがって、みんないい生き方を～金子みすゞの心とともに～\n●と　き：　2月9日（土）\n\n●ところ：　豊後高田市中央公民館（大分県豊後高田市玉津987）\n\n※会場の地図はこちら\n\n●時　間：　\n\n午前9：30／第1部 「差別をなくす人権標語」入選作品表彰式\n\n午前10：00／第2部 人権コンサート\n\n●対　象：　どなたでもOK\n\n●入場料：　無料\n\n●手話通訳：　有\n\n●主　催：　豊後高田市、豊後高田市教育委員会、豊後高田市人権教育啓発推進協議会\n\n●お問合せ：　豊後高田市 人権・同和対策課（電話／0978-24-0007）
URL:https://chihirosound.com/event/3305
LOCATION:豊後高田市中央公民館\, 大分県豊後高田市玉津９８７\, 豊後高田市\, 大分県\, 879-0606\, Japan
CATEGORIES:オススメ,コンサート
ATTACH;FMTTYPE=image/jpeg:https://chihirosound.com/wp-content/uploads/2019/01/0002.jpg
END:VEVENT
BEGIN:VEVENT
DTSTART;TZID=Asia/Tokyo:20190126T140000
DTEND;TZID=Asia/Tokyo:20190126T161500
DTSTAMP:20260426T013121
CREATED:20190109T133139Z
LAST-MODIFIED:20190109T134728Z
UID:4360-1548511200-1548519300@chihirosound.com
SUMMARY:Concert〔山口県〕
DESCRIPTION:【Title】「山口県倫理法人会 設立20周年記念」講演会・ちひろコンサート\n　　　　　優しさの中の強さ～金子みすゞ・マザーテレサのメッセージ～\n●と　き：　1月26日（土）\n\n●ところ：　新南陽ふれあいセンター 大ホール（山口県周南市福川南町2-1）\n\n※会場の地図はこちら\n\n●時　間：　14：00～16：15\n\n【第1部】講演会　池間 哲郎氏　日本はなぜアジアの国々から愛されるのか ～今、私達が学ぶべきこと～\n\n【第2部】コンサート　ちひろ\n\n●入場料：　大人／1\,000円　小学生以上高校生未満／500円　小学生未満／無料\n\n●対　象：　どなたでもOK\n\n●主　催：　山口県倫理法人会\n\n●後　援：　山口県、山口県教育委員会、周南市、周南市教育委員会、防府市、防府市教育委員会、下松市、下松市教育委員会、山口放送、山口朝日放送、tysテレビ山口、新周南新聞社、シティーケーブル周南、Kビジョン\n\n●お問合せ：　山口県倫理法人会 事務局（電話／083-941-6535）\n\nPDFはこちら
URL:https://chihirosound.com/event/4360
LOCATION:新南陽ふれあいセンター\, 山口県周南市福川南町２−１\, 周南市\, 山口県\, 7460042\, Japan
CATEGORIES:オススメ,コンサート
ATTACH;FMTTYPE=image/jpeg:https://chihirosound.com/wp-content/uploads/2018/12/0001.jpg
END:VEVENT
BEGIN:VEVENT
DTSTART;TZID=Asia/Tokyo:20190125T184500
DTEND;TZID=Asia/Tokyo:20190125T190500
DTSTAMP:20260426T013121
CREATED:20190109T131106Z
LAST-MODIFIED:20190109T131106Z
UID:4357-1548441900-1548443100@chihirosound.com
SUMMARY:MINI Stage〔大阪市北区〕
DESCRIPTION:【Title】「関西山口県同郷会役員新年会」ちひろミニステージ\n\n●と　き：　1月25日（金）\n\n●ところ：　ホテルグランヴィア大阪（大阪市北区）\n\n●時　間：　18：45～\n\n●対　象：　関係者のみ\n\n●主　催：　関西山口県同郷会
URL:https://chihirosound.com/event/4357
LOCATION:大分県
CATEGORIES:コンサート
END:VEVENT
BEGIN:VEVENT
DTSTART;TZID=Asia/Tokyo:20190119T113000
DTEND;TZID=Asia/Tokyo:20190119T114500
DTSTAMP:20260426T013121
CREATED:20180709T025202Z
LAST-MODIFIED:20190109T130355Z
UID:3148-1547897400-1547898300@chihirosound.com
SUMMARY:MINI Stage〔山口県〕
DESCRIPTION:【Title】「萩・山口信用金庫100周年記念祝賀会」ちひろミニステージ\n\n●と　き：　1月19日（土）\n\n●ところ：　ホテルかめ福 ロイヤルホール（山口県山口市）\n\n●時　間：　11：30～\n\n●対　象：　関係者のみ\n\n●主　催：　萩・山口信用金庫
URL:https://chihirosound.com/event/3148
LOCATION:大分県
CATEGORIES:コンサート
END:VEVENT
BEGIN:VEVENT
DTSTART;TZID=Asia/Tokyo:20190116T140000
DTEND;TZID=Asia/Tokyo:20190116T153000
DTSTAMP:20260426T013121
CREATED:20180709T024831Z
LAST-MODIFIED:20190109T125137Z
UID:3146-1547647200-1547652600@chihirosound.com
SUMMARY:Concert〔愛媛県〕
DESCRIPTION:【Title】「保内ブロック人権教育啓発行事」ちひろトーク&コンサート\nみんなちがって、みんないい生き方を～金子みすゞの心とともに～\n●と　き：　1月16日（水）\n\n●ところ：　八幡浜市文化会館＜ゆめみかん＞大ホール（愛媛県八幡浜市保内町宮内1-118）\n\n※会場の地図はこちら\n\n●時　間：　13：30／開場　14：00／開演\n\n●対　象：　児童・生徒・地域・一般\n\n●入場料：　無料\n\n●主　催：　保内ブロック人権教育協議会、八幡浜市保内福祉会館\n\n●お問合せ：　保内ブロック人権教育協議会 事務局（八幡浜市立喜須来小学校／0894-36-0303）\n\nPDFはこちら
URL:https://chihirosound.com/event/3146
LOCATION:八幡浜市文化会館\, 愛媛県八幡浜市保内町宮内1-118\, 八幡浜市\, 愛媛県\, 796-0202\, Japan
CATEGORIES:オススメ,コンサート
ATTACH;FMTTYPE=image/jpeg:https://chihirosound.com/wp-content/uploads/2018/12/0001-1.jpg
END:VEVENT
BEGIN:VEVENT
DTSTART;TZID=Asia/Tokyo:20181222T141000
DTEND;TZID=Asia/Tokyo:20181222T145000
DTSTAMP:20260426T013121
CREATED:20181009T034917Z
LAST-MODIFIED:20181012T091107Z
UID:3800-1545487800-1545490200@chihirosound.com
SUMMARY:Concert〔山口県〕
DESCRIPTION:【Title】山口メセナ倶楽部支援事業「こどもという未来のために子守唄」\n　　　　ちひろコンサート\n●と　き：　12月22日（土）\n\n●ところ：　ニューメディアプラザ山口（山口県山口市熊野町1-10）\n\n※会場の地図はこちら\n\n●時　間：　12：30／開場　13：00～15：00／開演\n\n＜1部＞講演会　西舘 好子さん（NPO法人 日本子守唄協会理事長）\n\n＜2部＞ちひろコンサート\n\n●対　象：　どなたでもOK\n\n●入場料：　無料\n\n●無料託児：　有り　※事前にお申込みください（担当：入江さん 090-7545-4202）\n\n●主　催：　NPO法人 やまぐち子育て四訓の会\n\n●後　援：　山口市・山口市教育委員会\n\n●助　成：　山口メセナ倶楽部\n\nPDFはこちら
URL:https://chihirosound.com/event/3800
LOCATION:ニューメディアプラザ山口\, 山口県山口市熊野町１−１０\, 山口市\, 山口県\, 753-0077\, Japan
CATEGORIES:オススメ,コンサート
ATTACH;FMTTYPE=image/jpeg:https://chihirosound.com/wp-content/uploads/2018/10/0001-1-1.jpg
END:VEVENT
BEGIN:VEVENT
DTSTART;TZID=Asia/Tokyo:20181216T142000
DTEND;TZID=Asia/Tokyo:20181216T155000
DTSTAMP:20260426T013121
CREATED:20180516T061709Z
LAST-MODIFIED:20181212T024418Z
UID:2733-1544970000-1544975400@chihirosound.com
SUMMARY:Concert〔兵庫県〕
DESCRIPTION:【Title】「人権ふれ愛コンサート」ちひろトーク＆コンサート\n　　　　　みんなちがって、みんないい生き方を～金子みすゞの心とともに～\n●と　き：　12月16日（日）\n\n●ところ：　扶桑電通なぎさホール（兵庫県相生市相生2丁目8-18）\n\n※会場の地図はこちら\n\n●時　間：　14：20～15：50\n\n※相生市PTCA活動実践発表会（13：00～）がございますのでこちらもぜひご参加くださいませ！\n\n●対　象：　どなたでもOK\n\n●入場料：　無料\n\n●主　催：　相生市教育委員会\n\n●共　催：　相生市人権教育研究協議会、相生市人権教育推進協議会\n\n●お問合せ：　相生市教育委員会 人権教育推進室（0791-23-7145）\n\n\n 
URL:https://chihirosound.com/event/2733
LOCATION:扶桑電通なぎさホール（相生市文化会館）\, 兵庫県相生市相生２丁目８−１８\, 相生市\, 兵庫県\, 678-0041\, Japan
CATEGORIES:オススメ,コンサート
ATTACH;FMTTYPE=image/jpeg:https://chihirosound.com/wp-content/uploads/2018/11/0001.jpg
END:VEVENT
BEGIN:VEVENT
DTSTART;TZID=Asia/Tokyo:20181215T140000
DTEND;TZID=Asia/Tokyo:20181215T160000
DTSTAMP:20260426T013121
CREATED:20180120T125457Z
LAST-MODIFIED:20181210T134749Z
UID:1878-1544882400-1544889600@chihirosound.com
SUMMARY:15th Anniversary CONCERT〔大分県〕
DESCRIPTION:おかげ様をもちましてチケット完売となりました！誠に有難うございました。 \n若干のお席の調整が可能な場合もございますので、 \nご希望の方は、株式会社ベルミューズ（083-920-4277）までお問い合わせくださいませ！ \n【Title】ちひろ 15th Anniversary CONCERT ～金子みすゞ愛の歌～\n●と　き：　12月15日（土）\n\n●ところ：　リル・ドリーム（大分県中津市島田57-11）\n\n※会場の地図はこちら\n\n●時　間：　13：30／開場　14：00／開演\n\n●チケット発売日：　一般発売　10月1日（月）午前10：00～\n\n●チケット：　前売3\,000円　当日3\,500円（税込）\n\n●席　種：　全席自由\n\n●プレイガイド：　全国のセブンイレブン・ローソン・ミニストップ・サークルK・サンクス・ぴあ店舗にてご購入いただけます\n\n＜  ローソンチケット（Lコード： 82101）※webへアクセス（ご購入ページ）9月25日～　＞\n★電話予約／0570-084-003\n※ コンピュータ受付、プッシュ回線専用です。ご予約の際は、Lコードが必要です。\n※ 24時間対応（但し発売日初日はAM10：00～）\n★お問合せ専用／0570-000-777(10：00～20：00) \n＜　チケットぴあ（Pコード： 130199） ※webへアクセス（ご購入ページ）9月25日～　＞\n★電話予約／0570-02-9999 \n＜　株式会社ベルミューズ　＞\n★電話予約／083-920-4277 \n●注意事項：　未就学児の入場はお控えください\n\n●お問合せ：　ちひろ 15th Anniversary CONCERT実行委員会（電話／083-920-4277）\n●主　催：　ちひろ 15th Anniversary CONCERT実行委員会\n●後　援：　中津市・中津市教育委員会、西谷ふるさと村、OBS大分放送、TOSテレビ大分、OAB大分朝日放送、エフエム大分、NOAS FM、株式会社エス・ビー・シー、こがねむし、株式会社ベルミューズ\n\nPDFはこちら（表）\n\nPDFはこちら（裏）
URL:https://chihirosound.com/event/1878
LOCATION:リル・ドリーム\, 大分県中津市島田57-11\, 中津市\, 大分県\, 871-0033\, Japan
CATEGORIES:オススメ,コンサート
ATTACH;FMTTYPE=image/jpeg:https://chihirosound.com/wp-content/uploads/2018/09/0001-2.jpg
END:VEVENT
BEGIN:VEVENT
DTSTART;TZID=Asia/Tokyo:20181208T143000
DTEND;TZID=Asia/Tokyo:20181208T153000
DTSTAMP:20260426T013121
CREATED:20181101T160045Z
LAST-MODIFIED:20181129T010715Z
UID:3931-1544279400-1544283000@chihirosound.com
SUMMARY:Concert〔大分県〕
DESCRIPTION:【Title】2018年度 臼杵市人権啓発イベント「フェスタ・ザ・じんけん」\n　　　　ちひろ人権コンサート\n　　　　　”みんなちがって、みんないい生き方を”～金子みすゞの心とともに～\n●と　き：　12月8日（土）\n\n●ところ：　臼杵市観光交流プラザ（大分県臼杵市大字臼杵100-2）\n\n※会場の地図はこちら\n\n●時　間：　14：30～／ちひろコンサート　15：30～／人権作品表彰式\n\n●対　象：　どなたでもOK\n\n●入場料：　無料\n\n●主　催：　臼杵市、臼杵市教育委員会、臼杵市人権・同和教育啓発推進協議会、臼杵市人権・同和教育研究会、大分県人権擁護委員連合会、大分地方法務局
URL:https://chihirosound.com/event/3931
LOCATION:臼杵市観光交流プラザ\, 大分県臼杵市大字臼杵100-2\, 臼杵市\, 大分県\, 875-0041\, Japan
CATEGORIES:オススメ,コンサート
ATTACH;FMTTYPE=image/jpeg:https://chihirosound.com/wp-content/uploads/2018/11/0002.jpg
END:VEVENT
BEGIN:VEVENT
DTSTART;TZID=Asia/Tokyo:20181202T130000
DTEND;TZID=Asia/Tokyo:20181202T153000
DTSTAMP:20260426T013121
CREATED:20180810T150544Z
LAST-MODIFIED:20181009T092923Z
UID:3303-1543755600-1543764600@chihirosound.com
SUMMARY:Concert〔栃木県〕
DESCRIPTION:【Title】「女と男 ともに輝くまちづくり 男女共同参画フォーラム2018」ちひろ講演・トークコンサート\n　　　　　金子みすゞの心・マザーテレサのメッセージからみた男女共同参画\n●と　き：　12月2日（日）\n\n●ところ：　三島ホール（栃木県那須塩原市東三島6丁目337）\n\n※会場の地図はこちら\n\n●時　間：　12：30／開場　13時～15：30／開演\n\n●対　象：　どなたでもOK\n\n●入場料：　無料（※整理券が必要です）\n\n【整理券配布場所】11月2日（金）から配布します\n\n・那須塩原市役所市民協働推進課（3階5番窓口）　・西那須野支所総務税務課（1階1番窓口）　・塩原支所総務福祉課　・箒根出張所　・三島公民館\n\n●託　児：　無料（※満1歳以上から未就学児までのお子さんが対象）定員5名まで\n\n●託児申込：　11月19日（月）までに市民協働推進課へ電話にてお申し込みください\n\n●主　催：　那須塩原市男女共同参画フォーラム実行委員会、那須塩原市\n\n●後　援：　輝きネットなすしおばら\n\n●お問合せ：　那須塩原市 企画部 市民協働推進課 男女共同参画係（電話／0287-62-7019）\n\nPDFはこちら（表）\n\nPDFはこちら（裏）
URL:https://chihirosound.com/event/3303
LOCATION:三島ホール\, 栃木県那須塩原市東三島６丁目３３７\, 那須塩原市\, 栃木県\, 329-2751\, Japan
CATEGORIES:オススメ,コンサート
ATTACH;FMTTYPE=image/jpeg:https://chihirosound.com/wp-content/uploads/2018/10/0001-2.jpg
END:VEVENT
BEGIN:VEVENT
DTSTART;TZID=Asia/Tokyo:20181201T103500
DTEND;TZID=Asia/Tokyo:20181201T115000
DTSTAMP:20260426T013121
CREATED:20171017T140832Z
LAST-MODIFIED:20181115T135659Z
UID:1207-1543660500-1543665000@chihirosound.com
SUMMARY:Concert〔熊本県〕
DESCRIPTION:【Title】「第13回 合志市人権フェスティバル」特別講演会　ちひろ人権コンサート\n　　　　　みんなちがって、みんないい生き方を～金子みすゞの心とともに～\n●と　き：　12月1日（土）\n\n●ところ：　合志市総合センター”ヴィーブル”メインアリーナ（熊本県合志市福原2922）\n\n※会場の地図はこちら\n\n●時　間：　午前8：30／受付　9：00／開会行事　10：35／ちひろコンサート　など\n\n●対　象：　どなたでもOK\n\n●入場料：　無料\n\n●主　催：　合志市人権フェスティバル実行委員会、合志市、合志市教育委員会\n\n●お問合せ：　人権啓発教育課（電話／096-248-2399）\n\nPDFはこちら
URL:https://chihirosound.com/event/1207
LOCATION:ヴィーブル\, 熊本県合志市福原２９２２\, 合志市\, 熊本県\, 861-1116\, Japan
CATEGORIES:オススメ,コンサート
ATTACH;FMTTYPE=image/jpeg:https://chihirosound.com/wp-content/uploads/2017/10/0001-3.jpg
END:VEVENT
BEGIN:VEVENT
DTSTART;TZID=Asia/Tokyo:20181127T190000
DTEND;TZID=Asia/Tokyo:20181127T200000
DTSTAMP:20260426T013121
CREATED:20180828T093908Z
LAST-MODIFIED:20181012T055301Z
UID:3420-1543345200-1543348800@chihirosound.com
SUMMARY:Concert〔山口県〕
DESCRIPTION:【Title】「教育講演会」ちひろトーク&コンサート\n　　　　　みんなちがって、みんないい生き方を ～金子みすゞの心とともに～\n●と　き：　11月27日（火）\n\n●ところ：　室積コミュニティセンター（山口県光市室積一丁目6番1号）\n\n※会場の地図はこちら\n\n●時　間：　午後7：00～8：00\n\n●対　象：　地域の方、どなたでもOK\n\n●入場料：　無料\n\n●主　催：　青少年健全育成室積地区会議\n\n●お問合せ：　0833-78-0267\n\nPDFはこちら
URL:https://chihirosound.com/event/3420
LOCATION:室積コミュニティセンター\, 山口県光市室積一丁目6番1号\, 光市\, 山口県\, 743-0007\, Japan
CATEGORIES:オススメ,コンサート
ATTACH;FMTTYPE=image/jpeg:https://chihirosound.com/wp-content/uploads/2018/08/0001-1.jpg
END:VEVENT
BEGIN:VEVENT
DTSTART;TZID=Asia/Tokyo:20181117T133000
DTEND;TZID=Asia/Tokyo:20181117T150000
DTSTAMP:20260426T013121
CREATED:20170626T060554Z
LAST-MODIFIED:20181012T091459Z
UID:276-1542461400-1542466800@chihirosound.com
SUMMARY:Concert〔長野県〕
DESCRIPTION:【Title】「伊那市人権同和教育講座」ちひろトーク＆コンサート\n　　　　　みんなちがって、みんないい生き方を ～金子みすゞの心とともに～\n●と　き：　11月17日（土）\n\n●ところ：　伊那市生涯学習センター 6階 ニシザワいなっせホール（長野県伊那市荒井3500−1）\n\n※会場の地図はこちら\n\n●時　間：　13：00／開場　13：30～15：00／開演\n\n●対　象：　どなたでもOK（事前申込不要）\n\n●入場料：　無料（自由席・一部指定）\n\n●主　催：　伊那市教育委員会\n\n●お問合せ：　伊那市教育委員会生涯学習課（電話／0265-78-4111＜内線2721＞）\n\nPDFはこちら
URL:https://chihirosound.com/event/276
LOCATION:伊那市生涯学習センター\, 長野県伊那市荒井3500−1\, 伊那市\, 長野県\, 396-0025\, Japan
CATEGORIES:オススメ,コンサート
ATTACH;FMTTYPE=image/jpeg:https://chihirosound.com/wp-content/uploads/2017/06/00011.jpg
END:VEVENT
BEGIN:VEVENT
DTSTART;TZID=Asia/Tokyo:20181115T145000
DTEND;TZID=Asia/Tokyo:20181115T155000
DTSTAMP:20260426T013121
CREATED:20180824T083505Z
LAST-MODIFIED:20181009T125202Z
UID:3404-1542293400-1542297000@chihirosound.com
SUMMARY:Concert〔広島県〕
DESCRIPTION:【Title】「報恩講」ちひろトーク＆コンサート お念仏の心～金子みすゞのまなざし～\n●と　き：　11月15日（木）\n\n●ところ：　高林坊 本堂（広島県安芸高田市）\n\n●時　間：　午後2：50～3：50\n\n●対　象：　門信徒、関係者
URL:https://chihirosound.com/event/3404
LOCATION:大分県
CATEGORIES:コンサート
END:VEVENT
END:VCALENDAR