BEGIN:VCALENDAR
VERSION:2.0
PRODID:-//ちひろ Official Website ～金子みすゞの心を歌う～  CHIHIRO Official Website - MISUZU KANEKO- - ECPv6.15.11//NONSGML v1.0//EN
CALSCALE:GREGORIAN
METHOD:PUBLISH
X-WR-CALNAME:ちひろ Official Website ～金子みすゞの心を歌う～  CHIHIRO Official Website - MISUZU KANEKO-
X-ORIGINAL-URL:https://chihirosound.com
X-WR-CALDESC:ちひろ Official Website ～金子みすゞの心を歌う～  CHIHIRO Official Website - MISUZU KANEKO- のイベント
REFRESH-INTERVAL;VALUE=DURATION:PT1H
X-Robots-Tag:noindex
X-PUBLISHED-TTL:PT1H
BEGIN:VTIMEZONE
TZID:Asia/Tokyo
BEGIN:STANDARD
TZOFFSETFROM:+0900
TZOFFSETTO:+0900
TZNAME:JST
DTSTART:20170101T000000
END:STANDARD
END:VTIMEZONE
BEGIN:VEVENT
DTSTART;VALUE=DATE:20250924
DTEND;VALUE=DATE:20250925
DTSTAMP:20260423T073854
CREATED:20250916T170534Z
LAST-MODIFIED:20250916T170534Z
UID:23465-1758672000-1758758399@chihirosound.com
SUMMARY:NEWアルバム発売日
DESCRIPTION:【Title】NEWアルバム発売日\n日本コロムビアからメジャーリリース「Misuzu Songs -金子みすゞのうたがきこえる-」 \nと　き：　9月24日（水）
URL:https://chihirosound.com/event/23465
CATEGORIES:その他
END:VEVENT
BEGIN:VEVENT
DTSTART;TZID=Asia/Tokyo:20250922T100000
DTEND;TZID=Asia/Tokyo:20250922T103000
DTSTAMP:20260423T073854
CREATED:20250916T170229Z
LAST-MODIFIED:20250916T170229Z
UID:23463-1758535200-1758537000@chihirosound.com
SUMMARY:市長表敬訪問〔長門市〕
DESCRIPTION:【Title】長門市長表敬訪問\nと　き：　9月22日（月） \nところ：　長門市役所 \n時　間：　午前10：00～ \n内　容：　NEWアルバム「Misuzu Songs -金子みすゞのうたがきこえる-」完成報告　
URL:https://chihirosound.com/event/23463
CATEGORIES:その他
END:VEVENT
BEGIN:VEVENT
DTSTART;TZID=Asia/Tokyo:20250919T103000
DTEND;TZID=Asia/Tokyo:20250919T110000
DTSTAMP:20260423T073854
CREATED:20250916T170049Z
LAST-MODIFIED:20250916T170049Z
UID:23460-1758277800-1758279600@chihirosound.com
SUMMARY:市長表敬訪問〔山口市〕
DESCRIPTION:【Title】山口市長表敬訪問\nと　き：　9月19日（金） \nところ：　山口市役所 \n時　間：　午前10：30～ \n内　容：　NEWアルバム「Misuzu Songs -金子みすゞのうたがきこえる-」完成報告　
URL:https://chihirosound.com/event/23460
CATEGORIES:その他
END:VEVENT
BEGIN:VEVENT
DTSTART;TZID=Asia/Tokyo:20250715T103000
DTEND;TZID=Asia/Tokyo:20250715T121000
DTSTAMP:20260423T073854
CREATED:20250716T165749Z
LAST-MODIFIED:20250716T165749Z
UID:23119-1752575400-1752581400@chihirosound.com
SUMMARY:授業〔山口県〕
DESCRIPTION:【Title】「総合的な学習の時間」ちひろの授業\n●と　き：　7月15日（火） \n●ところ：　長門市立仙崎小学校（山口県長門市） \n●時　間：　10：30～ \n●対　象：　児童
URL:https://chihirosound.com/event/23119
CATEGORIES:その他
END:VEVENT
BEGIN:VEVENT
DTSTART;TZID=Asia/Tokyo:20240126T190000
DTEND;TZID=Asia/Tokyo:20240126T220000
DTSTAMP:20260423T073854
CREATED:20240128T031020Z
LAST-MODIFIED:20240128T031250Z
UID:18521-1706295600-1706306400@chihirosound.com
SUMMARY:音信川うたあかり2024
DESCRIPTION:【Title】「音信川うたあかり2024」　\n開催期間中、ちひろの朗読「私と小鳥と鈴と」が会場に流れます ☆彡\n（朗読が会場で繰り返し流れています） \n  \n童謡詩人「金子みすゞ」の詩をテーマにした灯りイベント「音信川うたあかり」 \n  \n●と　き：　1月26日（金）～3月3日（日）　 \n●ところ：　長門湯本温泉 温信川沿い（山口県長門市深川湯本2265） \n※会場の地図はこちら \n●時　間：　日没 ～ 22：00迄 \n●入場料：　無し \n  \n●主　催：　長門湯本温泉まち株式会社 \n●共　催：　長門市、長門湯本オソト活用協議会 \n●後　援：　公益財団法人長門市文化振興財団、一般社団法人長門市観光コンベンション協会 \n●協　力：　観光庁、LEM空間工房 \n音信川うたあかり2024 特設ページ
URL:https://chihirosound.com/event/18521
LOCATION:長門湯本温泉 温信川沿い\, 山口県長門市深川湯本2265\, 長門市\, 山口県\, 日本
CATEGORIES:オススメ,その他
ATTACH;FMTTYPE=image/jpeg:https://chihirosound.com/wp-content/uploads/2024/01/utaakari2024webflyer_page-0001-scaled.jpg
END:VEVENT
BEGIN:VEVENT
DTSTART;TZID=Asia/Tokyo:20230205T140000
DTEND;TZID=Asia/Tokyo:20230205T150000
DTSTAMP:20260423T073854
CREATED:20230113T015300Z
LAST-MODIFIED:20230113T065243Z
UID:15360-1675605600-1675609200@chihirosound.com
SUMMARY:NHKラジオ 公開収録
DESCRIPTION:【Title】公開収録・NHK「中国！ちゅーもく！ラジオYAMAGUTIC」\n（観覧者希望　要事前申込・締切2023年1月24日（火）23時59分）\n  \n●と　き：　2月5日（日） \n●時　間：　開場／午後1：00　　開演／午後2：00　　終演予定／午後3：00 \n●会　場：　長門市立仙崎小学校　2階 音楽室（山口県長門市仙崎新屋敷1230） \n※会場の地図はこちら \n  \n●出　演：　ちひろ（シンガーソングライター）、矢崎節夫（金子みすゞ記念館館長・研究者）、長野　亮アナウンサー（NHK山口放送局） \n●観覧申込：　入場は無料ですが、事前のお申し込みが必要です。 \nこちらのページから \n  \n●放送予定：　2023年2月10日（金）　午後5時05分～午後5時55分　＜ラジオ第1・全国放送＞ \n●番　組：　ラジオYAMAGUTIC \n  \n●お問合せ：　NHK山口放送局　電話／083-921-3737（土日祝除く　午前10時～午後6時）、ホームページ　https://nhk.jp/yamaguchi/ \n●主　催：　NHK山口放送局　 \n 
URL:https://chihirosound.com/event/15360
LOCATION:長門市立仙崎小学校\, 山口県長門市仙崎新屋敷町１２３７\, 長門市\, 山口県\, 7594106\, 日本
CATEGORIES:オススメ,その他
ATTACH;FMTTYPE=image/jpeg:https://chihirosound.com/wp-content/uploads/2023/01/S__37773318.jpg
ORGANIZER;CN="NHK%E5%B1%B1%E5%8F%A3%E6%94%BE%E9%80%81%E5%B1%80":MAILTO:https://www.nhk.or.jp/yamaguchi/contact/form.html
END:VEVENT
BEGIN:VEVENT
DTSTART;TZID=Asia/Tokyo:20230119T180000
DTEND;TZID=Asia/Tokyo:20230119T220000
DTSTAMP:20260423T073854
CREATED:20230116T143546Z
LAST-MODIFIED:20230116T144714Z
UID:15430-1674151200-1674165600@chihirosound.com
SUMMARY:音信川うたあかり2023
DESCRIPTION:【Title】「音信川うたあかり2023」　\n開催期間中、ちひろの朗読「私と小鳥と鈴と」が会場に流れます ☆彡\n（朗読が会場で繰り返し流れています） \n  \n童謡詩人「金子みすゞ」の詩をテーマにした灯りイベント「音信川うたあかり」 \n  \n●と　き：　1月19日（木）～2月19日（日）　 \n●ところ：　長門湯本温泉 温信川沿い（山口県長門市深川湯本2265） \n※会場の地図はこちら \n●時　間：　日没 ～ 22：00迄 \n●入場料：　無し \n  \n●主　催：　長門湯本温泉まち株式会社 \n●共　催：　長門市、長門湯本オソト活用協議会 \n●後　援：　公益財団法人長門市文化振興財団、一般社団法人長門市観光コンベンション協会 \n●協　力：　観光庁、LEM空間工房 \n音信川うたあかり2023 特設ページ \n  \nPDFはこちら \n \n  \n \n  \n \n 
URL:https://chihirosound.com/event/15430
LOCATION:長門湯本温泉 温信川沿い\, 山口県長門市深川湯本2265\, 長門市\, 山口県\, 日本
CATEGORIES:オススメ,その他
ATTACH;FMTTYPE=image/jpeg:https://chihirosound.com/wp-content/uploads/2022/02/utaakari2023_web_flyer_s_page-0001.jpg
END:VEVENT
BEGIN:VEVENT
DTSTART;TZID=Asia/Tokyo:20220825T193000
DTEND;TZID=Asia/Tokyo:20220825T200000
DTSTAMP:20260423T073854
CREATED:20220825T060441Z
LAST-MODIFIED:20220825T061822Z
UID:14068-1661455800-1661457600@chihirosound.com
SUMMARY:インスタライブ配信
DESCRIPTION:インスタライブ配信\n日にち：　8月25日（木） \n時　間：　19：30頃～ \n概　要：　 \nテレビドラマ『元木食堂』のインスタライブで、俳優の元木 行哉さんとドラマに出演した「ちひろ」のコラボ配信があります！ \n今月放送の番組裏話などをお話しするとともに、ライブ配信視聴者からのコメントにもお答えする予定です♪ \nぜひコメントお待ちしています。どなたでもご覧いただけます☆彡 \n\n視聴方法：　元木食堂のインスタグラムアカウント　または　ちひろのアカウント　をフォローして「ストーリーズ」のところをタップでご覧いただけます☆彡 \n  \n \n 
URL:https://chihirosound.com/event/14068
CATEGORIES:オススメ,その他
ATTACH;FMTTYPE=image/jpeg:https://chihirosound.com/wp-content/uploads/2022/08/S__21962755.jpg
END:VEVENT
BEGIN:VEVENT
DTSTART;TZID=Asia/Tokyo:20220305T183000
DTEND;TZID=Asia/Tokyo:20220305T220000
DTSTAMP:20260423T073854
CREATED:20220225T092448Z
LAST-MODIFIED:20220225T093154Z
UID:12521-1646505000-1646517600@chihirosound.com
SUMMARY:音信川うたあかり2022
DESCRIPTION:【Title】「音信川うたあかり2022」　\n開催期間中、ちひろの朗読「私と小鳥と鈴と」が会場に流れます ☆彡\n（朗読が会場で繰り返し流れています）\n  \n童謡詩人「金子みすゞ」さんの詩をテーマにした灯りイベント「音信川うたあかり」 \n  \n●と　き：　3月5日（土）～4月7日（木）　 \n●ところ：　長門湯本温泉 温信川沿い（山口県長門市深川湯本2265） \n※会場の地図はこちら \n●時　間：　日没 ～ 夜10：00迄 \n●入場料：　無し \n  \n●主　催：　長門湯本温泉まち株式会社 \n●共　催：　長門市、長門湯本オソト活用協議会 \n●協　力：　観光庁、LEM空間工房 \nイベントホームページはこちら \n  \nPDFはこちら \n \n \n \n 
URL:https://chihirosound.com/event/12521
LOCATION:長門湯本温泉\, 山口県長門市深川湯本２２６５\, 長門市\, 山口県\, 759-4103\, 日本
CATEGORIES:オススメ,その他
ATTACH;FMTTYPE=image/jpeg:https://chihirosound.com/wp-content/uploads/2022/02/2022utaakari-flyer-new_period_page-0001.jpg
END:VEVENT
BEGIN:VEVENT
DTSTART;TZID=Asia/Tokyo:20201031T140000
DTEND;TZID=Asia/Tokyo:20201031T151000
DTSTAMP:20260423T073854
CREATED:20200919T110108Z
LAST-MODIFIED:20200920T065147Z
UID:8512-1604152800-1604157000@chihirosound.com
SUMMARY:リモート講演〔岐阜県〕
DESCRIPTION:【Title】ちひろリモート講演会\n●と　き：　10月31日（土） \n●時　間：　午後2：00～ \n●対　象：　関係者のみ \n●主　催：　幼保連携型認定こども園 まさきこども園＜岐阜県羽島市＞
URL:https://chihirosound.com/event/8512
CATEGORIES:その他,講演
END:VEVENT
BEGIN:VEVENT
DTSTART;TZID=Asia/Tokyo:20201022T180000
DTEND;TZID=Asia/Tokyo:20201022T200000
DTSTAMP:20260423T073854
CREATED:20200629T020030Z
LAST-MODIFIED:20200925T063946Z
UID:8189-1603389600-1603396800@chihirosound.com
SUMMARY:講座〔山口県〕
DESCRIPTION:締切を過ぎても募集人員に達するまで引き続き募集をいたします♪\n  \n【Title】「リラクゼーション講座」\n音でからだとこころを癒す ～音楽で体感！金子みすゞの心～\n●と　き：　10月22日（木） \n●ところ：　山口市働く婦人の家 カリエンテ山口・（一財）山口県婦人教育文化会館（山口市湯田温泉5丁目1-1） \n※会場の地図はこちら \n●時　間：　午後6：00～8：00 \n●受講料：　3\,850円（※講座1回のみの参加は1\,000円（税別）で受講できます。 ） \n●教材費：　2\,000円程度 \n＜※1講座のみの受講も可能ですので、お問合せ下さいませ＞ \n●詳細ページ：　こちら \n●募集人数：　20 人＜締切＞ \n●応募方法： \n往復はがきに住所･氏名･年齢･電話番号･職業の有無・講座名を\n記入の上、下記までお申し込み下さい。\nまたは受付にてお申し込み下さい、（1講座のみの受講もできます。）　　　　　　　　　　　　　　　　　　　　　　　　　 \n山口市働く婦人の家・（一財）山口県婦人教育文化会館 \n〒753-0056　山口市湯田温泉5丁目1-1 \n　　　　　 　 　　　　　\n（TEL） 083-921-1929／083-922-2792　（FAX）083-932-6417 \n●主　催：　山口市働く婦人の家 \nPDFはこちら
URL:https://chihirosound.com/event/8189
LOCATION:山口市 働く婦人の家\, 山口県山口市湯田温泉５丁目１−１\, 山口市\, 山口県\, 753-0056\, Japan
CATEGORIES:オススメ,その他,講演
ATTACH;FMTTYPE=image/jpeg:https://chihirosound.com/wp-content/uploads/2020/06/cad642aad414470c2d8c39fb3e48099d.jpg
END:VEVENT
BEGIN:VEVENT
DTSTART;TZID=Asia/Tokyo:20200316T100000
DTEND;TZID=Asia/Tokyo:20200316T101000
DTSTAMP:20260423T073854
CREATED:20200204T132703Z
LAST-MODIFIED:20200407T160031Z
UID:6809-1584352800-1584353400@chihirosound.com
SUMMARY:【中止】Stage〔山口県〕
DESCRIPTION:【ちひろステージ中止のお知らせ】\n\n新型コロナウィルス感染拡大防止の影響があり「ちひろステージ」は、中止となりました。 \n何卒ご理解の程よろしくお願い申し上げます。 \n【Title】 「野田学園幼稚園 卒園式」ちひろ出演\n●と　き：　3月16日（月） \n●ところ：　野田学園幼稚園（山口県山口市） \n●時　間：　午前10：00～ \n●対　象：　関係者のみ
URL:https://chihirosound.com/event/6809
CATEGORIES:その他
END:VEVENT
BEGIN:VEVENT
DTSTART;TZID=Asia/Tokyo:20200307T190000
DTEND;TZID=Asia/Tokyo:20200307T192000
DTSTAMP:20260423T073854
CREATED:20200226T022427Z
LAST-MODIFIED:20200407T160011Z
UID:7060-1583607600-1583608800@chihirosound.com
SUMMARY:【中止】Stage〔山口県〕
DESCRIPTION:【交流会中止のお知らせ】\n\n新型コロナウィルス感染拡大防止の影響があり交流会は中止となりました。 \n楽しみにして下さっておりました皆様には大変申し訳なく存じますが、何卒ご理解の程よろしくお願い申し上げます。 \n【Title】「第23回みすゞコスモス 交流会」ちひろステージ\n●と　き：　3月7日（土） \n●ところ：　大谷山荘（山口県長門市） \n●時　間：　午後7：00～ \n●対　象：　関係者のみ
URL:https://chihirosound.com/event/7060
CATEGORIES:other,コンサート,その他
END:VEVENT
BEGIN:VEVENT
DTSTART;TZID=Asia/Tokyo:20191116T203000
DTEND;TZID=Asia/Tokyo:20191116T205000
DTSTAMP:20260423T073854
CREATED:20190704T143610Z
LAST-MODIFIED:20191026T013303Z
UID:5617-1573936200-1573937400@chihirosound.com
SUMMARY:出演〔山口県〕
DESCRIPTION:【Title】ちひろ出演\n\n●と　き：　11月16日（土）\n\n●ところ：　山口県防府市\n\n●時　間：　午後8：30～\n\n●対　象：　関係者のみ
URL:https://chihirosound.com/event/5617
CATEGORIES:コンサート,その他
END:VEVENT
BEGIN:VEVENT
DTSTART;TZID=Asia/Tokyo:20190315T100000
DTEND;TZID=Asia/Tokyo:20190315T102000
DTSTAMP:20260423T073854
CREATED:20190109T161334Z
LAST-MODIFIED:20190109T161334Z
UID:4387-1552644000-1552645200@chihirosound.com
SUMMARY:Stage〔山口県〕
DESCRIPTION:【Title】 「野田学園幼稚園 卒園式」ちひろ出演\n●と　き：　3月15日（金）\n\n●ところ：　野田学園幼稚園（山口県山口市）\n\n●時　間：　午前10：00～\n\n●対　象：　関係者のみ
URL:https://chihirosound.com/event/4387
CATEGORIES:other,コンサート,その他
END:VEVENT
BEGIN:VEVENT
DTSTART;TZID=Asia/Tokyo:20190309T190000
DTEND;TZID=Asia/Tokyo:20190309T193000
DTSTAMP:20260423T073854
CREATED:20190109T161105Z
LAST-MODIFIED:20190109T161105Z
UID:4385-1552158000-1552159800@chihirosound.com
SUMMARY:Stage〔山口県〕
DESCRIPTION:【Title】「第22回みすゞコスモス 交流会」ちひろステージ\n●と　き：　3月9日（土）\n\n●ところ：　大谷山荘（山口県長門市）\n\n●時　間：　午後7：00～\n\n●対　象：　関係者のみ
URL:https://chihirosound.com/event/4385
CATEGORIES:other,コンサート,その他
END:VEVENT
BEGIN:VEVENT
DTSTART;TZID=Asia/Tokyo:20180618T170000
DTEND;TZID=Asia/Tokyo:20180618T210000
DTSTAMP:20260423T073854
CREATED:20180606T123011Z
LAST-MODIFIED:20180606T123333Z
UID:2847-1529341200-1529355600@chihirosound.com
SUMMARY:Guest〔東京都北区〕
DESCRIPTION:【Title】山口七夕会・東京圏ネットワーク構築事業『花博サポーター』結団式\n　　　　『山口ゆめ花博』を応援しよう！ ちひろ特別ゲスト出演\n●と　き：　6月18日（月）\n\n●ところ：　Musicante AMANE ミュージカンテ アマネ（東京都北区上十条3-3-16＜JR埼京線十条駅から徒歩5分＞）\n\n※会場の地図はこちら\n\n●時　間：　17：00～21：00\n\n●対　象：　山口市にゆかりのある方、無い方、山口に行ってみたい方！！ どなたでもお申込みいただけます！\n●参加費： \n○第1部   ：　17：00～19：00／3\,000円\n○第2部   ：　19：00～21：00／3\,000円\n○Long部：　17：00～21：00／4\,000円\nカラオケ歌い放題・飲み放題・乾き物おつまみ＋アルファ \n●お問合せ・お申込み：　山口七夕会幹事長/山縣 さんまで♪\n\n＜携帯/090-9954-7746　E-mail : yamagata1954@utopia.ocn.ne.jp＞\nPDFはこちら
URL:https://chihirosound.com/event/2847
LOCATION:ミュージックカンテアマネ\, 東京都北区上十条3-3-16\, 北区\, 東京都\, 114-0034\, Japan
CATEGORIES:other,オススメ,その他
ATTACH;FMTTYPE=image/jpeg:https://chihirosound.com/wp-content/uploads/2018/06/0001-2.jpg
END:VEVENT
END:VCALENDAR